From mboxrd@z Thu Jan 1 00:00:00 1970 Return-Path: Received: from mails.dpdk.org (mails.dpdk.org [217.70.189.124]) by inbox.dpdk.org (Postfix) with ESMTP id F0618466A8 for ; Sat, 3 May 2025 09:55:27 +0200 (CEST) Received: from mails.dpdk.org (localhost [127.0.0.1]) by mails.dpdk.org (Postfix) with ESMTP id C7D9340261; Sat, 3 May 2025 09:55:27 +0200 (CEST) Received: from mail-qv1-f100.google.com (mail-qv1-f100.google.com [209.85.219.100]) by mails.dpdk.org (Postfix) with ESMTP id 5251A4025D for ; Sat, 3 May 2025 09:55:26 +0200 (CEST) Received: by mail-qv1-f100.google.com with SMTP id 6a1803df08f44-6f0ad74483fso35551776d6.1 for ; Sat, 03 May 2025 00:55:26 -0700 (PDT) DKIM-Signature: v=1; a=rsa-sha256; c=relaxed/relaxed; d=iol.unh.edu; s=unh-iol; t=1746258925; x=1746863725; darn=dpdk.org; h=cc:to:from:subject:message-id:date:from:to:cc:subject:date :message-id:reply-to; bh=pGN23Aq8ZN/Sh5Xt92Ojc0fNvZBQ6v7+AHVi3l/86qM=; b=OYydAqFLwxUyWbXUO3DXkaGHqmxjIrJVaHKov71QDWVOmhjRooQkNUcqAy02K1gIMP +gQMURmggqvXY7cSB3J3RauX6KBtASntje4GDOf8o+NbSNGfg4XXTNh86I5lR0Riq1e3 O1VA6BO5ODuDsLuqZF+EQ80xuMOSRukbFqqDs= X-Google-DKIM-Signature: v=1; a=rsa-sha256; c=relaxed/relaxed; d=1e100.net; s=20230601; t=1746258925; x=1746863725; h=cc:to:from:subject:message-id:date:x-gm-message-state:from:to:cc :subject:date:message-id:reply-to; bh=pGN23Aq8ZN/Sh5Xt92Ojc0fNvZBQ6v7+AHVi3l/86qM=; b=A18YRCtFYOXc1bs0v111wx1Twks6e6dnydBgGjcSJHwaSz7HvkrFUcrzha+TicPLtk noTM8InVpG5rmQ8pitpk5EMTQzCXOcrJYaEE8R++g3TNBddrHA/qUcrnCFi/WA9/27hc xOFoiN7dcbZ2BEYiHJwczSz6yPY5Utcrn/3rzDCj3z2zYH/n3Ehk30g1CnCZxEmaO334 nkuk6AySSETIBEd0o/GSQcz6k0V1/YjyO8ROZClfuCY/ZRztQ5fPCO6HIWbYzt+4MdL8 mv9alxVcpbp5hZxTCiT9VZNbvECoH0vlpvfohvf3Envn/ULC+j89cDVOkDCY0UTQTHJw TmyA== X-Gm-Message-State: AOJu0YxnZj2CsmwZvXAlg94FbwM7rg1l+oTtL9zPAj5S2/XOnNLCRAe9 ttBPq3w2z0E45TMrJRtJLa4G6lY7ETJzw8hwiL0nLOjpmgXMD5O/fCHYZ00tUCMufZB8kcOHmYm b5zJji33VQ3xsjDKNvEBf/Y8zCX2VOmeM X-Gm-Gg: ASbGnctJH+6r4dcG20Lks2Lg9hwxnl/zmdRafUgvXQPN9xERYV7IgES4JnLPXbtME8H sSdThVM3Ai0ZPglPIyZLslETaCu2/pZbPyFAv/XwWvIMV7vXpsjdoUnyUaWyRy7mXvzmgzRvDdP E9M+Sk8SLG5xYCXclSnveszWhphAbuOtUuG1z1SkEzSiHkHHHyxIg4hMCoRoQdMScGsPQGaVwio HT5BTIy/j+8p4jfcTDY4W2LZKOh8CBFEsp0ATp4G3AjHQurp1vrhVt6wwKgBCLOd7uTTFcRYq2o G3gYQ+9AtsRsXz/JPh+NQ2uCF7aS+Dul0tDLo7dWxYdFuMP7NyhTa/6rWns= X-Google-Smtp-Source: AGHT+IFZgt9i5YkFB46rAt4Txi724qFmL1+7FTnTxumsvXAb7dUsVLN9xuF/3jz70nGHmlOWIjPbLJ6c1tfg X-Received: by 2002:a05:622a:4c14:b0:476:80ce:a61f with SMTP id d75a77b69052e-48d5d6e93f3mr34195491cf.39.1746258925606; Sat, 03 May 2025 00:55:25 -0700 (PDT) Received: from postal.iol.unh.edu (postal.iol.unh.edu. [132.177.123.84]) by smtp-relay.gmail.com with ESMTPS id 6a1803df08f44-6f50f3ad8e3sm9343026d6.1.2025.05.03.00.55.25 (version=TLS1_2 cipher=ECDHE-ECDSA-AES128-GCM-SHA256 bits=128/128); Sat, 03 May 2025 00:55:25 -0700 (PDT) X-Relaying-Domain: iol.unh.edu Date: Sat, 03 May 2025 00:55:25 -0700 (PDT) Message-ID: <6815cbed.d40a0220.347cf0.ad0eSMTPIN_ADDED_MISSING@mx.google.com> Received: from [172.17.0.4] (unknown [172.18.0.74]) by postal.iol.unh.edu (Postfix) with ESMTP id 4D62D6052471; Sat, 3 May 2025 03:55:25 -0400 (EDT) Subject: |SUCCESS| [GIT MASTER] 83a7a648344674c0269fcaeb71d8d16468421a0e From: dpdklab@iol.unh.edu To: Test Report Cc: dpdk-test-reports@iol.unh.edu, Xueming Li , Christian Ehrhardt , Kevin Traynor , Luca Boccassi Content-Type: text/plain X-BeenThere: test-report@dpdk.org X-Mailman-Version: 2.1.29 Precedence: list List-Id: automatic DPDK test reports List-Unsubscribe: , List-Archive: List-Post: List-Help: List-Subscribe: , Errors-To: test-report-bounces@dpdk.org _Testing PASS_ Branch: tags/v23.11 83a7a648344674c0269fcaeb71d8d16468421a0e --> testing pass Upstream job id: ACVP-FIPS-testing#9695 Test environment and result as below: +--------------------+----------------------+----------------------+ | Environment | compressdev_zlib_pmd | dpdk_fips_validation | +====================+======================+======================+ | Ubuntu 22.04 (ARM) | PASS | SKIPPED | +--------------------+----------------------+----------------------+ | Ubuntu 22.04 | PASS | SKIPPED | +--------------------+----------------------+----------------------+ | Ubuntu 20.04 | SKIPPED | PASS | +--------------------+----------------------+----------------------+ Ubuntu 22.04 (ARM) Kernel: 5.15.0-97-generic Compiler: gcc gcc (Ubuntu 11.4.0-1ubuntu1~22.04) 11.4.0 Ubuntu 22.04 Kernel: 5.15.0-100-generic Compiler: gcc gcc (Ubuntu 11.4.0-1ubuntu1~22.04) 11.4.0 Ubuntu 20.04 Kernel: Depends on container host Compiler: gcc (Ubuntu 9.4.0-1ubuntu1~20.04.2) 9.4.0 To view detailed results, visit: https://lab.dpdk.org/results/dashboard/tarballs/33415/ UNH-IOL DPDK Community Lab To manage your email subscriptions, visit: https://lab.dpdk.org/results/dashboard/preferences/subscriptions/