From mboxrd@z Thu Jan 1 00:00:00 1970 Return-Path: Received: from mails.dpdk.org (mails.dpdk.org [217.70.189.124]) by inbox.dpdk.org (Postfix) with ESMTP id 774E4466AA for ; Sat, 3 May 2025 10:02:11 +0200 (CEST) Received: from mails.dpdk.org (localhost [127.0.0.1]) by mails.dpdk.org (Postfix) with ESMTP id 5FA0C40261; Sat, 3 May 2025 10:02:11 +0200 (CEST) Received: from mail-pl1-f228.google.com (mail-pl1-f228.google.com [209.85.214.228]) by mails.dpdk.org (Postfix) with ESMTP id 619714025D for ; Sat, 3 May 2025 10:02:09 +0200 (CEST) Received: by mail-pl1-f228.google.com with SMTP id d9443c01a7336-22438c356c8so28788045ad.1 for ; Sat, 03 May 2025 01:02:09 -0700 (PDT) DKIM-Signature: v=1; a=rsa-sha256; c=relaxed/relaxed; d=iol.unh.edu; s=unh-iol; t=1746259328; x=1746864128; darn=dpdk.org; h=cc:to:from:subject:message-id:date:from:to:cc:subject:date :message-id:reply-to; bh=573BQiE6agCw9+jZqp0tGt2ZXqwCQzJ2VDAKwPgKFIk=; b=BM2htxBgdGHSUJ4boLvBZ1RYyLELLQt7Q1r2y6FF2S5gz7d0EKXDmO63Nn84Cctzpj GTompCR9UjxBzvskTBrlyrgTHcyNtMcpx41qcV8qgSktgPF9570sqUlXQh6v7abyc47n ClwqCuVLqBUbdBVb2uOvBXhxU7NVvFkEyi7/A= X-Google-DKIM-Signature: v=1; a=rsa-sha256; c=relaxed/relaxed; d=1e100.net; s=20230601; t=1746259328; x=1746864128; h=cc:to:from:subject:message-id:date:x-gm-message-state:from:to:cc :subject:date:message-id:reply-to; bh=573BQiE6agCw9+jZqp0tGt2ZXqwCQzJ2VDAKwPgKFIk=; b=uY7HYN9kYPIdywSeOujgkzkzQG0QWMQ9kZkAF4U+WHDK/DfhFhMpYmhozkOmVK/pd8 dxR6k6+OTMcPsSiPzBKqV5dZ+5FcmHRwkb4myzGrc0gl3lPJJJ+UOuNnpcy0HKdXUdbZ VtqJe41K9Z2Msi/UlRrJyGOBM4PAjmlhqWiL6EZKNcmeVGffRBfRM6yNGs9oJuGUCSUY Uzo3MKaH/GjXP4BcTJ5HNBUuW6XME1JyqIMmoin0989Gba2pAw5BWPdJ/dp31audSqTR fzysNMWBr+gGTJzFMICKe5p7AZ570L9rrGSTAfIqUJql4H0L1+JseOrV3ya0icnhBrEF vp8Q== X-Gm-Message-State: AOJu0Yz7296Q3ZJzQS2aw5IR/G9sTwVxPa5ZlxNqaSMlxNSZZK3klr0L TH+OHInbbaPHNoOubWWN4VZUnYH5WM+uz9FFwrMLfu2ra64XNPmzZhtMErE7McYzUK8m8dISZ6V tlqzZ9rYxbg9tPiTCIOjre4OUuoo9wm06 X-Gm-Gg: ASbGncuQd2WYZKfcoMkKU4T1OVU3akutbXz84wmWxftsJzSy/WV0bgrnNLlNVOGPTQo PIQd2s/1YLvXrdiX3U7+nOjhv0mKvenE86IrFDQSNd64IdarfYNd6iTQcmUg+VVYIUjJXhrVFHO 4T8djGTC8fSUxr6QJHe3dunTtdH2p48Q3ZCgY+EWoKPonxO7fgyDHY7jrJpdvkl3daf5nxX8dxM Rv01+NQmGQr23P6QVlY8vcGK67R8NmYmDfwHbyeS906ojTr7Jr8lzE6IxwzUbmiYaX5gJxf1xhR e3e737Z/i9KTbK52cpEZBXufZkC/sVgcvItef/SvOfioWTOsFoRE28aCmxE= X-Google-Smtp-Source: AGHT+IGkpqShPoFzx2ahDWEiMmAaybEDYNNP6asH4edVCpC/9Y/JrT1qnvm9cebvV3/bEbhZ93FLg0V8FLch X-Received: by 2002:a17:903:1d2:b0:220:fb23:48df with SMTP id d9443c01a7336-22e1ea61804mr2431545ad.36.1746259328218; Sat, 03 May 2025 01:02:08 -0700 (PDT) Received: from postal.iol.unh.edu (postal.iol.unh.edu. [132.177.123.84]) by smtp-relay.gmail.com with ESMTPS id d2e1a72fcca58-74059022234sm647742b3a.18.2025.05.03.01.02.08 (version=TLS1_2 cipher=ECDHE-ECDSA-AES128-GCM-SHA256 bits=128/128); Sat, 03 May 2025 01:02:08 -0700 (PDT) X-Relaying-Domain: iol.unh.edu Date: Sat, 03 May 2025 01:02:08 -0700 (PDT) Message-ID: <6815cd80.050a0220.2488bd.8a8cSMTPIN_ADDED_MISSING@mx.google.com> Received: from [172.17.0.4] (unknown [172.18.0.74]) by postal.iol.unh.edu (Postfix) with ESMTP id 5B0006052471; Sat, 3 May 2025 04:02:07 -0400 (EDT) Subject: |SUCCESS| [GIT MASTER] 4c5634de9f933555bab9c64a533d3dca999071cd From: dpdklab@iol.unh.edu To: Test Report Cc: dpdk-test-reports@iol.unh.edu, Xueming Li , Christian Ehrhardt , Kevin Traynor , Luca Boccassi Content-Type: text/plain X-BeenThere: test-report@dpdk.org X-Mailman-Version: 2.1.29 Precedence: list List-Id: automatic DPDK test reports List-Unsubscribe: , List-Archive: List-Post: List-Help: List-Subscribe: , Errors-To: test-report-bounces@dpdk.org _Testing PASS_ Branch: tags/v24.11 4c5634de9f933555bab9c64a533d3dca999071cd --> testing pass Upstream job id: Generic-DPDK-Compile-Meson#384551 Test environment and result as below: +------------------------------------+--------------------+ | Environment | dpdk_meson_compile | +====================================+====================+ | Ubuntu 20.04 ARM GCC Cross Compile | PASS | +------------------------------------+--------------------+ | Debian 12 with MUSDK | PASS | +------------------------------------+--------------------+ | RHEL9 (ARM) | PASS | +------------------------------------+--------------------+ | Ubuntu 20.04 ARM SVE | PASS | +------------------------------------+--------------------+ | Fedora 40 (ARM) | PASS | +------------------------------------+--------------------+ | Fedora 40 (ARM Clang) | PASS | +------------------------------------+--------------------+ | Fedora 41 (ARM) | PASS | +------------------------------------+--------------------+ | Fedora 41 (ARM Clang) | PASS | +------------------------------------+--------------------+ | Ubuntu 20.04 (ARM) | PASS | +------------------------------------+--------------------+ | Ubuntu 22.04 (ARM) | PASS | +------------------------------------+--------------------+ | Ubuntu 24.04 (ARM) | PASS | +------------------------------------+--------------------+ | Debian 12 (arm) | PASS | +------------------------------------+--------------------+ | CentOS Stream 9 (ARM) | PASS | +------------------------------------+--------------------+ | CentOS Stream 10 (ARM) | PASS | +------------------------------------+--------------------+ Ubuntu 20.04 ARM GCC Cross Compile Kernel: Depends on container host Compiler: aarch64-linux-gnu-gcc (Ubuntu 9.4.0-1ubuntu1~20.04.2) 9.4.0 Debian 12 with MUSDK Kernel: Depends on container host Compiler: gcc (Debian 12.2.0-14) 12.2.0 RHEL9 (ARM) Kernel: Depends on container host Compiler: gcc 11.5.0 20240719 (Red Hat 11.5.0-2) Ubuntu 20.04 ARM SVE Kernel: Depends on container host Compiler: gcc (Ubuntu 10.5.0-1ubuntu1~20.04) 10.5.0 Fedora 40 (ARM) Kernel: Depends on container host Compiler: gcc 14.2.1 20240912 (Red Hat 14.2.1-3) Fedora 40 (ARM Clang) Kernel: Depends on container host Compiler: clang 18.1.8 (Fedora 18.1.8-1.fc40) Fedora 41 (ARM) Kernel: Depends on container host Compiler: gcc 14.2.1 20240912 (Red Hat 14.2.1-3) Fedora 41 (ARM Clang) Kernel: Depends on container host Compiler: clang 19.1.5 (Fedora 19.1.5-1.fc41) Ubuntu 20.04 (ARM) Kernel: Depends on container host Compiler: gcc (Ubuntu 9.4.0-1ubuntu1~20.04.2) 9.4.0 Ubuntu 22.04 (ARM) Kernel: Depends on container host Compiler: gcc (Ubuntu 11.4.0-1ubuntu1~22.04) 11.4.0 Ubuntu 24.04 (ARM) Kernel: Depends on container host Compiler: gcc (Ubuntu 13.3.0-6ubuntu2~24.04) 13.3.0 Debian 12 (arm) Kernel: Depends on container host Compiler: gcc (Debian 12.2.0-14) 12.2.0 CentOS Stream 9 (ARM) Kernel: Depends on container host Compiler: gcc 11.5.0 20240719 (Red Hat 11.5.0-2) CentOS Stream 10 (ARM) Kernel: Depends on container host Compiler: gcc 14.2.1 20241104 (Red Hat 14.2.1-6) To view detailed results, visit: https://lab.dpdk.org/results/dashboard/tarballs/33414/ UNH-IOL DPDK Community Lab To manage your email subscriptions, visit: https://lab.dpdk.org/results/dashboard/preferences/subscriptions/