From mboxrd@z Thu Jan 1 00:00:00 1970 Return-Path: Received: from mails.dpdk.org (mails.dpdk.org [217.70.189.124]) by inbox.dpdk.org (Postfix) with ESMTP id 8C02A466AA for ; Sat, 3 May 2025 10:03:38 +0200 (CEST) Received: from mails.dpdk.org (localhost [127.0.0.1]) by mails.dpdk.org (Postfix) with ESMTP id 8710340261; Sat, 3 May 2025 10:03:38 +0200 (CEST) Received: from mail-pj1-f100.google.com (mail-pj1-f100.google.com [209.85.216.100]) by mails.dpdk.org (Postfix) with ESMTP id 6F11F4025D for ; Sat, 3 May 2025 10:03:36 +0200 (CEST) Received: by mail-pj1-f100.google.com with SMTP id 98e67ed59e1d1-30a5094df42so1892878a91.0 for ; Sat, 03 May 2025 01:03:36 -0700 (PDT) DKIM-Signature: v=1; a=rsa-sha256; c=relaxed/relaxed; d=iol.unh.edu; s=unh-iol; t=1746259415; x=1746864215; darn=dpdk.org; h=cc:to:from:subject:message-id:date:from:to:cc:subject:date :message-id:reply-to; bh=5BWQilHQCeWgnrQnAYq50CokKQL/108igkbN7dtMTHE=; b=DCziildYl07nlmZB9kaOy/yfqPLaEKnVPLgNXQfSra1voczbO/VR8+V3HyKlrIVhin yXB0AqY9Ecjkyw8FO5CHZRaVZ3F+mui7DMZfQZI7K06QN/mF9YbJSwvnQ5kFcZMXUM0q 8R1VdB2zzfgLwvqh81T26K5z17fwUJPzotoM0= X-Google-DKIM-Signature: v=1; a=rsa-sha256; c=relaxed/relaxed; d=1e100.net; s=20230601; t=1746259415; x=1746864215; h=cc:to:from:subject:message-id:date:x-gm-message-state:from:to:cc :subject:date:message-id:reply-to; bh=5BWQilHQCeWgnrQnAYq50CokKQL/108igkbN7dtMTHE=; b=AdxS1F/sskqGq/1XDmfuyfV7B3/2UlZ7dyQm8PTwEPHDlDBdVeAB3/VHkP6DQIHkJl 9rJCRhVlbJrUTTw1xTyhyycU099+v+84K7BAqaXSvx059D/ltj0t6RcqqCanSPGzvMQl SWXV6FPndmlt1MBxGJfoY1bQey0uQZY67DANYH8s6Vi0jLQDc+FeTufmRxapHmcsWU8C demDJo+PwXoy8kH5uESOU8fx6PmjkMzJBQ6G1gsBxGu8NR4wgBZqgGiOF2WU6pNHUuU+ 2LKInM54jAfnisWpeRdG74J8j5YDXy/fsY+1XumfmOX41qELJQNLif3nlddlu6RFhTZ7 oB6A== X-Gm-Message-State: AOJu0YyrFXrUoOFhl7aWjI8EOlxDWyjutPYlbxYhC8VteWz+c3BxIXip o90V1hP/+3HN07mQyNhjUbKjkZ3gq2lzjD83clxfQqPYMHyLxxNEcot/mLm1Ab3qToEOd/cQtqd uh8uc0alt5YQBeD98MSTsM0DMLERRlXDqWOM/ZwaUyTi2cmqa X-Gm-Gg: ASbGncsaQW4te0o6p/vjDpEMblh0zgy5JC3H0ofQsj/uFJdTQ8W70/Q+GNR/DhguGLz H+B106nQ0szuv9m6Ljb9KFbjGCM3A3EuMrkfAVHUQovbBVDcATsqFjFxqvmitU/rtMyg1bV7Eet dUbzIVB/doQSTzNNmUPHeGFweJvf1p1ppegWNXv2F7eKShSHfVmXBiudSEO1qWzRfoVDwZT/xMP UeHzhYT9cXbXNl3lWdzFIwimILVFPZsYMWwbAIj9MuUJG47AFElpddSn8LuOS9jamZ/T4v1AiU8 Fsm6h4DguaNqdtlSY/on1qnf9k8y6JUKG3Pi X-Google-Smtp-Source: AGHT+IFKypt6gf5Hyy7iPxb/I+FikRbrBM4gmytfQdfuGyNAzp/fisEPRhoOzx91Wq6Jb27bvfXN2cF2ubqo X-Received: by 2002:a17:90b:4fc3:b0:2ee:ad18:b309 with SMTP id 98e67ed59e1d1-30a61954aa4mr436175a91.3.1746259415301; Sat, 03 May 2025 01:03:35 -0700 (PDT) Received: from postal.iol.unh.edu (postal.iol.unh.edu. [2606:4100:3880:1234::84]) by smtp-relay.gmail.com with ESMTPS id 98e67ed59e1d1-30a47460717sm1131693a91.3.2025.05.03.01.03.35 (version=TLS1_2 cipher=ECDHE-ECDSA-AES128-GCM-SHA256 bits=128/128); Sat, 03 May 2025 01:03:35 -0700 (PDT) X-Relaying-Domain: iol.unh.edu Date: Sat, 03 May 2025 01:03:35 -0700 (PDT) Message-ID: <6815cdd7.170a0220.1d6f84.e9c3SMTPIN_ADDED_MISSING@mx.google.com> Received: from [172.17.0.2] (unknown [172.18.0.76]) by postal.iol.unh.edu (Postfix) with ESMTP id 7F0146052471; Sat, 3 May 2025 04:03:34 -0400 (EDT) Subject: |SUCCESS| [GIT MASTER] 4401486b5e30d43a134f80f9802f60b5f43e74a8 From: dpdklab@iol.unh.edu To: Test Report Cc: dpdk-test-reports@iol.unh.edu, Xueming Li , Christian Ehrhardt , Kevin Traynor , Luca Boccassi Content-Type: text/plain X-BeenThere: test-report@dpdk.org X-Mailman-Version: 2.1.29 Precedence: list List-Id: automatic DPDK test reports List-Unsubscribe: , List-Archive: List-Post: List-Help: List-Subscribe: , Errors-To: test-report-bounces@dpdk.org _Testing PASS_ Branch: tags/v22.11 4401486b5e30d43a134f80f9802f60b5f43e74a8 --> testing pass Upstream job id: Generic-Unit-Test-DPDK#334934 Test environment and result as below: +-----------------------------+--------------+---------------------------+------------------------------+----------------+ | Environment | lpm_autotest | cryptodev_sw_zuc_autotest | cryptodev_sw_snow3g_autotest | dpdk_unit_test | +=============================+==============+===========================+==============================+================+ | Ubuntu 20.04 ARM SVE | PASS | SKIPPED | SKIPPED | SKIPPED | +-----------------------------+--------------+---------------------------+------------------------------+----------------+ | Debian 12 (arm) | SKIPPED | PASS | PASS | SKIPPED | +-----------------------------+--------------+---------------------------+------------------------------+----------------+ | 32-bit Ubuntu 22.04.4 (ARM) | SKIPPED | SKIPPED | SKIPPED | PASS | +-----------------------------+--------------+---------------------------+------------------------------+----------------+ Ubuntu 20.04 ARM SVE Kernel: Depends on container host Compiler: gcc (Ubuntu 10.5.0-1ubuntu1~20.04) 10.5.0 Debian 12 (arm) Kernel: Depends on container host Compiler: gcc (Debian 12.2.0-14) 12.2.0 32-bit Ubuntu 22.04.4 (ARM) Kernel: 5.15.83+ aarch64 Compiler: gcc (Ubuntu 11.4.0-1ubuntu1~22.04) 11.4.0 To view detailed results, visit: https://lab.dpdk.org/results/dashboard/tarballs/33416/ UNH-IOL DPDK Community Lab To manage your email subscriptions, visit: https://lab.dpdk.org/results/dashboard/preferences/subscriptions/