From mboxrd@z Thu Jan 1 00:00:00 1970 Return-Path: Received: from mails.dpdk.org (mails.dpdk.org [217.70.189.124]) by inbox.dpdk.org (Postfix) with ESMTP id 0C3B7466AA for ; Sat, 3 May 2025 10:29:21 +0200 (CEST) Received: from mails.dpdk.org (localhost [127.0.0.1]) by mails.dpdk.org (Postfix) with ESMTP id D3FAA40261; Sat, 3 May 2025 10:29:20 +0200 (CEST) Received: from mail-pl1-f226.google.com (mail-pl1-f226.google.com [209.85.214.226]) by mails.dpdk.org (Postfix) with ESMTP id 78F484025D for ; Sat, 3 May 2025 10:29:19 +0200 (CEST) Received: by mail-pl1-f226.google.com with SMTP id d9443c01a7336-2295d78b433so29624085ad.2 for ; Sat, 03 May 2025 01:29:19 -0700 (PDT) DKIM-Signature: v=1; a=rsa-sha256; c=relaxed/relaxed; d=iol.unh.edu; s=unh-iol; t=1746260958; x=1746865758; darn=dpdk.org; h=cc:to:from:subject:message-id:date:from:to:cc:subject:date :message-id:reply-to; bh=AD0yVGR64woTojbSUFUJS293P6vGVr/acn0PjHVdo1s=; b=FRvlXpPyi4DXX+2S0QIeozDbYm2yUEY5O0QX8eeVj7meBzCK9/g5takaeWnlp2QRKr SbDcBJj83QhG+QNOw/BuNv5B3Xhtk01N3rWwxfsTCZ5W85DFAFhfVtE1qaS0IvgNMDYP pwaKURY5Mf4ZNDSYRlCxsSaL2ljh4yqn5Hgv8= X-Google-DKIM-Signature: v=1; a=rsa-sha256; c=relaxed/relaxed; d=1e100.net; s=20230601; t=1746260958; x=1746865758; h=cc:to:from:subject:message-id:date:x-gm-message-state:from:to:cc :subject:date:message-id:reply-to; bh=AD0yVGR64woTojbSUFUJS293P6vGVr/acn0PjHVdo1s=; b=HbR3IeMMhEXYhfEC0kFCCUIhwNVsywdvg5RzBYknTD5oTMx7ndqmsH5sOxHUzerqR/ EK+chO90IzQm1gG0JSF9MgoPYLSA+bIaebh7taoXj/XUkHb2H1j1RC1inQweMwOgnR5E XOBH62rf4KBuN3mrmO3UdNkaygDJrlm04kBHhMY434Zkh4uaZ1jhHZHitiJbvOEqAhIg xH9FcEfXn8wxB6tY+N8KxesWu2R33kkumz8Y9+gW9VCJSSuZFtqPVkKSFL65z6I/scXw 1yLyR1FkZlh3LsXBGSjWivnZ7VSGhDjD3CKG1eZSzQhdeTapZ8AaiAvFGDEv9WppyYm+ Otvw== X-Gm-Message-State: AOJu0YzpYQdS96CS7zVsKWpjz8yrnIBM0FyYtxuP3qeLW9Zjj/eqWfJb S4XL4ETqW9zYNKo/D23s6BNgoBq53naQDMZSYhI3Ps8SEuHBwKHUDsK4FPfRZA6oe7RABak2FHq eSiUjEhPCSnFKvmA59iqnClWY/xM5FZWE X-Gm-Gg: ASbGncsY1+04GKqF8bxTkQXUKAK818glG5Q5L0k9BAixtFZawEd2oWLTGk6oRsmb1i+ thhUR3WrkfVG69316uWPzlXzDmuESn/KPSo43MCE3KM6GpgKQiQG3vni+dwTnaerhvr6wi3zNx3 h4l1cLW39E47A2M/A+SweGiIQB3PYtbX/zd4xOBC6A6EfWloyBpg1VqBK07EralzlVDL98gLv5e EheQfnmI3o3PArfqAdWyaHhkujU+heR8cJYqW1Ji2tLKWERFFoX9ug2lknhx75JQM32ghP7wowA NCJcXVUIr23OFHM4zOzVDs+pyn8GTXR2pw3LCwPFOzBKUDK+an+O6u7cRb0= X-Google-Smtp-Source: AGHT+IGYyhmFsafYnFb3cgcodt6tFpxXjpBC2XkrD25fVUpqc4l3+GzB4hy3aEW7gEUe8LDjKQL8gkC94g3j X-Received: by 2002:a17:903:234f:b0:229:1717:882a with SMTP id d9443c01a7336-22e1e8c2466mr4198225ad.4.1746260958334; Sat, 03 May 2025 01:29:18 -0700 (PDT) Received: from postal.iol.unh.edu (postal.iol.unh.edu. [132.177.123.84]) by smtp-relay.gmail.com with ESMTPS id d9443c01a7336-22e15233398sm3923415ad.106.2025.05.03.01.29.18 (version=TLS1_2 cipher=ECDHE-ECDSA-AES128-GCM-SHA256 bits=128/128); Sat, 03 May 2025 01:29:18 -0700 (PDT) X-Relaying-Domain: iol.unh.edu Date: Sat, 03 May 2025 01:29:18 -0700 (PDT) Message-ID: <6815d3de.170a0220.3c7baa.69bcSMTPIN_ADDED_MISSING@mx.google.com> Received: from [172.17.0.2] (unknown [172.18.0.74]) by postal.iol.unh.edu (Postfix) with ESMTP id 7BC916052471; Sat, 3 May 2025 04:29:17 -0400 (EDT) Subject: |SUCCESS| [GIT MASTER] 4401486b5e30d43a134f80f9802f60b5f43e74a8 From: dpdklab@iol.unh.edu To: Test Report Cc: dpdk-test-reports@iol.unh.edu, Xueming Li , Christian Ehrhardt , Kevin Traynor , Luca Boccassi Content-Type: text/plain X-BeenThere: test-report@dpdk.org X-Mailman-Version: 2.1.29 Precedence: list List-Id: automatic DPDK test reports List-Unsubscribe: , List-Archive: List-Post: List-Help: List-Subscribe: , Errors-To: test-report-bounces@dpdk.org _Testing PASS_ Branch: tags/v22.11 4401486b5e30d43a134f80f9802f60b5f43e74a8 --> testing pass Upstream job id: ACVP-FIPS-testing#9696 Test environment and result as below: +--------------------+----------------------+----------------------+ | Environment | compressdev_zlib_pmd | dpdk_fips_validation | +====================+======================+======================+ | Ubuntu 22.04 (ARM) | PASS | SKIPPED | +--------------------+----------------------+----------------------+ | Ubuntu 22.04 | PASS | SKIPPED | +--------------------+----------------------+----------------------+ | Ubuntu 20.04 | SKIPPED | PASS | +--------------------+----------------------+----------------------+ Ubuntu 22.04 (ARM) Kernel: 5.15.0-97-generic Compiler: gcc gcc (Ubuntu 11.4.0-1ubuntu1~22.04) 11.4.0 Ubuntu 22.04 Kernel: 5.15.0-100-generic Compiler: gcc gcc (Ubuntu 11.4.0-1ubuntu1~22.04) 11.4.0 Ubuntu 20.04 Kernel: Depends on container host Compiler: gcc (Ubuntu 9.4.0-1ubuntu1~20.04.2) 9.4.0 To view detailed results, visit: https://lab.dpdk.org/results/dashboard/tarballs/33416/ UNH-IOL DPDK Community Lab To manage your email subscriptions, visit: https://lab.dpdk.org/results/dashboard/preferences/subscriptions/