From mboxrd@z Thu Jan 1 00:00:00 1970 Return-Path: Received: from mails.dpdk.org (mails.dpdk.org [217.70.189.124]) by inbox.dpdk.org (Postfix) with ESMTP id 004B3466AB for ; Sat, 3 May 2025 13:39:43 +0200 (CEST) Received: from mails.dpdk.org (localhost [127.0.0.1]) by mails.dpdk.org (Postfix) with ESMTP id BC0404025D; Sat, 3 May 2025 13:39:43 +0200 (CEST) Received: from mail-il1-f226.google.com (mail-il1-f226.google.com [209.85.166.226]) by mails.dpdk.org (Postfix) with ESMTP id 7D18740156 for ; Sat, 3 May 2025 13:39:42 +0200 (CEST) Received: by mail-il1-f226.google.com with SMTP id e9e14a558f8ab-3d450154245so25171495ab.2 for ; Sat, 03 May 2025 04:39:42 -0700 (PDT) DKIM-Signature: v=1; a=rsa-sha256; c=relaxed/relaxed; d=iol.unh.edu; s=unh-iol; t=1746272381; x=1746877181; darn=dpdk.org; h=cc:to:from:subject:message-id:date:from:to:cc:subject:date :message-id:reply-to; bh=HIEbkmw9AI27Xc/kLF39RDu1FgXYJ9euIStVfBC7MbI=; b=PBhNG2rzcVTvDyzO7MVWvxjyO4nFw/GT4iUV7d2jVKKFJYVanJ6IpZMu71NLLsYXCL A+S8eywXBibRdwerV3VpSeGDk2jjz5ycYy2Fdlo/I9FQTs82RfQBm7CzbBdAUUm4O169 344ZsizIpAk+YMdfviORytkUwOGaFJAyhnpb0= X-Google-DKIM-Signature: v=1; a=rsa-sha256; c=relaxed/relaxed; d=1e100.net; s=20230601; t=1746272381; x=1746877181; h=cc:to:from:subject:message-id:date:x-gm-message-state:from:to:cc :subject:date:message-id:reply-to; bh=HIEbkmw9AI27Xc/kLF39RDu1FgXYJ9euIStVfBC7MbI=; b=sNSZUigaZbCNNjUnyfF6roPhhmzLnuf4TVBYc0zsjSjXGlikI/w1Km/8VFIFzX+DBn RB8OED6+jZdIuMwfA/UJhk8TO99Y4sVjHowN1AU+N8MPuZCCxKnopoScvizjP6UOWo5Q xECQvwovNWt+0qIs1B4gp7SSd1E547BQEPHlhqpxWpdgvX0xoAYfc5a/CG+sbJ//coW6 PE88gfCqBZPF9YwWOMV51XLSFF7s/3Qz4FiUrPcgD0KbnReRTvOnF4YOoaqIL2u6slCh 9opBhzJrZK52HCuf9gccYwQ3ygAlD1DEGl/pJje9v7saGYrYj4pou0pH1o7UkRRc8atp zMNQ== X-Gm-Message-State: AOJu0Yxj21708YkdrlQdY7LmgX7SoZHFyt6OMIis/C63MbKjdRjqOKGM fhTi7Njgo8S7gU1tU9mNoF7RXCXtAr0pra5U3mL5QOdWhw2ItflEna8h9RDLAietJGzf5IK7tqk ZIqNuKi9n+tHR35/oHw3vF94W626YSEBkqZzgzMuCW+40wlY60WuQxI/x X-Gm-Gg: ASbGncu+gSuNCWCKOXXcsdVmAXJ53zvVdv9ZYLwVX6wTyXH2EaaSsrPpY1PEMYL4Ix/ ydt2SE4t0v3h/uEhnSomakc4O1Xqx4gBwxR2YlvFXoPz+9Caneqo3axmNdB70Hb+F+O177wcoQq cm1Gbb3CW/iD1IU+jQDyO6op5bL71A9pBJrdzyWjEIdbSzcsv3+GfKiKiTgqWAQKjjDnbaFO2H7 E5I/Ma8WaKlIXCmyL/mtw/pYDMUz/XyyNTsF4352Wd6QO7nJmOd5IfTltKaO4po7HRglg2EQhUt c4hQ2VJ30te+Lvr9vAQY+aN7ElwfH+QHNwoc X-Google-Smtp-Source: AGHT+IFP6wbn0WyLhZ6cpaFJYTUYM2/KWR/ltbfZkztpJXwO9cn8TaLIZi8Bne7GqIKO5j6j0YuwQDVKZSMg X-Received: by 2002:a05:6e02:1f87:b0:3d3:e287:3e7a with SMTP id e9e14a558f8ab-3da5b344214mr6881015ab.19.1746272381762; Sat, 03 May 2025 04:39:41 -0700 (PDT) Received: from postal.iol.unh.edu (postal.iol.unh.edu. [2606:4100:3880:1234::84]) by smtp-relay.gmail.com with ESMTPS id e9e14a558f8ab-3d975cedbc3sm9518535ab.0.2025.05.03.04.39.41 (version=TLS1_2 cipher=ECDHE-ECDSA-AES128-GCM-SHA256 bits=128/128); Sat, 03 May 2025 04:39:41 -0700 (PDT) X-Relaying-Domain: iol.unh.edu Date: Sat, 03 May 2025 04:39:41 -0700 (PDT) Message-ID: <6816007d.920a0220.3a8313.b143SMTPIN_ADDED_MISSING@mx.google.com> Received: from [172.17.0.2] (unknown [172.18.0.76]) by postal.iol.unh.edu (Postfix) with ESMTP id 66DF36052471; Sat, 3 May 2025 07:39:41 -0400 (EDT) Subject: |SUCCESS| [GIT MASTER] 2665bfb9838fec7ea6c3b2be5831f93ee087b288 From: dpdklab@iol.unh.edu To: Test Report Cc: dpdk-test-reports@iol.unh.edu, Bruce Richardson Content-Type: text/plain X-BeenThere: test-report@dpdk.org X-Mailman-Version: 2.1.29 Precedence: list List-Id: automatic DPDK test reports List-Unsubscribe: , List-Archive: List-Post: List-Help: List-Subscribe: , Errors-To: test-report-bounces@dpdk.org _Testing PASS_ Branch: dpdk-next-net-intel 2665bfb9838fec7ea6c3b2be5831f93ee087b288 --> testing pass Upstream job id: ACVP-FIPS-testing#9697 Test environment and result as below: +--------------------+----------------------+----------------------+ | Environment | dpdk_fips_validation | compressdev_zlib_pmd | +====================+======================+======================+ | Ubuntu 20.04 | PASS | SKIPPED | +--------------------+----------------------+----------------------+ | Ubuntu 22.04 (ARM) | SKIPPED | PASS | +--------------------+----------------------+----------------------+ | Ubuntu 22.04 | SKIPPED | PASS | +--------------------+----------------------+----------------------+ Ubuntu 20.04 Kernel: Depends on container host Compiler: gcc (Ubuntu 9.4.0-1ubuntu1~20.04.2) 9.4.0 Ubuntu 22.04 (ARM) Kernel: 5.15.0-97-generic Compiler: gcc gcc (Ubuntu 11.4.0-1ubuntu1~22.04) 11.4.0 Ubuntu 22.04 Kernel: 5.15.0-100-generic Compiler: gcc gcc (Ubuntu 11.4.0-1ubuntu1~22.04) 11.4.0 To view detailed results, visit: https://lab.dpdk.org/results/dashboard/tarballs/33417/ UNH-IOL DPDK Community Lab To manage your email subscriptions, visit: https://lab.dpdk.org/results/dashboard/preferences/subscriptions/