From mboxrd@z Thu Jan 1 00:00:00 1970 Return-Path: Received: from mails.dpdk.org (mails.dpdk.org [217.70.189.124]) by inbox.dpdk.org (Postfix) with ESMTP id 58F5D466AB for ; Sat, 3 May 2025 13:43:09 +0200 (CEST) Received: from mails.dpdk.org (localhost [127.0.0.1]) by mails.dpdk.org (Postfix) with ESMTP id 1F79D4025D; Sat, 3 May 2025 13:43:09 +0200 (CEST) Received: from mail-io1-f99.google.com (mail-io1-f99.google.com [209.85.166.99]) by mails.dpdk.org (Postfix) with ESMTP id 145B140156 for ; Sat, 3 May 2025 13:43:08 +0200 (CEST) Received: by mail-io1-f99.google.com with SMTP id ca18e2360f4ac-8647e143f28so261360239f.1 for ; Sat, 03 May 2025 04:43:08 -0700 (PDT) DKIM-Signature: v=1; a=rsa-sha256; c=relaxed/relaxed; d=iol.unh.edu; s=unh-iol; t=1746272587; x=1746877387; darn=dpdk.org; h=cc:to:from:subject:message-id:date:from:to:cc:subject:date :message-id:reply-to; bh=Mr32EKhZj1bpRaTNqHBgwEc5djEkZdCSkWj1Fg6d7j0=; b=i6zK6MXaJKKKvE2t3nujomI5RLZ60Fi2FDW1KIP98nmsv3Thu40BwKrjYSnmaFuJT6 ljKqtBzvCa+xv9Lvlu3HbbPw7J3YoMaBUNJzuyCuU7Plhsw9fcgZvY40Koo4SQ1/MQuC AR+jVktmoY2SSqK8cEuHoYWFYmuvhWP7t+pUU= X-Google-DKIM-Signature: v=1; a=rsa-sha256; c=relaxed/relaxed; d=1e100.net; s=20230601; t=1746272587; x=1746877387; h=cc:to:from:subject:message-id:date:x-gm-message-state:from:to:cc :subject:date:message-id:reply-to; bh=Mr32EKhZj1bpRaTNqHBgwEc5djEkZdCSkWj1Fg6d7j0=; b=HhaFKp3CLaiDPgwPwZa/Mw23JyAK9xuq+oNeRhXhmHcGJMAarusqr5YUGVLANJnYYJ EbHFVRQ4ExM4T0txY6f6sM9H4nTPOHUrr8psp0bE0LbX2jiKWjHZoHBvwJ4NXcGYQOAd asTcDWqdZBTWH0gXkRusGnweUFn3hV+ruWz0rqrtg3CSwO9dCoPsclEd+qebyi//1Qul ZHHRmB7/Sz04cqD9j5nw42ClQs53/r+a7+ixVbXnw0/gixDOEo7SEAMkjyszDfZdMfxl zwxF5U8N1ZGg/YpQCVnAwJvzjH5BgfR7JkF/XjNMfE424p3iIMxxdl0yNZRIiztNODlT BDfA== X-Gm-Message-State: AOJu0Yxm74zlOSzLCrDGIFR4mCenE/MP9qoXPM+DyXgsS2bACQ26ZTsD Jd/zrxX60z2TGWIRv+Ed0Aq58O/G6o5dIJDrL255eVTdTsio8hNaPFFGiD1N522cR29u14vVzbR vK3od+piiD9hpHQRLRzQ1h+nFGmYA/FGKISSqwGw6gShSMnnyQ/vknl5m X-Gm-Gg: ASbGncv7gCT05ln6WAobLBWgobQoSEuYmNxN6Ts29n3gUGOpl+91/b27ubGJAgCaHFv ZBWLE8Q4xDM7t9KUMht1doCxWNcZbH5GAP/8RlX954lTMLnsdwm8snPdE5z2J7uQZN8fr3oI1Kd vupPKzlOUd2TAGbCsivO4Rcp7pQNkTk1Xlg0AB51f6fZWdeqyviZBVEouIngT6rzunT11kxrQqs +/jqaOh07FWIfL1NN7QwnrVgRGtXVpG1AiOKPXY+Va0NcJj+w8pJJ+Dx2873eHywM4xwCGvrm+m IzihiH+ayblsrVK3WhYc2QOT7QZMviVZs4cz X-Google-Smtp-Source: AGHT+IFoL8XgBhz2jtiquNDDCIG/poRJwcX8COxPhnY2BNNVrdoNdGKWe9RsOnaRmaYjquGvlIPO71YBZ/Cb X-Received: by 2002:a05:6602:2b07:b0:867:943:c184 with SMTP id ca18e2360f4ac-8670943c445mr290574039f.5.1746272587428; Sat, 03 May 2025 04:43:07 -0700 (PDT) Received: from postal.iol.unh.edu (postal.iol.unh.edu. [2606:4100:3880:1234::84]) by smtp-relay.gmail.com with ESMTPS id 8926c6da1cb9f-4f88a8cd8ccsm746724173.5.2025.05.03.04.43.07 (version=TLS1_2 cipher=ECDHE-ECDSA-AES128-GCM-SHA256 bits=128/128); Sat, 03 May 2025 04:43:07 -0700 (PDT) X-Relaying-Domain: iol.unh.edu Date: Sat, 03 May 2025 04:43:07 -0700 (PDT) Message-ID: <6816014b.050a0220.3a278f.9788SMTPIN_ADDED_MISSING@mx.google.com> Received: from [172.17.0.2] (unknown [172.18.0.76]) by postal.iol.unh.edu (Postfix) with ESMTP id 0FAA46052471; Sat, 3 May 2025 07:43:07 -0400 (EDT) Subject: |SUCCESS| [GIT MASTER] 2665bfb9838fec7ea6c3b2be5831f93ee087b288 From: dpdklab@iol.unh.edu To: Test Report Cc: dpdk-test-reports@iol.unh.edu, Bruce Richardson Content-Type: text/plain X-BeenThere: test-report@dpdk.org X-Mailman-Version: 2.1.29 Precedence: list List-Id: automatic DPDK test reports List-Unsubscribe: , List-Archive: List-Post: List-Help: List-Subscribe: , Errors-To: test-report-bounces@dpdk.org _Testing PASS_ Branch: dpdk-next-net-intel 2665bfb9838fec7ea6c3b2be5831f93ee087b288 --> testing pass Upstream job id: Generic-Unit-Test-DPDK#334961 Test environment and result as below: +---------------------+----------------+ | Environment | dpdk_unit_test | +=====================+================+ | CentOS Stream 9 | PASS | +---------------------+----------------+ | CentOS Stream 10 | PASS | +---------------------+----------------+ | Debian 12 | PASS | +---------------------+----------------+ | Fedora 40 | PASS | +---------------------+----------------+ | Fedora 40 (Clang) | PASS | +---------------------+----------------+ | Fedora 41 | PASS | +---------------------+----------------+ | Fedora 41 (Clang) | PASS | +---------------------+----------------+ | RHEL9 | PASS | +---------------------+----------------+ | RHEL8 | PASS | +---------------------+----------------+ | Ubuntu 20.04 | PASS | +---------------------+----------------+ | Ubuntu 22.04 | PASS | +---------------------+----------------+ | Ubuntu 24.04 | PASS | +---------------------+----------------+ | Windows Server 2022 | PASS | +---------------------+----------------+ CentOS Stream 9 Kernel: Depends on container host Compiler: gcc 11.5.0 20240719 (Red Hat 11.5.0-2) CentOS Stream 10 Kernel: Depends on container host Compiler: gcc 14.2.1 20241104 (Red Hat 14.2.1-6) Debian 12 Kernel: Depends on container host Compiler: gcc (Debian 12.2.0-14) 12.2.0 Fedora 40 Kernel: Depends on container host Compiler: gcc 14.2.1 20240912 (Red Hat 14.2.1-3) Fedora 40 (Clang) Kernel: Depends on container host Compiler: clang 18.1.8 (Fedora 18.1.8-1.fc40) Fedora 41 Kernel: Depends on container host Compiler: gcc 14.2.1 20240912 (Red Hat 14.2.1-3) Fedora 41 (Clang) Kernel: Depends on container host Compiler: clang 19.1.5 (Fedora 19.1.5-1.fc41) RHEL9 Kernel: Depends on container host Compiler: gcc 11.5.0 20240719 (Red Hat 11.5.0-2) RHEL8 Kernel: Depends on container host Compiler: gcc 8.5.0 20210514 (Red Hat 8.5.0-22) Ubuntu 20.04 Kernel: Depends on container host Compiler: gcc (Ubuntu 9.4.0-1ubuntu1~20.04.2) 9.4.0 Ubuntu 22.04 Kernel: Depends on container host Compiler: gcc (Ubuntu 11.4.0-1ubuntu1~22.04) 11.4.0 Ubuntu 24.04 Kernel: Depends on container host Compiler: gcc (Ubuntu 13.3.0-6ubuntu2~24.04) 13.3.0 Windows Server 2022 Kernel: 10.0.20348.2031 Compiler: clang 15.0.7, gcc 14.1.0 (MinGW), and MSVC VS 19.39.33521 To view detailed results, visit: https://lab.dpdk.org/results/dashboard/tarballs/33417/ UNH-IOL DPDK Community Lab To manage your email subscriptions, visit: https://lab.dpdk.org/results/dashboard/preferences/subscriptions/