From mboxrd@z Thu Jan 1 00:00:00 1970 Return-Path: Received: from mails.dpdk.org (mails.dpdk.org [217.70.189.124]) by inbox.dpdk.org (Postfix) with ESMTP id B5D06466AB for ; Sat, 3 May 2025 13:47:54 +0200 (CEST) Received: from mails.dpdk.org (localhost [127.0.0.1]) by mails.dpdk.org (Postfix) with ESMTP id 94A094025D; Sat, 3 May 2025 13:47:54 +0200 (CEST) Received: from mail-qv1-f97.google.com (mail-qv1-f97.google.com [209.85.219.97]) by mails.dpdk.org (Postfix) with ESMTP id 30E8E40156 for ; Sat, 3 May 2025 13:47:53 +0200 (CEST) Received: by mail-qv1-f97.google.com with SMTP id 6a1803df08f44-6ecf0e07947so31344916d6.0 for ; Sat, 03 May 2025 04:47:53 -0700 (PDT) DKIM-Signature: v=1; a=rsa-sha256; c=relaxed/relaxed; d=iol.unh.edu; s=unh-iol; t=1746272872; x=1746877672; darn=dpdk.org; h=cc:to:from:subject:message-id:date:from:to:cc:subject:date :message-id:reply-to; bh=mHGuGMgE5oxO1Z73xRs+IXvPRaLemQX2fSA/5tDO6qA=; b=Yt2N2LwtXFvRyiCvAFmqBuANCJTeewv2OH+pqPVkw8Oqm4TuUg8ZdWedo78M0dr+Cp CiGdaYsnoGaiUX1TqX96vmBBWGbcpMcznhLNwoC6faXDV02PldOqB/ix9hOyG1BpLWd5 K8t77lo8qw0196bxyHeSHyHvC/ztciKNkPo/Q= X-Google-DKIM-Signature: v=1; a=rsa-sha256; c=relaxed/relaxed; d=1e100.net; s=20230601; t=1746272872; x=1746877672; h=cc:to:from:subject:message-id:date:x-gm-message-state:from:to:cc :subject:date:message-id:reply-to; bh=mHGuGMgE5oxO1Z73xRs+IXvPRaLemQX2fSA/5tDO6qA=; b=hTQ74eoRs/ay+gD5DaKtWhfMuAzFzQmSn7pts88wRz6P/S94ifU9g8c/HoiI6kXL4n /b6RRRO/FIIN/28esRa7hhUr+cZfLQl0Mxpyw5W8EBmL1gN+Wc/bhq+VkRU0YEnZFCCN eDobhKOmRts3qt9qCPwCBfGZ06PCABKBe30uioDiOI0h2ibgAQisIxUoiiHUojQXd/zQ zIGE7pCwhNZT+/WFBs1WYVhnCp6iX5ejq1cFDGEXkHwOfH0oTNiXDzqqsyAq4orHjlyY gCI7X19uVF0QAKWJCQ9SE2BrwN67TO2YO8li6vcTEY2+pYRvTaUpuKvArr1rNmh5b1iq TkYA== X-Gm-Message-State: AOJu0Yy3z7v7w48cRhZxm7UJfl2wYcuCCrQYUnyqtMBAt1s7RtNDcBc2 oz863CsgTdmX95CTuuGpqnYrtrt1LAuRvqd7/Kkpx/yCHWHAkWwe222FmWHcyKT3QC34P9ApIyS 0qjvs3c4ewiwXIUikrmdBwN4v48ug7FltN/X0+hmWD9yEkmEi0tGhG8kt X-Gm-Gg: ASbGncuuDWJK23lLYHojVN9F0zZLt2AvyyxQT7TJmK2kpXGXEr9aqscxCulbRg8XSB1 nXY517OmO5LWPb3cLvjP5tE6uyMbSba4ZyWtF1SzyNjKx8SfWZBRRVAOAnY6Lv3ugTH+yIstqio x/DzfoEo7PdKowaOgFr0cuHpBVupvwfr5Z4C08yHG3J2tfg9UEYaFjEg2X+2hyjVwRvoa+fsGK6 wRjVDjmB0l9Y8yBd9MOwh8fdM+aZAVlf+jlOBpoTYjWeyBNBxVnsSrqWR7TNou+wzgpkUqgHaaz NcfdajEAUwl6kbtybjA9Z+RXHIthZFKAs8zN X-Google-Smtp-Source: AGHT+IEh/bb5+PNV48q7owguV0aF9C+Qqt2Lmh0crOBwf0tVcOvKhKmfMyPllDschP8+/s4P6+q5HKdWEGYG X-Received: by 2002:a05:6214:528a:b0:6e1:715f:cdf5 with SMTP id 6a1803df08f44-6f5155fdbc6mr92476146d6.15.1746272872428; Sat, 03 May 2025 04:47:52 -0700 (PDT) Received: from postal.iol.unh.edu (postal.iol.unh.edu. [2606:4100:3880:1234::84]) by smtp-relay.gmail.com with ESMTPS id 6a1803df08f44-6f50f3bf4aasm9994486d6.19.2025.05.03.04.47.52 (version=TLS1_2 cipher=ECDHE-ECDSA-AES128-GCM-SHA256 bits=128/128); Sat, 03 May 2025 04:47:52 -0700 (PDT) X-Relaying-Domain: iol.unh.edu Date: Sat, 03 May 2025 04:47:52 -0700 (PDT) Message-ID: <68160268.d40a0220.21cfcb.c386SMTPIN_ADDED_MISSING@mx.google.com> Received: from [172.17.0.2] (unknown [172.18.0.74]) by postal.iol.unh.edu (Postfix) with ESMTP id 17D396052471; Sat, 3 May 2025 07:47:52 -0400 (EDT) Subject: |SUCCESS| [GIT MASTER] 2665bfb9838fec7ea6c3b2be5831f93ee087b288 From: dpdklab@iol.unh.edu To: Test Report Cc: dpdk-test-reports@iol.unh.edu, Bruce Richardson Content-Type: text/plain X-BeenThere: test-report@dpdk.org X-Mailman-Version: 2.1.29 Precedence: list List-Id: automatic DPDK test reports List-Unsubscribe: , List-Archive: List-Post: List-Help: List-Subscribe: , Errors-To: test-report-bounces@dpdk.org _Testing PASS_ Branch: dpdk-next-net-intel 2665bfb9838fec7ea6c3b2be5831f93ee087b288 --> testing pass Upstream job id: Aarch32-Unit-Test#6118 Test environment and result as below: +-----------------------------+----------------+--------------+------------------------------+---------------------------+ | Environment | dpdk_unit_test | lpm_autotest | cryptodev_sw_snow3g_autotest | cryptodev_sw_zuc_autotest | +=============================+================+==============+==============================+===========================+ | CentOS Stream 10 (ARM) | PASS | SKIPPED | SKIPPED | SKIPPED | +-----------------------------+----------------+--------------+------------------------------+---------------------------+ | CentOS Stream 9 (ARM) | PASS | SKIPPED | SKIPPED | SKIPPED | +-----------------------------+----------------+--------------+------------------------------+---------------------------+ | Fedora 40 (ARM) | PASS | SKIPPED | SKIPPED | SKIPPED | +-----------------------------+----------------+--------------+------------------------------+---------------------------+ | Debian 12 (arm) | PASS | SKIPPED | PASS | PASS | +-----------------------------+----------------+--------------+------------------------------+---------------------------+ | Fedora 41 (ARM) | PASS | SKIPPED | SKIPPED | SKIPPED | +-----------------------------+----------------+--------------+------------------------------+---------------------------+ | Fedora 41 (ARM Clang) | PASS | SKIPPED | SKIPPED | SKIPPED | +-----------------------------+----------------+--------------+------------------------------+---------------------------+ | Fedora 40 (ARM Clang) | PASS | SKIPPED | SKIPPED | SKIPPED | +-----------------------------+----------------+--------------+------------------------------+---------------------------+ | RHEL9 (ARM) | PASS | SKIPPED | SKIPPED | SKIPPED | +-----------------------------+----------------+--------------+------------------------------+---------------------------+ | Ubuntu 20.04 (ARM) | PASS | SKIPPED | SKIPPED | SKIPPED | +-----------------------------+----------------+--------------+------------------------------+---------------------------+ | Ubuntu 22.04 (ARM) | PASS | SKIPPED | SKIPPED | SKIPPED | +-----------------------------+----------------+--------------+------------------------------+---------------------------+ | Ubuntu 24.04 (ARM) | PASS | SKIPPED | SKIPPED | SKIPPED | +-----------------------------+----------------+--------------+------------------------------+---------------------------+ | 32-bit Ubuntu 22.04.4 (ARM) | PASS | SKIPPED | SKIPPED | SKIPPED | +-----------------------------+----------------+--------------+------------------------------+---------------------------+ | Ubuntu 20.04 ARM SVE | SKIPPED | PASS | SKIPPED | SKIPPED | +-----------------------------+----------------+--------------+------------------------------+---------------------------+ CentOS Stream 10 (ARM) Kernel: Depends on container host Compiler: gcc 14.2.1 20241104 (Red Hat 14.2.1-6) CentOS Stream 9 (ARM) Kernel: Depends on container host Compiler: gcc 11.5.0 20240719 (Red Hat 11.5.0-2) Fedora 40 (ARM) Kernel: Depends on container host Compiler: gcc 14.2.1 20240912 (Red Hat 14.2.1-3) Debian 12 (arm) Kernel: Depends on container host Compiler: gcc (Debian 12.2.0-14) 12.2.0 Fedora 41 (ARM) Kernel: Depends on container host Compiler: gcc 14.2.1 20240912 (Red Hat 14.2.1-3) Fedora 41 (ARM Clang) Kernel: Depends on container host Compiler: clang 19.1.5 (Fedora 19.1.5-1.fc41) Fedora 40 (ARM Clang) Kernel: Depends on container host Compiler: clang 18.1.8 (Fedora 18.1.8-1.fc40) RHEL9 (ARM) Kernel: Depends on container host Compiler: gcc 11.5.0 20240719 (Red Hat 11.5.0-2) Ubuntu 20.04 (ARM) Kernel: Depends on container host Compiler: gcc (Ubuntu 9.4.0-1ubuntu1~20.04.2) 9.4.0 Ubuntu 22.04 (ARM) Kernel: Depends on container host Compiler: gcc (Ubuntu 11.4.0-1ubuntu1~22.04) 11.4.0 Ubuntu 24.04 (ARM) Kernel: Depends on container host Compiler: gcc (Ubuntu 13.3.0-6ubuntu2~24.04) 13.3.0 32-bit Ubuntu 22.04.4 (ARM) Kernel: 5.15.83+ aarch64 Compiler: gcc (Ubuntu 11.4.0-1ubuntu1~22.04) 11.4.0 Ubuntu 20.04 ARM SVE Kernel: Depends on container host Compiler: gcc (Ubuntu 10.5.0-1ubuntu1~20.04) 10.5.0 To view detailed results, visit: https://lab.dpdk.org/results/dashboard/tarballs/33417/ UNH-IOL DPDK Community Lab To manage your email subscriptions, visit: https://lab.dpdk.org/results/dashboard/preferences/subscriptions/