From mboxrd@z Thu Jan 1 00:00:00 1970 Return-Path: Received: from mails.dpdk.org (mails.dpdk.org [217.70.189.124]) by inbox.dpdk.org (Postfix) with ESMTP id 33623466AB for ; Sat, 3 May 2025 14:04:03 +0200 (CEST) Received: from mails.dpdk.org (localhost [127.0.0.1]) by mails.dpdk.org (Postfix) with ESMTP id E22314025D; Sat, 3 May 2025 14:04:02 +0200 (CEST) Received: from mail-io1-f98.google.com (mail-io1-f98.google.com [209.85.166.98]) by mails.dpdk.org (Postfix) with ESMTP id 25E5440156 for ; Sat, 3 May 2025 14:04:02 +0200 (CEST) Received: by mail-io1-f98.google.com with SMTP id ca18e2360f4ac-864a22fcdf2so84542639f.0 for ; Sat, 03 May 2025 05:04:02 -0700 (PDT) DKIM-Signature: v=1; a=rsa-sha256; c=relaxed/relaxed; d=iol.unh.edu; s=unh-iol; t=1746273841; x=1746878641; darn=dpdk.org; h=cc:to:from:subject:message-id:date:from:to:cc:subject:date :message-id:reply-to; bh=ouQxUkuSJ+1xc/6klFw/CHi8eEEv5mfJXZ/piyQzZek=; b=btjDzZFqc6e56FF/EGlNNOVkk5OfIYvzdlZo8Dl8cP9nVzhjDKVuxxTSBWRcsSJ4Dd 3FfCLEKXyNnXG2wpPLq7dBmj6X7jYVw5vbhlqFUShc/+I5t66H/lh5EdCGWWmNQXazVv CsRYCfQ6GBLGI0vQHiMjFEMhNg7E1FMPMSp1Q= X-Google-DKIM-Signature: v=1; a=rsa-sha256; c=relaxed/relaxed; d=1e100.net; s=20230601; t=1746273841; x=1746878641; h=cc:to:from:subject:message-id:date:x-gm-message-state:from:to:cc :subject:date:message-id:reply-to; bh=ouQxUkuSJ+1xc/6klFw/CHi8eEEv5mfJXZ/piyQzZek=; b=FB2DA87rw47WxwvL+cXk1ql4zAD9XpQTUB6Cx9P6MKkE8vgMTzMkg5EcHPBzxDgHYR H0uvCuBfNPszlzN1JwIGSYqCOXqMzp9iKf8MMZFrqfpPhXIVyZdPcsu7DTNQEtmYARk/ Kq+1IxE766ZxHQRT+7+5e8bkpuT/4pkL/NaduN3tOz1r7loAhgRuIa/OA8Goc0ipXNqu Kts9KuZRuYn44rK6dAzFsu23fAyDQ+iUpsyNr+aF+obW3MY5QtUOLboIRwwh8JUtseu8 5clvJdVg4z4VVkdzA/wJUsbSYEa1ie9XQqwLax9Ce86XPkZM2aTxvalYajJutd7skmqW I5WA== X-Gm-Message-State: AOJu0YyXfdMltwTDvTOt75LlmhiNxV1WwWoPIoH8JBvkSjQEVMT5XhZf 2WiiDZhIAFWNonlefv1kM6Nu3LqPC4+bJVTmlDMOE3/pVYBbkFQaSWEKytyMaXaRZ9SnnwSKZS5 lIaQz4VBwNivsQgddlSeGPRlauVhgdN3pGX9u54Qw X-Gm-Gg: ASbGncudbUrTmCXBMCzzozsSAzQ+JV2h6jxzS2XfGX66kKhxlYsCHDd6dn3gr7mtQw9 5nrGv6lNWIVpYnjWltFWTK2vI5p0pT8bGKSc7o/f6VhvoT8gMLqsUC5SFaiiD5De1y3Y8esXX60 /+xiwy/sJGBWm5FwFugpHqKn73HN5UxXGPPzSb57lWMs9oIjBdsbDffqNu4/e/e5TE7a44dcXls hdWfTaXmW15TTgp7LZs7KKFw/glBeXvyOzYk156lp/jKUpDRAACajG4l5zhM9fycwv2QunwasOE oSwT/yNdeQfP0x5Fbh//RsUxt8voDbxzx55fy0IjjmLp2Wi4Zl7MgqBgfI8= X-Google-Smtp-Source: AGHT+IEJ2n797vRPGasqPTIHXmUXjuJVrm7Hr+GamhMed3HLM+7tIG+waZRkdzZoaA8pWRg6G8EoSTauUBT/ X-Received: by 2002:a6b:601a:0:b0:85e:d0ca:b635 with SMTP id ca18e2360f4ac-864a3bceb99mr1050320439f.2.1746273841130; Sat, 03 May 2025 05:04:01 -0700 (PDT) Received: from postal.iol.unh.edu (postal.iol.unh.edu. [132.177.123.84]) by smtp-relay.gmail.com with ESMTPS id 8926c6da1cb9f-4f88a739fc9sm746855173.0.2025.05.03.05.04.01 (version=TLS1_2 cipher=ECDHE-ECDSA-AES128-GCM-SHA256 bits=128/128); Sat, 03 May 2025 05:04:01 -0700 (PDT) X-Relaying-Domain: iol.unh.edu Date: Sat, 03 May 2025 05:04:01 -0700 (PDT) Message-ID: <68160631.050a0220.64513.8fd3SMTPIN_ADDED_MISSING@mx.google.com> Received: from [172.17.0.2] (unknown [172.18.0.74]) by postal.iol.unh.edu (Postfix) with ESMTP id 92FF46052471; Sat, 3 May 2025 08:04:00 -0400 (EDT) Subject: |SUCCESS| [GIT MASTER] 2665bfb9838fec7ea6c3b2be5831f93ee087b288 From: dpdklab@iol.unh.edu To: Test Report Cc: dpdk-test-reports@iol.unh.edu, Bruce Richardson Content-Type: text/plain X-BeenThere: test-report@dpdk.org X-Mailman-Version: 2.1.29 Precedence: list List-Id: automatic DPDK test reports List-Unsubscribe: , List-Archive: List-Post: List-Help: List-Subscribe: , Errors-To: test-report-bounces@dpdk.org _Testing PASS_ Branch: dpdk-next-net-intel 2665bfb9838fec7ea6c3b2be5831f93ee087b288 --> testing pass Upstream job id: Generic-DPDK-Compile-Meson#384624 Test environment and result as below: +-----------------------------------+--------------------+-------------------+------------------+-------------------------+-------------------+----------------------+ | Environment | dpdk_meson_compile | dpdk_compile_spdk | dpdk_compile_ovs | dpdk_llvm_clang_compile | dpdk_msvc_compile | dpdk_mingw64_compile | +===================================+====================+===================+==================+=========================+===================+======================+ | CentOS Stream 10 | PASS | SKIPPED | SKIPPED | SKIPPED | SKIPPED | SKIPPED | +-----------------------------------+--------------------+-------------------+------------------+-------------------------+-------------------+----------------------+ | CentOS Stream 9 | PASS | PASS | SKIPPED | SKIPPED | SKIPPED | SKIPPED | +-----------------------------------+--------------------+-------------------+------------------+-------------------------+-------------------+----------------------+ | Debian 12 | PASS | PASS | SKIPPED | SKIPPED | SKIPPED | SKIPPED | +-----------------------------------+--------------------+-------------------+------------------+-------------------------+-------------------+----------------------+ | Fedora 40 (Clang) | PASS | PASS | SKIPPED | SKIPPED | SKIPPED | SKIPPED | +-----------------------------------+--------------------+-------------------+------------------+-------------------------+-------------------+----------------------+ | Fedora 41 | PASS | PASS | PASS | SKIPPED | SKIPPED | SKIPPED | +-----------------------------------+--------------------+-------------------+------------------+-------------------------+-------------------+----------------------+ | Fedora 40 | PASS | PASS | SKIPPED | SKIPPED | SKIPPED | SKIPPED | +-----------------------------------+--------------------+-------------------+------------------+-------------------------+-------------------+----------------------+ | openSUSE Leap 15 | PASS | SKIPPED | SKIPPED | SKIPPED | SKIPPED | SKIPPED | +-----------------------------------+--------------------+-------------------+------------------+-------------------------+-------------------+----------------------+ | RHEL8 | PASS | SKIPPED | SKIPPED | SKIPPED | SKIPPED | SKIPPED | +-----------------------------------+--------------------+-------------------+------------------+-------------------------+-------------------+----------------------+ | Ubuntu 20.04 | PASS | SKIPPED | SKIPPED | SKIPPED | SKIPPED | SKIPPED | +-----------------------------------+--------------------+-------------------+------------------+-------------------------+-------------------+----------------------+ | Ubuntu 24.04 | PASS | PASS | PASS | SKIPPED | SKIPPED | SKIPPED | +-----------------------------------+--------------------+-------------------+------------------+-------------------------+-------------------+----------------------+ | Ubuntu 22.04 | PASS | PASS | SKIPPED | SKIPPED | SKIPPED | SKIPPED | +-----------------------------------+--------------------+-------------------+------------------+-------------------------+-------------------+----------------------+ | Alpine | PASS | SKIPPED | SKIPPED | SKIPPED | SKIPPED | SKIPPED | +-----------------------------------+--------------------+-------------------+------------------+-------------------------+-------------------+----------------------+ | Ubuntu 24.04 32 Bit Cross Compile | PASS | SKIPPED | SKIPPED | SKIPPED | SKIPPED | SKIPPED | +-----------------------------------+--------------------+-------------------+------------------+-------------------------+-------------------+----------------------+ | FreeBSD 13.5 | PASS | SKIPPED | SKIPPED | SKIPPED | SKIPPED | SKIPPED | +-----------------------------------+--------------------+-------------------+------------------+-------------------------+-------------------+----------------------+ | FreeBSD 14.2 | PASS | SKIPPED | SKIPPED | SKIPPED | SKIPPED | SKIPPED | +-----------------------------------+--------------------+-------------------+------------------+-------------------------+-------------------+----------------------+ | Fedora 41 (Clang) | PASS | PASS | PASS | SKIPPED | SKIPPED | SKIPPED | +-----------------------------------+--------------------+-------------------+------------------+-------------------------+-------------------+----------------------+ | RHEL9 | PASS | SKIPPED | SKIPPED | SKIPPED | SKIPPED | SKIPPED | +-----------------------------------+--------------------+-------------------+------------------+-------------------------+-------------------+----------------------+ | Windows Server 2022 | SKIPPED | SKIPPED | SKIPPED | PASS | PASS | PASS | +-----------------------------------+--------------------+-------------------+------------------+-------------------------+-------------------+----------------------+ CentOS Stream 10 Kernel: Depends on container host Compiler: gcc 14.2.1 20241104 (Red Hat 14.2.1-6) CentOS Stream 9 Kernel: Depends on container host Compiler: gcc 11.5.0 20240719 (Red Hat 11.5.0-2) Debian 12 Kernel: Depends on container host Compiler: gcc (Debian 12.2.0-14) 12.2.0 Fedora 40 (Clang) Kernel: Depends on container host Compiler: clang 18.1.8 (Fedora 18.1.8-1.fc40) Fedora 41 Kernel: Depends on container host Compiler: gcc 14.2.1 20240912 (Red Hat 14.2.1-3) Fedora 40 Kernel: Depends on container host Compiler: gcc 14.2.1 20240912 (Red Hat 14.2.1-3) openSUSE Leap 15 Kernel: Depends on container host Compiler: gcc (SUSE Linux) 7.5.0 RHEL8 Kernel: Depends on container host Compiler: gcc 8.5.0 20210514 (Red Hat 8.5.0-22) Ubuntu 20.04 Kernel: Depends on container host Compiler: gcc (Ubuntu 9.4.0-1ubuntu1~20.04.2) 9.4.0 Ubuntu 24.04 Kernel: Depends on container host Compiler: gcc (Ubuntu 13.3.0-6ubuntu2~24.04) 13.3.0 Ubuntu 22.04 Kernel: Depends on container host Compiler: gcc (Ubuntu 11.4.0-1ubuntu1~22.04) 11.4.0 Alpine Kernel: Depends on container host Compiler: gcc (Alpine 14.2.0) 14.2.0 Ubuntu 24.04 32 Bit Cross Compile Kernel: Depends on container host Compiler: gcc (Ubuntu 13.3.0-6ubuntu2~24.04) 13.3.0 FreeBSD 13.5 Kernel: 13.5-RELEASE Compiler: clang 19.1.7 FreeBSD 14.2 Kernel: 14.2-RELEASE Compiler: clang 18.1.6 Fedora 41 (Clang) Kernel: Depends on container host Compiler: clang 19.1.5 (Fedora 19.1.5-1.fc41) RHEL9 Kernel: Depends on container host Compiler: gcc 11.5.0 20240719 (Red Hat 11.5.0-2) Windows Server 2022 Kernel: 10.0.20348.2031 Compiler: clang 15.0.7, gcc 14.1.0 (MinGW), and MSVC VS 19.39.33521 To view detailed results, visit: https://lab.dpdk.org/results/dashboard/tarballs/33417/ UNH-IOL DPDK Community Lab To manage your email subscriptions, visit: https://lab.dpdk.org/results/dashboard/preferences/subscriptions/