From mboxrd@z Thu Jan 1 00:00:00 1970 Return-Path: Received: from mails.dpdk.org (mails.dpdk.org [217.70.189.124]) by inbox.dpdk.org (Postfix) with ESMTP id 1122D466AB for ; Sat, 3 May 2025 14:52:46 +0200 (CEST) Received: from mails.dpdk.org (localhost [127.0.0.1]) by mails.dpdk.org (Postfix) with ESMTP id C3ADE4025D; Sat, 3 May 2025 14:52:45 +0200 (CEST) Received: from mail-il1-f227.google.com (mail-il1-f227.google.com [209.85.166.227]) by mails.dpdk.org (Postfix) with ESMTP id B76A740156 for ; Sat, 3 May 2025 14:52:44 +0200 (CEST) Received: by mail-il1-f227.google.com with SMTP id e9e14a558f8ab-3d6d6d82633so9858015ab.0 for ; Sat, 03 May 2025 05:52:44 -0700 (PDT) DKIM-Signature: v=1; a=rsa-sha256; c=relaxed/relaxed; d=iol.unh.edu; s=unh-iol; t=1746276764; x=1746881564; darn=dpdk.org; h=cc:to:from:subject:message-id:date:from:to:cc:subject:date :message-id:reply-to; bh=ClOzW1RN2uI0EgUI+1iRZ2w02L4ysoY9Ie4ZqWZK9ms=; b=XsmyocUH3R4HPOcScUJcabMpxFdDBnJJWv3zco9uxu4AL0xuSZTxyYpJbRqgDyPJa8 Phj4LtBmkldFzpJrtjgdblzn9Pur21aMFqnqR/whNHFTcIngNWxDEV0Nr4uPcu+efUHD kjSGtiPX+kvzQzw1as6ls4euQTEnw7ubHiRGw= X-Google-DKIM-Signature: v=1; a=rsa-sha256; c=relaxed/relaxed; d=1e100.net; s=20230601; t=1746276764; x=1746881564; h=cc:to:from:subject:message-id:date:x-gm-message-state:from:to:cc :subject:date:message-id:reply-to; bh=ClOzW1RN2uI0EgUI+1iRZ2w02L4ysoY9Ie4ZqWZK9ms=; b=tKyeBOCnoo8AssTK7rGfmsCMPmaXwGJAyHiv9oUzjo4U3uQGVBGIqQqq/IlVRuOoMF aA82h5bRfIxR8g4W8ksT/ma2O2eSPv88RGVETSqbF6hfycz3u5HqDw40OEV/Obt+8256 bJJhDea3Bsa+FB/ddcfBastBvQ1UuuMOYLa/XWH9/lyZ+g0+mCIXHll57v3oRBP59pTZ xgEqZjUvCIsqlVT1vUBn0LGSSVnas9jUg9WXb/BynYEjzS+ExWKuOmCwaJbmPrfagmmC HgoKyDN0EKtaM9Wdggj7OwRh7m/QrIveKq9W513ugiWQDXZq96A6G4EKLVUTuTswnfy9 EK2w== X-Gm-Message-State: AOJu0YxhFJJf+Iu/Kf/lCC6bjpY1dbO75FIswzmoQp27CixGlW/BWTwy +LnrJyapEK3itNuY4PeMA6U46qfiHGmdjUW7oszrUD1e0Mni4rGxmP8DGs7sRUhvj+dPWTZo+Mq Gb3FZV6HjOJdxutD2xe/EvTSW9AHgifDbHlkpfA48+wecLM7HRBPOIyew X-Gm-Gg: ASbGnctuLLZYhOId/7/Ow5pICNRp1/19dAwGc9+4DsNLNJQycTaidTpL0pYZBkjj/m4 0jc2tq12OeHa2F9c6cmPeWLA05oQhkhSiZBA3H/bZjothMDnw0Xv//FqJ2XPV3ZbzKA2C3P9P7e 3YgIHGLXVnhDO6B1bzn9LpVIyk3H17mdz8DYDhB+cnOZpUw7PjJBeq75mq6VraUx3+N2JkU6IQM bPq4D5uUEExr5cVMEdvyOFrnu++wAGDN7gndcaPHx1OfzVHydw1GnhxognLfosEz271jK4o40JR oMO5D8dULdxa0w6Bn1BGfknAz8hZRSGJ8ExB X-Google-Smtp-Source: AGHT+IHPvRgW64H8kOypFPajbZctWRuca46eQFL0tbgOnFzYbcblaiSgMuajotjpRZASnAWiRXQ5ho3iywPE X-Received: by 2002:a05:6e02:1849:b0:3d9:39ae:b23c with SMTP id e9e14a558f8ab-3da569fb220mr22302985ab.20.1746276764003; Sat, 03 May 2025 05:52:44 -0700 (PDT) Received: from postal.iol.unh.edu (postal.iol.unh.edu. [2606:4100:3880:1234::84]) by smtp-relay.gmail.com with ESMTPS id e9e14a558f8ab-3d976072646sm9845485ab.64.2025.05.03.05.52.43 (version=TLS1_2 cipher=ECDHE-ECDSA-AES128-GCM-SHA256 bits=128/128); Sat, 03 May 2025 05:52:43 -0700 (PDT) X-Relaying-Domain: iol.unh.edu Date: Sat, 03 May 2025 05:52:43 -0700 (PDT) Message-ID: <6816119b.050a0220.1d00a1.b87fSMTPIN_ADDED_MISSING@mx.google.com> Received: from [172.17.0.2] (unknown [172.18.0.74]) by postal.iol.unh.edu (Postfix) with ESMTP id 730486052471; Sat, 3 May 2025 08:52:43 -0400 (EDT) Subject: |SUCCESS| [GIT MASTER] 2665bfb9838fec7ea6c3b2be5831f93ee087b288 From: dpdklab@iol.unh.edu To: Test Report Cc: dpdk-test-reports@iol.unh.edu, Bruce Richardson Content-Type: text/plain X-BeenThere: test-report@dpdk.org X-Mailman-Version: 2.1.29 Precedence: list List-Id: automatic DPDK test reports List-Unsubscribe: , List-Archive: List-Post: List-Help: List-Subscribe: , Errors-To: test-report-bounces@dpdk.org _Testing PASS_ Branch: dpdk-next-net-intel 2665bfb9838fec7ea6c3b2be5831f93ee087b288 --> testing pass Upstream job id: Generic-DPDK-Compile-Meson#384641 Test environment and result as below: +----------------------------------------+--------------------+ | Environment | dpdk_meson_compile | +========================================+====================+ | RHEL9 (ARM) | PASS | +----------------------------------------+--------------------+ | Ubuntu 20.04 ARM GCC Cross Compile | PASS | +----------------------------------------+--------------------+ | Debian 12 with MUSDK | PASS | +----------------------------------------+--------------------+ | Fedora 40 (ARM) | PASS | +----------------------------------------+--------------------+ | Fedora 41 (ARM) | PASS | +----------------------------------------+--------------------+ | Fedora 40 (ARM Clang) | PASS | +----------------------------------------+--------------------+ | Fedora 41 (ARM Clang) | PASS | +----------------------------------------+--------------------+ | Ubuntu 20.04 (ARM) | PASS | +----------------------------------------+--------------------+ | Ubuntu 24.04 (ARM) | PASS | +----------------------------------------+--------------------+ | Ubuntu 22.04 (ARM) | PASS | +----------------------------------------+--------------------+ | CentOS Stream 9 (ARM) | PASS | +----------------------------------------+--------------------+ | CentOS Stream 10 (ARM) | PASS | +----------------------------------------+--------------------+ | Debian 12 (arm) | PASS | +----------------------------------------+--------------------+ | Ubuntu 20.04 ARM Clang Cross Compile | PASS | +----------------------------------------+--------------------+ | Ubuntu 20.04 aarch32 GCC Cross Compile | PASS | +----------------------------------------+--------------------+ | Ubuntu 20.04 ARM SVE | PASS | +----------------------------------------+--------------------+ RHEL9 (ARM) Kernel: Depends on container host Compiler: gcc 11.5.0 20240719 (Red Hat 11.5.0-2) Ubuntu 20.04 ARM GCC Cross Compile Kernel: Depends on container host Compiler: aarch64-linux-gnu-gcc (Ubuntu 9.4.0-1ubuntu1~20.04.2) 9.4.0 Debian 12 with MUSDK Kernel: Depends on container host Compiler: gcc (Debian 12.2.0-14) 12.2.0 Fedora 40 (ARM) Kernel: Depends on container host Compiler: gcc 14.2.1 20240912 (Red Hat 14.2.1-3) Fedora 41 (ARM) Kernel: Depends on container host Compiler: gcc 14.2.1 20240912 (Red Hat 14.2.1-3) Fedora 40 (ARM Clang) Kernel: Depends on container host Compiler: clang 18.1.8 (Fedora 18.1.8-1.fc40) Fedora 41 (ARM Clang) Kernel: Depends on container host Compiler: clang 19.1.5 (Fedora 19.1.5-1.fc41) Ubuntu 20.04 (ARM) Kernel: Depends on container host Compiler: gcc (Ubuntu 9.4.0-1ubuntu1~20.04.2) 9.4.0 Ubuntu 24.04 (ARM) Kernel: Depends on container host Compiler: gcc (Ubuntu 13.3.0-6ubuntu2~24.04) 13.3.0 Ubuntu 22.04 (ARM) Kernel: Depends on container host Compiler: gcc (Ubuntu 11.4.0-1ubuntu1~22.04) 11.4.0 CentOS Stream 9 (ARM) Kernel: Depends on container host Compiler: gcc 11.5.0 20240719 (Red Hat 11.5.0-2) CentOS Stream 10 (ARM) Kernel: Depends on container host Compiler: gcc 14.2.1 20241104 (Red Hat 14.2.1-6) Debian 12 (arm) Kernel: Depends on container host Compiler: gcc (Debian 12.2.0-14) 12.2.0 Ubuntu 20.04 ARM Clang Cross Compile Kernel: Depends on container host Compiler: clang 10.0.0-4ubuntu1 Ubuntu 20.04 aarch32 GCC Cross Compile Kernel: Depends on container host Compiler: gcc 9.4.0 Ubuntu 20.04 ARM SVE Kernel: Depends on container host Compiler: gcc (Ubuntu 10.5.0-1ubuntu1~20.04) 10.5.0 To view detailed results, visit: https://lab.dpdk.org/results/dashboard/tarballs/33417/ UNH-IOL DPDK Community Lab To manage your email subscriptions, visit: https://lab.dpdk.org/results/dashboard/preferences/subscriptions/