From mboxrd@z Thu Jan  1 00:00:00 1970
Return-Path: <test-report-bounces@dpdk.org>
Received: from mails.dpdk.org (mails.dpdk.org [217.70.189.124])
	by inbox.dpdk.org (Postfix) with ESMTP id 84D9A466B4
	for <public@inbox.dpdk.org>; Sun,  4 May 2025 03:18:14 +0200 (CEST)
Received: from mails.dpdk.org (localhost [127.0.0.1])
	by mails.dpdk.org (Postfix) with ESMTP id 3011D4025D;
	Sun,  4 May 2025 03:18:14 +0200 (CEST)
Received: from mail-il1-f226.google.com (mail-il1-f226.google.com
 [209.85.166.226])
 by mails.dpdk.org (Postfix) with ESMTP id B490E40156
 for <test-report@dpdk.org>; Sun,  4 May 2025 03:18:12 +0200 (CEST)
Received: by mail-il1-f226.google.com with SMTP id
 e9e14a558f8ab-3d948ce7d9dso11358485ab.2
 for <test-report@dpdk.org>; Sat, 03 May 2025 18:18:12 -0700 (PDT)
DKIM-Signature: v=1; a=rsa-sha256; c=relaxed/relaxed;
 d=iol.unh.edu; s=unh-iol; t=1746321492; x=1746926292; darn=dpdk.org;
 h=cc:to:from:subject:message-id:date:from:to:cc:subject:date
 :message-id:reply-to;
 bh=A4jZyS48U6sWvEzAQDmc0jhak8QeHboqKHeqJvHVirU=;
 b=ijppOLV6CpQjjy4/95I5Mnh5QEo30e26vstI7qrz5dglzU+m5Tag5l2b01oDuH43ZA
 vsOXPf0P6y7BPKvbZLAWC4R5VFRvYsRVwUBGKtbJbE4sPuCAIGls0DAN23NNMp0Rs/Fm
 3Zse77eTvO7uVf9uycDt6GrXUqvNgr7bEt0ak=
X-Google-DKIM-Signature: v=1; a=rsa-sha256; c=relaxed/relaxed;
 d=1e100.net; s=20230601; t=1746321492; x=1746926292;
 h=cc:to:from:subject:message-id:date:x-gm-message-state:from:to:cc
 :subject:date:message-id:reply-to;
 bh=A4jZyS48U6sWvEzAQDmc0jhak8QeHboqKHeqJvHVirU=;
 b=xPGUSLul7BchNoFaYKcOyjTpks6v8P3MenyOtEziJ7CStNRcZgAEQhvzH5Y6INwDpF
 JA191i42o2UQcVZYb+UqGUTcdo0X/Ie0lPUlz65WtH5KBoWVulXjOJ/D4DDZ4skAHagE
 cAkXo7FIekp8X+oOm2e37WRuTo/JPLRRzp6s0qEW7PaifvJQ+gsccupV8erp7rkLseJW
 PgH3pwrDbC5yBHxudzXRogBR10LJJAwT0iTpLMGZWeFN3SmKCC+ltAuAuByF4tLVbjH7
 9j3NwSnsx2RpxWvE65XZtCegCvexHPm/HTGFIZ06OSEbh2Euiay1BzPTY4rUvzHdFYkV
 zCyw==
X-Gm-Message-State: AOJu0Ywavbh0eqWy4iosQ3D75opJF4pKxYsgExpWWAAQt3gx7MTghfSt
 PsAdyPB0KANpt9vN+ExKc49NKgBJ8n/mtWXXoo15rLexF8jjOL7TyRnM7qV4Q4uzpSr3UjcPid7
 ic/XHlvmqPlwa5cPlwMsOPGPJpt4OApn2BFf5XMwt
X-Gm-Gg: ASbGncsMmR1fiM6ItarHkWpzY+smH5Sl6z+nVzL0jblBp8kM6WcbA77SFyS6o7YxiMT
 fn7b8t+3IER0mUHybnTyOtNAKQVlQxpdIJlUjQwvsQwKF/nwGy6Zd5bISbGKFF9gm7m69bCPZSY
 ydwBAF2tXAcJ90UoGMjZeZJsYlwWTRW8/WjiTzizXeY1KlVzHx2E0yNWeKB9QN3oFDwzG/zHjb6
 gk+hVp6SVh782s5l9DnAH8oFnxQH0NVcsbRALipfpXZNESTghj1NeolwQYw55L+nIeqBtYqBsgP
 51NLWw8qNo6dAYZI8vLZKkAfjD8ImWxMI0n/CPHKohwbP0vxVYgX+TZLVqs=
X-Google-Smtp-Source: AGHT+IGRbG1FSlFLwMbLhAJN13jiWMKi7zDrciiTft7i8oXtqaKo6YKey10VN3F9bVqmWRuzbMoZx2uY4lN/
X-Received: by 2002:a92:cd82:0:b0:3d8:1ea5:26d1 with SMTP id
 e9e14a558f8ab-3da5b31dea7mr24902085ab.18.1746321491918; 
 Sat, 03 May 2025 18:18:11 -0700 (PDT)
Received: from postal.iol.unh.edu (postal.iol.unh.edu. [132.177.123.84])
 by smtp-relay.gmail.com with ESMTPS id
 e9e14a558f8ab-3d975e34b78sm12028965ab.1.2025.05.03.18.18.11
 (version=TLS1_2 cipher=ECDHE-ECDSA-AES128-GCM-SHA256 bits=128/128);
 Sat, 03 May 2025 18:18:11 -0700 (PDT)
X-Relaying-Domain: iol.unh.edu
Date: Sat, 03 May 2025 18:18:11 -0700 (PDT)
Message-ID: <6816c053.050a0220.2cf16a.e30fSMTPIN_ADDED_MISSING@mx.google.com>
Received: from [172.17.0.2] (unknown [172.18.0.74])
 by postal.iol.unh.edu (Postfix) with ESMTP id 5A8E76052471;
 Sat,  3 May 2025 21:18:11 -0400 (EDT)
Subject: |SUCCESS| [GIT MASTER] ca1690ebd224f148268285b15b97441ccdbdd07e
From: dpdklab@iol.unh.edu
To: Test Report <test-report@dpdk.org>
Cc: dpdk-test-reports@iol.unh.edu
Content-Type: text/plain
X-BeenThere: test-report@dpdk.org
X-Mailman-Version: 2.1.29
Precedence: list
List-Id: automatic DPDK test reports <test-report.dpdk.org>
List-Unsubscribe: <https://mails.dpdk.org/options/test-report>,
 <mailto:test-report-request@dpdk.org?subject=unsubscribe>
List-Archive: <http://mails.dpdk.org/archives/test-report/>
List-Post: <mailto:test-report@dpdk.org>
List-Help: <mailto:test-report-request@dpdk.org?subject=help>
List-Subscribe: <https://mails.dpdk.org/listinfo/test-report>,
 <mailto:test-report-request@dpdk.org?subject=subscribe>
Errors-To: test-report-bounces@dpdk.org

_Testing PASS_

Branch: dpdk

ca1690ebd224f148268285b15b97441ccdbdd07e --> testing pass

Upstream job id: Generic-Unit-Test-DPDK#334980

Test environment and result as below:

+------------------------+----------------+--------------+---------------------------+------------------------------+
|      Environment       | dpdk_unit_test | lpm_autotest | cryptodev_sw_zuc_autotest | cryptodev_sw_snow3g_autotest |
+========================+================+==============+===========================+==============================+
| Debian 12 (arm)        | PASS           | SKIPPED      | PASS                      | PASS                         |
+------------------------+----------------+--------------+---------------------------+------------------------------+
| CentOS Stream 9 (ARM)  | PASS           | SKIPPED      | SKIPPED                   | SKIPPED                      |
+------------------------+----------------+--------------+---------------------------+------------------------------+
| CentOS Stream 10 (ARM) | PASS           | SKIPPED      | SKIPPED                   | SKIPPED                      |
+------------------------+----------------+--------------+---------------------------+------------------------------+
| Fedora 40 (ARM)        | PASS           | SKIPPED      | SKIPPED                   | SKIPPED                      |
+------------------------+----------------+--------------+---------------------------+------------------------------+
| Fedora 40 (ARM Clang)  | PASS           | SKIPPED      | SKIPPED                   | SKIPPED                      |
+------------------------+----------------+--------------+---------------------------+------------------------------+
| Fedora 41 (ARM)        | PASS           | SKIPPED      | SKIPPED                   | SKIPPED                      |
+------------------------+----------------+--------------+---------------------------+------------------------------+
| RHEL9 (ARM)            | PASS           | SKIPPED      | SKIPPED                   | SKIPPED                      |
+------------------------+----------------+--------------+---------------------------+------------------------------+
| Fedora 41 (ARM Clang)  | PASS           | SKIPPED      | SKIPPED                   | SKIPPED                      |
+------------------------+----------------+--------------+---------------------------+------------------------------+
| Ubuntu 22.04 (ARM)     | PASS           | SKIPPED      | SKIPPED                   | SKIPPED                      |
+------------------------+----------------+--------------+---------------------------+------------------------------+
| Ubuntu 24.04 (ARM)     | PASS           | SKIPPED      | SKIPPED                   | SKIPPED                      |
+------------------------+----------------+--------------+---------------------------+------------------------------+
| Ubuntu 20.04 (ARM)     | PASS           | SKIPPED      | SKIPPED                   | SKIPPED                      |
+------------------------+----------------+--------------+---------------------------+------------------------------+
| Ubuntu 20.04 ARM SVE   | SKIPPED        | PASS         | SKIPPED                   | SKIPPED                      |
+------------------------+----------------+--------------+---------------------------+------------------------------+


Debian 12 (arm)
	Kernel: Depends on container host
	Compiler: gcc (Debian 12.2.0-14) 12.2.0

CentOS Stream 9 (ARM)
	Kernel: Depends on container host
	Compiler: gcc 11.5.0 20240719 (Red Hat 11.5.0-2)

CentOS Stream 10 (ARM)
	Kernel: Depends on container host
	Compiler: gcc 14.2.1 20241104 (Red Hat 14.2.1-6)

Fedora 40 (ARM)
	Kernel: Depends on container host
	Compiler: gcc 14.2.1 20240912 (Red Hat 14.2.1-3)

Fedora 40 (ARM Clang)
	Kernel: Depends on container host
	Compiler: clang 18.1.8 (Fedora 18.1.8-1.fc40)

Fedora 41 (ARM)
	Kernel: Depends on container host
	Compiler: gcc 14.2.1 20240912 (Red Hat 14.2.1-3)

RHEL9 (ARM)
	Kernel: Depends on container host
	Compiler: gcc 11.5.0 20240719 (Red Hat 11.5.0-2)

Fedora 41 (ARM Clang)
	Kernel: Depends on container host
	Compiler: clang 19.1.5 (Fedora 19.1.5-1.fc41)

Ubuntu 22.04 (ARM)
	Kernel: Depends on container host
	Compiler: gcc (Ubuntu 11.4.0-1ubuntu1~22.04) 11.4.0

Ubuntu 24.04 (ARM)
	Kernel: Depends on container host
	Compiler: gcc (Ubuntu 13.3.0-6ubuntu2~24.04) 13.3.0

Ubuntu 20.04 (ARM)
	Kernel: Depends on container host
	Compiler: gcc (Ubuntu 9.4.0-1ubuntu1~20.04.2) 9.4.0

Ubuntu 20.04 ARM SVE
	Kernel: Depends on container host
	Compiler: gcc (Ubuntu 10.5.0-1ubuntu1~20.04) 10.5.0

To view detailed results, visit:
https://lab.dpdk.org/results/dashboard/tarballs/33418/

UNH-IOL DPDK Community Lab

To manage your email subscriptions, visit: 
https://lab.dpdk.org/results/dashboard/preferences/subscriptions/