From mboxrd@z Thu Jan 1 00:00:00 1970 Return-Path: Received: from mails.dpdk.org (mails.dpdk.org [217.70.189.124]) by inbox.dpdk.org (Postfix) with ESMTP id CCB1B466B4 for ; Sun, 4 May 2025 03:23:16 +0200 (CEST) Received: from mails.dpdk.org (localhost [127.0.0.1]) by mails.dpdk.org (Postfix) with ESMTP id AD0394025D; Sun, 4 May 2025 03:23:16 +0200 (CEST) Received: from mail-pl1-f226.google.com (mail-pl1-f226.google.com [209.85.214.226]) by mails.dpdk.org (Postfix) with ESMTP id 0C68F40156 for ; Sun, 4 May 2025 03:23:15 +0200 (CEST) Received: by mail-pl1-f226.google.com with SMTP id d9443c01a7336-2243803b776so57244755ad.0 for ; Sat, 03 May 2025 18:23:15 -0700 (PDT) DKIM-Signature: v=1; a=rsa-sha256; c=relaxed/relaxed; d=iol.unh.edu; s=unh-iol; t=1746321795; x=1746926595; darn=dpdk.org; h=cc:to:from:subject:message-id:date:from:to:cc:subject:date :message-id:reply-to; bh=snWDY7qTAqLOid/DEuXe2SQdqcoInFWEDlkAA8mCsvA=; b=iMeIdgk7ay4cVpqTUyc0nzHu8LckXj506+TOpqlFJ71o3YDfR0Ypiy/T+v5cnn9XAP xy5JqActIefs0sOTINgHxYlXkEEqJ/1zeFeIrDtPA4bFgSZbSBukEhwTOUjXqdZlmrgD UwCZ76vKJSV165p4O3MsEL80XouO5hP/SP0sU= X-Google-DKIM-Signature: v=1; a=rsa-sha256; c=relaxed/relaxed; d=1e100.net; s=20230601; t=1746321795; x=1746926595; h=cc:to:from:subject:message-id:date:x-gm-message-state:from:to:cc :subject:date:message-id:reply-to; bh=snWDY7qTAqLOid/DEuXe2SQdqcoInFWEDlkAA8mCsvA=; b=LQFaNtpGrgC1rT0rYaqa10ZXlQFAcoqgS9dCeAgvMYWeNTymfqZxCL2ptZWz9o+MaY V3+kj7lXA+bkr7aAnb2V+FcdF5fVIt2XwLvkYLrBEcSKmp8dXJ6cJf5zVXHacH3n+ywR /yKnKlWhitJGZd1/rUxzrAGanqgJlpYtx3bwybOSOfyccobFi8SKBPzGXpQSgBzwZ9qe XJ1hBwOjDH2WKSBghkWicZzVB7QRYDcODfzHiLwBLl/FdKK6p8/mjOyyHvZInay1Sf/A /gowGVc7muwNZY8FA02bhVWKaMU2xag22F4SWYsKpd1dZQ19GngGiUTGbhd2aJZXufP6 5dEQ== X-Gm-Message-State: AOJu0YyUpOQC+/xq9yucE/5WyL9D3/3KLamd7z13hTQI1XLCK/yV/FOx eqaQTRx4Ao2q8U0Z+ol3OfjB+fUGTsijQ6XaMt+K6S807QQ/Ci4xrVNgQPbg7+p2cvMQ1Gm5+Mn BmzLezOMP8HZj99lK6mGd3AsevCo0qjf+4Z5Ny/j5 X-Gm-Gg: ASbGncvqVEuYOq1HSd7v46VcZ3aGME7SNGongyPi3pTauvrggiamDul+fICC9ptkYvM Gq3TvIiqqtl/WYpDG6rGbPocdtQ2nl83M+VX+poqdil/vTgmyoX2awfq0aXzX2Jefpzd04V6PRp cevZN0wwSsfveUngcIGXVF7/5CQsI1MEasOYff26x+926uOFKA+nfPS5bDgfdDzcTbdQP19AGuH p1ra1VHPzmHUmljjZxRSXemWatvaJcfC25u5e6ZXBP1GkrwpabrZqRIFbc+Wqof7HO/thbx7xRE 2aJDgWQX/0RuBVJVQyLMsVmD0ovw7DPsel4vKZFaets2wO7jsNBZIC6Rlo8= X-Google-Smtp-Source: AGHT+IHVTHGf7O+4i//dMGydzNAAEiE53DAyKczb8vB8H9wY0lAhFXeKju+EA3I7a5JQ6wibyjjG9JI62FjU X-Received: by 2002:a17:902:ea11:b0:224:a79:5fe9 with SMTP id d9443c01a7336-22e18bd2caamr58979765ad.30.1746321794891; Sat, 03 May 2025 18:23:14 -0700 (PDT) Received: from postal.iol.unh.edu (postal.iol.unh.edu. [132.177.123.84]) by smtp-relay.gmail.com with ESMTPS id d9443c01a7336-22e150eb063sm7559885ad.17.2025.05.03.18.23.14 (version=TLS1_2 cipher=ECDHE-ECDSA-AES128-GCM-SHA256 bits=128/128); Sat, 03 May 2025 18:23:14 -0700 (PDT) X-Relaying-Domain: iol.unh.edu Date: Sat, 03 May 2025 18:23:14 -0700 (PDT) Message-ID: <6816c182.170a0220.191091.9e14SMTPIN_ADDED_MISSING@mx.google.com> Received: from [172.17.0.2] (unknown [172.18.0.74]) by postal.iol.unh.edu (Postfix) with ESMTP id F11B06052471; Sat, 3 May 2025 21:23:13 -0400 (EDT) Subject: |SUCCESS| [GIT MASTER] ca1690ebd224f148268285b15b97441ccdbdd07e From: dpdklab@iol.unh.edu To: Test Report Cc: dpdk-test-reports@iol.unh.edu Content-Type: text/plain X-BeenThere: test-report@dpdk.org X-Mailman-Version: 2.1.29 Precedence: list List-Id: automatic DPDK test reports List-Unsubscribe: , List-Archive: List-Post: List-Help: List-Subscribe: , Errors-To: test-report-bounces@dpdk.org _Testing PASS_ Branch: dpdk ca1690ebd224f148268285b15b97441ccdbdd07e --> testing pass Upstream job id: Generic-Unit-Test-DPDK#334966 Test environment and result as below: +-------------------+----------------+ | Environment | dpdk_unit_test | +===================+================+ | CentOS Stream 9 | PASS | +-------------------+----------------+ | Arch Linux | PASS | +-------------------+----------------+ | Fedora 40 (Clang) | PASS | +-------------------+----------------+ | Debian 12 | PASS | +-------------------+----------------+ | CentOS Stream 10 | PASS | +-------------------+----------------+ | Fedora 40 | PASS | +-------------------+----------------+ | Fedora 41 (Clang) | PASS | +-------------------+----------------+ | RHEL8 | PASS | +-------------------+----------------+ | RHEL9 | PASS | +-------------------+----------------+ | Fedora 41 | PASS | +-------------------+----------------+ | Ubuntu 20.04 | PASS | +-------------------+----------------+ | Ubuntu 22.04 | PASS | +-------------------+----------------+ | Ubuntu 24.04 | PASS | +-------------------+----------------+ CentOS Stream 9 Kernel: Depends on container host Compiler: gcc 11.5.0 20240719 (Red Hat 11.5.0-2) Arch Linux Kernel: Depends on container host Compiler: gcc 14.2.1 20240910 Fedora 40 (Clang) Kernel: Depends on container host Compiler: clang 18.1.8 (Fedora 18.1.8-1.fc40) Debian 12 Kernel: Depends on container host Compiler: gcc (Debian 12.2.0-14) 12.2.0 CentOS Stream 10 Kernel: Depends on container host Compiler: gcc 14.2.1 20241104 (Red Hat 14.2.1-6) Fedora 40 Kernel: Depends on container host Compiler: gcc 14.2.1 20240912 (Red Hat 14.2.1-3) Fedora 41 (Clang) Kernel: Depends on container host Compiler: clang 19.1.5 (Fedora 19.1.5-1.fc41) RHEL8 Kernel: Depends on container host Compiler: gcc 8.5.0 20210514 (Red Hat 8.5.0-22) RHEL9 Kernel: Depends on container host Compiler: gcc 11.5.0 20240719 (Red Hat 11.5.0-2) Fedora 41 Kernel: Depends on container host Compiler: gcc 14.2.1 20240912 (Red Hat 14.2.1-3) Ubuntu 20.04 Kernel: Depends on container host Compiler: gcc (Ubuntu 9.4.0-1ubuntu1~20.04.2) 9.4.0 Ubuntu 22.04 Kernel: Depends on container host Compiler: gcc (Ubuntu 11.4.0-1ubuntu1~22.04) 11.4.0 Ubuntu 24.04 Kernel: Depends on container host Compiler: gcc (Ubuntu 13.3.0-6ubuntu2~24.04) 13.3.0 To view detailed results, visit: https://lab.dpdk.org/results/dashboard/tarballs/33418/ UNH-IOL DPDK Community Lab To manage your email subscriptions, visit: https://lab.dpdk.org/results/dashboard/preferences/subscriptions/