From mboxrd@z Thu Jan 1 00:00:00 1970 Return-Path: Received: from mails.dpdk.org (mails.dpdk.org [217.70.189.124]) by inbox.dpdk.org (Postfix) with ESMTP id DA3C0466B4 for ; Sun, 4 May 2025 03:23:41 +0200 (CEST) Received: from mails.dpdk.org (localhost [127.0.0.1]) by mails.dpdk.org (Postfix) with ESMTP id CB58E4025D; Sun, 4 May 2025 03:23:41 +0200 (CEST) Received: from mail-qv1-f97.google.com (mail-qv1-f97.google.com [209.85.219.97]) by mails.dpdk.org (Postfix) with ESMTP id 6E82240156 for ; Sun, 4 May 2025 03:23:40 +0200 (CEST) Received: by mail-qv1-f97.google.com with SMTP id 6a1803df08f44-6f0cfbe2042so42521556d6.1 for ; Sat, 03 May 2025 18:23:40 -0700 (PDT) DKIM-Signature: v=1; a=rsa-sha256; c=relaxed/relaxed; d=iol.unh.edu; s=unh-iol; t=1746321820; x=1746926620; darn=dpdk.org; h=cc:to:from:subject:message-id:date:from:to:cc:subject:date :message-id:reply-to; bh=Bx8FSFPdxfoNSYKVH6cP5GH1TzRFiQH6o5Zj9jfBg4U=; b=BPBE+LYxP3hRwFYa6lMbhA6q6/xeTyaovAolGrV9beQfoNFmA643W6Ho9QS54bqWIC G8xWxRHD0JD8OGK7M+zVg1AoXOonWKYFVRnSKgxSeTjZRSMDEXEEurvSJ4WhPpwPnpnn JyzoqlsZMNo3usIGI7EbBwTmNkQcHU9VGBR4U= X-Google-DKIM-Signature: v=1; a=rsa-sha256; c=relaxed/relaxed; d=1e100.net; s=20230601; t=1746321820; x=1746926620; h=cc:to:from:subject:message-id:date:x-gm-message-state:from:to:cc :subject:date:message-id:reply-to; bh=Bx8FSFPdxfoNSYKVH6cP5GH1TzRFiQH6o5Zj9jfBg4U=; b=ekYZANwwRhnW3VZPt++UAOUUNevVOGDZJczA7R2RoyzVYEAYGZckLtVnkOwCXgbIEM qQcB9flbJ60lUWU5LxzBTmuyDjMaahcuMdT6UAtam5oSlSL6I1ZwQ8tKwYbkocIk/pjU QDAq1V+xjqHMY+M7eP7ikt++kNy+dzsglgdNVM3kz7s9xCNQWPQaOjyYV+9TBDVNsvhk 1kbp1/fC4nG1aEd92NusWXZwfxe5C3p9pj7o2TU5xR81+GosOhuOLNgLboy+mPutALPd ld49qf0jdj5agRhBBVrRxfren80P1oYTuOvpzJV1rIqxJRInYMkvbiw6iprd4bQp12OG cLMQ== X-Gm-Message-State: AOJu0YzgDPY/ygW7tdhS5a79gF4xqbnbYvSw/e9d67M7GNNQyn/vvb4l bEymC1S0xQn83RIXnAPfV+2LpoHib9V/vYkWxv2DUszunfvlYzY+poJDGKD+I9AT4cqz0cA7cSz 4LNgUJZjmBQ0TMVqaF84teLCkDsNpb7OTuJLldfDi8sULfHPqgkjv6kO8 X-Gm-Gg: ASbGncs1He2LvAHybrxB4tLlwee3Yls2+yGoxbi8X70bshpCyFuW9wrspLkfs2q+6PQ fZClqsWexSODU1xtaVTV1vVLa/2mdCAesgRPyOprASRGruoxX1ZJU3APhOcd8CGfrRDV7RgDtld cZ7rdEKZVDfUKA2ZTS2kfiO7QY5RoabucR+5cjCIlRmMioeU6KLCWk3l4L0iknytfCMDr4jh8Uw VNBNjmyQCc+9wyAW9A77flEXGIXtxH8k9sPc1mSRRL5Ac+XDAFyVMegBt2xBmsuN+dLdJAs1afX 2DtQzh56pGNc3ynnZxbs1hjjG5ySN5mEcCM0 X-Google-Smtp-Source: AGHT+IFzCbm+ByOSJR3PzD4sc2NTV780gYjZsDo9Zs3RpsbTaHURTOKCv0XRHjPJ5JVaOwbVaOVx8SKOpllj X-Received: by 2002:a05:6214:b6a:b0:6eb:1c23:63c3 with SMTP id 6a1803df08f44-6f50b09792amr158987046d6.0.1746321819753; Sat, 03 May 2025 18:23:39 -0700 (PDT) Received: from postal.iol.unh.edu (postal.iol.unh.edu. [2606:4100:3880:1234::84]) by smtp-relay.gmail.com with ESMTPS id 6a1803df08f44-6f50f3ad3c3sm12389766d6.12.2025.05.03.18.23.39 (version=TLS1_2 cipher=ECDHE-ECDSA-AES128-GCM-SHA256 bits=128/128); Sat, 03 May 2025 18:23:39 -0700 (PDT) X-Relaying-Domain: iol.unh.edu Date: Sat, 03 May 2025 18:23:39 -0700 (PDT) Message-ID: <6816c19b.d40a0220.4206b.e020SMTPIN_ADDED_MISSING@mx.google.com> Received: from [172.17.0.3] (unknown [172.18.0.74]) by postal.iol.unh.edu (Postfix) with ESMTP id 72CE66052471; Sat, 3 May 2025 21:23:39 -0400 (EDT) Subject: |SUCCESS| [GIT MASTER] ca1690ebd224f148268285b15b97441ccdbdd07e From: dpdklab@iol.unh.edu To: Test Report Cc: dpdk-test-reports@iol.unh.edu Content-Type: text/plain X-BeenThere: test-report@dpdk.org X-Mailman-Version: 2.1.29 Precedence: list List-Id: automatic DPDK test reports List-Unsubscribe: , List-Archive: List-Post: List-Help: List-Subscribe: , Errors-To: test-report-bounces@dpdk.org _Testing PASS_ Branch: dpdk ca1690ebd224f148268285b15b97441ccdbdd07e --> testing pass Upstream job id: Generic-DPDK-Compile-ABI#125085 Test environment and result as below: +-------------------+----------+ | Environment | abi_test | +===================+==========+ | CentOS Stream 10 | PASS | +-------------------+----------+ | CentOS Stream 9 | PASS | +-------------------+----------+ | Debian 12 | PASS | +-------------------+----------+ | Fedora 40 (Clang) | PASS | +-------------------+----------+ | RHEL8 | PASS | +-------------------+----------+ | openSUSE Leap 15 | PASS | +-------------------+----------+ | Ubuntu 22.04 | PASS | +-------------------+----------+ | Fedora 41 | PASS | +-------------------+----------+ | Ubuntu 24.04 | PASS | +-------------------+----------+ | Fedora 41 (Clang) | PASS | +-------------------+----------+ | Fedora 40 | PASS | +-------------------+----------+ | RHEL9 | PASS | +-------------------+----------+ | Arch Linux | PASS | +-------------------+----------+ CentOS Stream 10 Kernel: Depends on container host Compiler: gcc 14.2.1 20241104 (Red Hat 14.2.1-6) CentOS Stream 9 Kernel: Depends on container host Compiler: gcc 11.5.0 20240719 (Red Hat 11.5.0-2) Debian 12 Kernel: Depends on container host Compiler: gcc (Debian 12.2.0-14) 12.2.0 Fedora 40 (Clang) Kernel: Depends on container host Compiler: clang 18.1.8 (Fedora 18.1.8-1.fc40) RHEL8 Kernel: Depends on container host Compiler: gcc 8.5.0 20210514 (Red Hat 8.5.0-22) openSUSE Leap 15 Kernel: Depends on container host Compiler: gcc (SUSE Linux) 7.5.0 Ubuntu 22.04 Kernel: Depends on container host Compiler: gcc (Ubuntu 11.4.0-1ubuntu1~22.04) 11.4.0 Fedora 41 Kernel: Depends on container host Compiler: gcc 14.2.1 20240912 (Red Hat 14.2.1-3) Ubuntu 24.04 Kernel: Depends on container host Compiler: gcc (Ubuntu 13.3.0-6ubuntu2~24.04) 13.3.0 Fedora 41 (Clang) Kernel: Depends on container host Compiler: clang 19.1.5 (Fedora 19.1.5-1.fc41) Fedora 40 Kernel: Depends on container host Compiler: gcc 14.2.1 20240912 (Red Hat 14.2.1-3) RHEL9 Kernel: Depends on container host Compiler: gcc 11.5.0 20240719 (Red Hat 11.5.0-2) Arch Linux Kernel: Depends on container host Compiler: gcc 14.2.1 20240910 To view detailed results, visit: https://lab.dpdk.org/results/dashboard/tarballs/33418/ UNH-IOL DPDK Community Lab To manage your email subscriptions, visit: https://lab.dpdk.org/results/dashboard/preferences/subscriptions/