From mboxrd@z Thu Jan  1 00:00:00 1970
Return-Path: <test-report-bounces@dpdk.org>
Received: from mails.dpdk.org (mails.dpdk.org [217.70.189.124])
	by inbox.dpdk.org (Postfix) with ESMTP id 2D58D466B4
	for <public@inbox.dpdk.org>; Sun,  4 May 2025 03:25:37 +0200 (CEST)
Received: from mails.dpdk.org (localhost [127.0.0.1])
	by mails.dpdk.org (Postfix) with ESMTP id 0DCD64025D;
	Sun,  4 May 2025 03:25:37 +0200 (CEST)
Received: from mail-qv1-f100.google.com (mail-qv1-f100.google.com
 [209.85.219.100])
 by mails.dpdk.org (Postfix) with ESMTP id C713940156
 for <test-report@dpdk.org>; Sun,  4 May 2025 03:25:35 +0200 (CEST)
Received: by mail-qv1-f100.google.com with SMTP id
 6a1803df08f44-6e8ec399427so32665506d6.2
 for <test-report@dpdk.org>; Sat, 03 May 2025 18:25:35 -0700 (PDT)
DKIM-Signature: v=1; a=rsa-sha256; c=relaxed/relaxed;
 d=iol.unh.edu; s=unh-iol; t=1746321935; x=1746926735; darn=dpdk.org;
 h=cc:to:from:subject:message-id:date:from:to:cc:subject:date
 :message-id:reply-to;
 bh=0nUx6+D5okgCBflzJna5M3yDFXT4J92dvsGbKYHG9Bo=;
 b=QzRiVIqO67cGvFRIYm9I1Gf9enMEXcGzu9zLcLdsXcsAOl9L19ZWJsxM8iCKCKc6KP
 U2KASRWxltEdPXiDuobKUgTsuSkyT9TAFDyY+mh41pnH4neOUVGDrEpCKjN3ItXXOoeH
 GQHMkHZeECMn46Batl6d4MgkUJZiIwX8yucls=
X-Google-DKIM-Signature: v=1; a=rsa-sha256; c=relaxed/relaxed;
 d=1e100.net; s=20230601; t=1746321935; x=1746926735;
 h=cc:to:from:subject:message-id:date:x-gm-message-state:from:to:cc
 :subject:date:message-id:reply-to;
 bh=0nUx6+D5okgCBflzJna5M3yDFXT4J92dvsGbKYHG9Bo=;
 b=nrdpNcx8K84MnvDNEjrgRMSP1gnsE5zLWbT38ilhlb1R8VXYtPgauQtWo5AZxdO1Df
 wX3ycKGE7pdBdO1UvFj2Oh5odD2SwPG1wISgokH1TPd+aEvOE7b2Ib3m0gC8pZPDCBzn
 IbMYlzGfclXU2tkaDAh7jcdVn/w72h7Mp5BXUvfXzAFP1+2kC+GHLMOogkLRXsGvAlUP
 jPmCxIunL4Tc91iT44w52aFCiQSUIF6mU5uc8+SP+8waaMAbNKUiz3ygyzYRbyp4wbFA
 eCeqALE3DqKsuGovMg3TLJH7UtqXpanaITgfFviAcyu9WYURJkdlvUJ3EToKNriQuY9D
 tr6w==
X-Gm-Message-State: AOJu0YyVMQSf712WOyl2yLSRnkwR/DhbURDIPpr9kpFIrShm8oXf58JX
 T9FEu/RpYDVSTYK5CM68YEOntt2FXhf2CX+f8CtTG+oEHZA8D3Cms1lR4jg6FryPDXKwfcg5S0k
 0FcVu8VOYc1qTHUs67tK3wkTK6pwcogr0Bhzx6gWv
X-Gm-Gg: ASbGncsd1TdZZRBjRfTKRuESfyZyBhwr71EpyWtYwYjjoNJk9zP+MNjM+pqGEix9q73
 oFlSwoKEyR3X0u8SgDc6AHsdfa0VuVQu3gM4H9BdPywVHg8I2DbX02WGK7HiWS5NnMjA1KRPvOn
 8dBa+Gf9Ov1iSYy5i/jTy7sko2zGT7gjH603EBtKFRF0YIDgb297HV0gIEv41VkqX2X8lHyMz4z
 q5ic1w5M83v/bgkr2hbdiyp9cvYZtYGQHFXazNIG8cfhTSMZQuPi+9bPoHOVC4mIWd7HWJNn0mG
 hC5HIagJ2MWiKAnVT7r1Y6wq3Gl84dvQfKXGvcZlFk1OiHociXnUOXEONNw=
X-Google-Smtp-Source: AGHT+IHP6n3+LK2bhN3xRfeoGLJj5SwcZtFP2HZ1m2+jG5+NIB8mVOGV430nk+N12Xf0fk9RRnqgIQsCyHRO
X-Received: by 2002:a05:6214:21a7:b0:6e8:97d2:99a2 with SMTP id
 6a1803df08f44-6f5238568fcmr59753096d6.39.1746321935097; 
 Sat, 03 May 2025 18:25:35 -0700 (PDT)
Received: from postal.iol.unh.edu (postal.iol.unh.edu. [132.177.123.84])
 by smtp-relay.gmail.com with ESMTPS id
 6a1803df08f44-6f50f3bf0a6sm12268636d6.23.2025.05.03.18.25.35
 (version=TLS1_2 cipher=ECDHE-ECDSA-AES128-GCM-SHA256 bits=128/128);
 Sat, 03 May 2025 18:25:35 -0700 (PDT)
X-Relaying-Domain: iol.unh.edu
Date: Sat, 03 May 2025 18:25:35 -0700 (PDT)
Message-ID: <6816c20f.d40a0220.3da9a8.e500SMTPIN_ADDED_MISSING@mx.google.com>
Received: from [172.17.0.2] (unknown [172.18.0.74])
 by postal.iol.unh.edu (Postfix) with ESMTP id CDEA96052471;
 Sat,  3 May 2025 21:25:34 -0400 (EDT)
Subject: |SUCCESS| [GIT MASTER] ca1690ebd224f148268285b15b97441ccdbdd07e
From: dpdklab@iol.unh.edu
To: Test Report <test-report@dpdk.org>
Cc: dpdk-test-reports@iol.unh.edu
Content-Type: text/plain
X-BeenThere: test-report@dpdk.org
X-Mailman-Version: 2.1.29
Precedence: list
List-Id: automatic DPDK test reports <test-report.dpdk.org>
List-Unsubscribe: <https://mails.dpdk.org/options/test-report>,
 <mailto:test-report-request@dpdk.org?subject=unsubscribe>
List-Archive: <http://mails.dpdk.org/archives/test-report/>
List-Post: <mailto:test-report@dpdk.org>
List-Help: <mailto:test-report-request@dpdk.org?subject=help>
List-Subscribe: <https://mails.dpdk.org/listinfo/test-report>,
 <mailto:test-report-request@dpdk.org?subject=subscribe>
Errors-To: test-report-bounces@dpdk.org

_Testing PASS_

Branch: dpdk

ca1690ebd224f148268285b15b97441ccdbdd07e --> testing pass

Upstream job id: Generic-DPDK-Compile-ABI#125075

Test environment and result as below:

+-------------------+----------+
|    Environment    | abi_test |
+===================+==========+
| CentOS Stream 10  | PASS     |
+-------------------+----------+
| CentOS Stream 9   | PASS     |
+-------------------+----------+
| Debian 12         | PASS     |
+-------------------+----------+
| Fedora 40 (Clang) | PASS     |
+-------------------+----------+
| RHEL8             | PASS     |
+-------------------+----------+
| openSUSE Leap 15  | PASS     |
+-------------------+----------+
| Ubuntu 22.04      | PASS     |
+-------------------+----------+
| Fedora 41         | PASS     |
+-------------------+----------+
| Ubuntu 24.04      | PASS     |
+-------------------+----------+
| Fedora 41 (Clang) | PASS     |
+-------------------+----------+
| Fedora 40         | PASS     |
+-------------------+----------+
| RHEL9             | PASS     |
+-------------------+----------+
| Arch Linux        | PASS     |
+-------------------+----------+


CentOS Stream 10
	Kernel: Depends on container host
	Compiler: gcc 14.2.1 20241104 (Red Hat 14.2.1-6)

CentOS Stream 9
	Kernel: Depends on container host
	Compiler: gcc 11.5.0 20240719 (Red Hat 11.5.0-2)

Debian 12
	Kernel: Depends on container host
	Compiler: gcc (Debian 12.2.0-14) 12.2.0

Fedora 40 (Clang)
	Kernel: Depends on container host
	Compiler: clang 18.1.8 (Fedora 18.1.8-1.fc40)

RHEL8
	Kernel: Depends on container host
	Compiler: gcc 8.5.0 20210514 (Red Hat 8.5.0-22)

openSUSE Leap 15
	Kernel: Depends on container host
	Compiler: gcc (SUSE Linux) 7.5.0

Ubuntu 22.04
	Kernel: Depends on container host
	Compiler: gcc (Ubuntu 11.4.0-1ubuntu1~22.04) 11.4.0

Fedora 41
	Kernel: Depends on container host
	Compiler: gcc 14.2.1 20240912 (Red Hat 14.2.1-3)

Ubuntu 24.04
	Kernel: Depends on container host
	Compiler: gcc (Ubuntu 13.3.0-6ubuntu2~24.04) 13.3.0

Fedora 41 (Clang)
	Kernel: Depends on container host
	Compiler: clang 19.1.5 (Fedora 19.1.5-1.fc41)

Fedora 40
	Kernel: Depends on container host
	Compiler: gcc 14.2.1 20240912 (Red Hat 14.2.1-3)

RHEL9
	Kernel: Depends on container host
	Compiler: gcc 11.5.0 20240719 (Red Hat 11.5.0-2)

Arch Linux
	Kernel: Depends on container host
	Compiler: gcc 14.2.1 20240910

To view detailed results, visit:
https://lab.dpdk.org/results/dashboard/tarballs/33418/

UNH-IOL DPDK Community Lab

To manage your email subscriptions, visit: 
https://lab.dpdk.org/results/dashboard/preferences/subscriptions/