From mboxrd@z Thu Jan 1 00:00:00 1970 Return-Path: Received: from mails.dpdk.org (mails.dpdk.org [217.70.189.124]) by inbox.dpdk.org (Postfix) with ESMTP id 4616A466B4 for ; Sun, 4 May 2025 03:26:24 +0200 (CEST) Received: from mails.dpdk.org (localhost [127.0.0.1]) by mails.dpdk.org (Postfix) with ESMTP id 419AF4025D; Sun, 4 May 2025 03:26:24 +0200 (CEST) Received: from mail-pl1-f225.google.com (mail-pl1-f225.google.com [209.85.214.225]) by mails.dpdk.org (Postfix) with ESMTP id 3DF3640156 for ; Sun, 4 May 2025 03:26:23 +0200 (CEST) Received: by mail-pl1-f225.google.com with SMTP id d9443c01a7336-2260c91576aso30014985ad.3 for ; Sat, 03 May 2025 18:26:23 -0700 (PDT) DKIM-Signature: v=1; a=rsa-sha256; c=relaxed/relaxed; d=iol.unh.edu; s=unh-iol; t=1746321982; x=1746926782; darn=dpdk.org; h=cc:to:from:subject:message-id:date:from:to:cc:subject:date :message-id:reply-to; bh=0dAmHKqRg86EXKq+Xa8p8uiXXLRein3w7Y/mVm2Tv0s=; b=Q8CD+FwC6DaiulHQimCkVsMu6v2ZMAi6VFejEAkRqmaGXV3u9U17N507t/pACE3khI TzbNY+0XdDya3o9O45DoFKrlmZEwiw4E6bAOkdwvP8D3zZA1+ggwIpXmENLAW0mbQFV5 giJrzXIJnM3BjAKUXVy5ZAmQGqknD4lHHVaBc= X-Google-DKIM-Signature: v=1; a=rsa-sha256; c=relaxed/relaxed; d=1e100.net; s=20230601; t=1746321982; x=1746926782; h=cc:to:from:subject:message-id:date:x-gm-message-state:from:to:cc :subject:date:message-id:reply-to; bh=0dAmHKqRg86EXKq+Xa8p8uiXXLRein3w7Y/mVm2Tv0s=; b=V3qVJsif6yY70giArOCX6m+7ZlZJw0/0kDzDH1ktEBpUcLH3W1qZxtvH9mhMG2lF3R 2dIGgP+0ezAk82OR+IRHj6RrqXE7lEVg+AY+ewSBH+1QvJkL33DLOn7tXLropCkvwTsV /7Z4Klf2L1vR71qSvT2hH3W5oZCBJzZL/dIDDHqoChu+9/5puNbdh2eWkMBUGn+lu3Ja 9RtXKSmPrvG6chjIk9j7h6RPvVcVOpapOnA6EvGcO7ZHdu8eUoiiRfPBrL/E42LTRsOG S2S+Xjw+SJ7FgwgaVMVJEdL5Mpr1OyrS3NkvgbeBWeS2W6sUJ7nBorqmK/WekSrSdzWw nx0g== X-Gm-Message-State: AOJu0YyICKzUwueSPs7+s+u4jVYAmmf6lSc6iZt7PfLWJO3aV1uvLOJB 7Ri1Y/r5DWUlcaNOZJBmWUuS56MxdN8Y7cK9K69NaizU1vXUJYZK113ybT1nkGMxE8mwzEK0H/g 79AzpcXEEnt1ksTDLjMwnojK1jzX/GEqU/3+nOgId X-Gm-Gg: ASbGncsoGxHroBYX6mXh5fz8yuHrSXgk5zOfzdGd/aBD5p0R7QdmPB1wK9QckiefFlP bUDwwmIjDYAOTJ5RKqfRqh0Fa40cWnjXD6ZRxpBr0thdiLUrY3YgniwjRinMb+DmUx9iVJ2ajD2 5YADHQnDYo+pwx9prIrGp9wpJjE5BhwkSkL9pV1tGSqVaOz2nlUBgHOr6hynKRdCYTfXY+H2TwF QIEUoNIcJQqyR5P2esWVH5RDiO1Ot/7QC3G27EmkvDpqWSMwM26KtH2/xIt3bxNPyOo1YPPwT85 rW1SDAAyLxha/xHTuiSEleanqMd3vAWEYOSbkj7Rz7PF74b89cJ3WfKywMo= X-Google-Smtp-Source: AGHT+IEfI2x8Ii6J5vg38U8c6XBIYrHCckHYKraB7TFq0/CTYaY/3eXemVNjAukqZaPkbR0RSXg1GtLdHySg X-Received: by 2002:a17:903:2f07:b0:22d:b2c9:7fe3 with SMTP id d9443c01a7336-22e1eae40e5mr40622365ad.35.1746321982417; Sat, 03 May 2025 18:26:22 -0700 (PDT) Received: from postal.iol.unh.edu (postal.iol.unh.edu. [132.177.123.84]) by smtp-relay.gmail.com with ESMTPS id 98e67ed59e1d1-30a3474ecbasm1823436a91.5.2025.05.03.18.26.22 (version=TLS1_2 cipher=ECDHE-ECDSA-AES128-GCM-SHA256 bits=128/128); Sat, 03 May 2025 18:26:22 -0700 (PDT) X-Relaying-Domain: iol.unh.edu Date: Sat, 03 May 2025 18:26:22 -0700 (PDT) Message-ID: <6816c23e.170a0220.2fce24.930eSMTPIN_ADDED_MISSING@mx.google.com> Received: from [172.17.0.2] (unknown [172.18.0.74]) by postal.iol.unh.edu (Postfix) with ESMTP id 9F7966052471; Sat, 3 May 2025 21:26:21 -0400 (EDT) Subject: |SUCCESS| [GIT MASTER] ca1690ebd224f148268285b15b97441ccdbdd07e From: dpdklab@iol.unh.edu To: Test Report Cc: dpdk-test-reports@iol.unh.edu Content-Type: text/plain X-BeenThere: test-report@dpdk.org X-Mailman-Version: 2.1.29 Precedence: list List-Id: automatic DPDK test reports List-Unsubscribe: , List-Archive: List-Post: List-Help: List-Subscribe: , Errors-To: test-report-bounces@dpdk.org _Testing PASS_ Branch: dpdk ca1690ebd224f148268285b15b97441ccdbdd07e --> testing pass Upstream job id: Generic-DPDK-Compile-ABI#125078 Test environment and result as below: +-------------------+----------+ | Environment | abi_test | +===================+==========+ | CentOS Stream 10 | PASS | +-------------------+----------+ | CentOS Stream 9 | PASS | +-------------------+----------+ | Debian 12 | PASS | +-------------------+----------+ | Fedora 40 (Clang) | PASS | +-------------------+----------+ | RHEL8 | PASS | +-------------------+----------+ | openSUSE Leap 15 | PASS | +-------------------+----------+ | Ubuntu 22.04 | PASS | +-------------------+----------+ | Fedora 41 | PASS | +-------------------+----------+ | Ubuntu 24.04 | PASS | +-------------------+----------+ | Fedora 41 (Clang) | PASS | +-------------------+----------+ | Fedora 40 | PASS | +-------------------+----------+ | RHEL9 | PASS | +-------------------+----------+ | Arch Linux | PASS | +-------------------+----------+ CentOS Stream 10 Kernel: Depends on container host Compiler: gcc 14.2.1 20241104 (Red Hat 14.2.1-6) CentOS Stream 9 Kernel: Depends on container host Compiler: gcc 11.5.0 20240719 (Red Hat 11.5.0-2) Debian 12 Kernel: Depends on container host Compiler: gcc (Debian 12.2.0-14) 12.2.0 Fedora 40 (Clang) Kernel: Depends on container host Compiler: clang 18.1.8 (Fedora 18.1.8-1.fc40) RHEL8 Kernel: Depends on container host Compiler: gcc 8.5.0 20210514 (Red Hat 8.5.0-22) openSUSE Leap 15 Kernel: Depends on container host Compiler: gcc (SUSE Linux) 7.5.0 Ubuntu 22.04 Kernel: Depends on container host Compiler: gcc (Ubuntu 11.4.0-1ubuntu1~22.04) 11.4.0 Fedora 41 Kernel: Depends on container host Compiler: gcc 14.2.1 20240912 (Red Hat 14.2.1-3) Ubuntu 24.04 Kernel: Depends on container host Compiler: gcc (Ubuntu 13.3.0-6ubuntu2~24.04) 13.3.0 Fedora 41 (Clang) Kernel: Depends on container host Compiler: clang 19.1.5 (Fedora 19.1.5-1.fc41) Fedora 40 Kernel: Depends on container host Compiler: gcc 14.2.1 20240912 (Red Hat 14.2.1-3) RHEL9 Kernel: Depends on container host Compiler: gcc 11.5.0 20240719 (Red Hat 11.5.0-2) Arch Linux Kernel: Depends on container host Compiler: gcc 14.2.1 20240910 To view detailed results, visit: https://lab.dpdk.org/results/dashboard/tarballs/33418/ UNH-IOL DPDK Community Lab To manage your email subscriptions, visit: https://lab.dpdk.org/results/dashboard/preferences/subscriptions/