From mboxrd@z Thu Jan 1 00:00:00 1970 Return-Path: Received: from mails.dpdk.org (mails.dpdk.org [217.70.189.124]) by inbox.dpdk.org (Postfix) with ESMTP id 4E049466B4 for ; Sun, 4 May 2025 03:49:20 +0200 (CEST) Received: from mails.dpdk.org (localhost [127.0.0.1]) by mails.dpdk.org (Postfix) with ESMTP id 1CAA64025D; Sun, 4 May 2025 03:49:20 +0200 (CEST) Received: from mail-qt1-f226.google.com (mail-qt1-f226.google.com [209.85.160.226]) by mails.dpdk.org (Postfix) with ESMTP id A726F40156 for ; Sun, 4 May 2025 03:49:18 +0200 (CEST) Received: by mail-qt1-f226.google.com with SMTP id d75a77b69052e-47662449055so23084611cf.1 for ; Sat, 03 May 2025 18:49:18 -0700 (PDT) DKIM-Signature: v=1; a=rsa-sha256; c=relaxed/relaxed; d=iol.unh.edu; s=unh-iol; t=1746323358; x=1746928158; darn=dpdk.org; h=cc:to:from:subject:message-id:date:from:to:cc:subject:date :message-id:reply-to; bh=DRZV8M4oGQZYIEbD4BgRSFI5Uq9NCch68eXXgRWqrXA=; b=T4VzVCjQwciNIapf9x0U7/N7nT0krBx9k/h4JX94sNYmSaOBVCTYILDXfgleztYrSL LBpJbKiSYmqI666nXD8Uwj9Z3/wWijuvie4Ss6nAo2eT88KZAfGHbN7M5GMJ5lk07e8N 2olWLVlglesbGeEG+QNpBDbjKeykaTAcdGExg= X-Google-DKIM-Signature: v=1; a=rsa-sha256; c=relaxed/relaxed; d=1e100.net; s=20230601; t=1746323358; x=1746928158; h=cc:to:from:subject:message-id:date:x-gm-message-state:from:to:cc :subject:date:message-id:reply-to; bh=DRZV8M4oGQZYIEbD4BgRSFI5Uq9NCch68eXXgRWqrXA=; b=WyheE94L6FMFFMr2pVlP7KoN4Kh3vQBDy620Ndf+RsDPUAW3Tp/4x1GBe2jVgyGiAB EKQMIMTGCdjriH+d7T03qCPca4iGy+57BKn9xDw//WOqcB8Nlu8XB9JQ5wUbSkLvQlOG WZOh338VMyI+Jr9jy+SwkNx5quN0XbeSLN6KbQBPwmlnx/hv/YYbPE1SAtvKXRSDznRG FKpmUWFWssH543FZdsRug8ijL/3XtPikWvztHypXKLTiH1SPuWO4NdCcF/F/MOUQYfTW IQgIlJT9DFS2y/xL1MnGyIAd6FkLLOZIaqsvqGjjto0akWior9TZRhARkb3MwnX7U01g wiEA== X-Gm-Message-State: AOJu0YxvMaECJ5oojxUQg4tRvTUA3ji55E9Yi+/14XbIZnTolLuPSYd4 +4Q2zehbLzARuk1aK/B2ljDTbraPLbbZYfFykLmfbo9XBxCixWRDB+y+CQOkiknmdJBhl1Qx7IJ kx4+v30tiUHa/e3Qiqvyl9kLhSKibuEa1z9XxyLl5 X-Gm-Gg: ASbGncsmIYSOrdutk5jImqETBvCveIHrIEQ1libBbSr3v8ANIB+ElTabWj39FFGuXvJ 62XuCXLPNAkoJ8Vg97CSHdO7SQecXkE5AHY1UgpP0Bn8/xtQLggzgUzK5BoGNNRCeWi47u498LU P+PgvLsaMqK4VPXFt9THXetQbJxXY4KvgkeeDOGQ2CBTUw+CuvRr8JsobPZEsJX8lTnHzDZs9N4 4TVi+AqsyD9q/b7qjENI36G0FHJKRD41YzGlbo3pmhCrCxodKky+y77GQZB7Usqu5+eBI+Yww4C nmdaqwvycvnhW/u0sLk3hyzzYjYcX+wQiy5vnA0R3rI2x5vz2UT2c41vACI= X-Google-Smtp-Source: AGHT+IGrXLOiPIWlHSnlMmWPznJGXrkxbTpFqo7axTYP0cKZdNzJ624lC6juMgjYra7T2mhO7sBMyt/3f7PX X-Received: by 2002:ad4:5942:0:b0:6e8:f9e6:c4e2 with SMTP id 6a1803df08f44-6f528cf60f3mr47162556d6.32.1746323357722; Sat, 03 May 2025 18:49:17 -0700 (PDT) Received: from postal.iol.unh.edu (postal.iol.unh.edu. [132.177.123.84]) by smtp-relay.gmail.com with ESMTPS id 6a1803df08f44-6f50f3bf45asm12107746d6.18.2025.05.03.18.49.17 (version=TLS1_2 cipher=ECDHE-ECDSA-AES128-GCM-SHA256 bits=128/128); Sat, 03 May 2025 18:49:17 -0700 (PDT) X-Relaying-Domain: iol.unh.edu Date: Sat, 03 May 2025 18:49:17 -0700 (PDT) Message-ID: <6816c79d.050a0220.11de48.d901SMTPIN_ADDED_MISSING@mx.google.com> Received: from [172.17.0.2] (unknown [172.18.0.76]) by postal.iol.unh.edu (Postfix) with ESMTP id 64C096052471; Sat, 3 May 2025 21:49:17 -0400 (EDT) Subject: |SUCCESS| [GIT MASTER] ca1690ebd224f148268285b15b97441ccdbdd07e From: dpdklab@iol.unh.edu To: Test Report Cc: dpdk-test-reports@iol.unh.edu Content-Type: text/plain X-BeenThere: test-report@dpdk.org X-Mailman-Version: 2.1.29 Precedence: list List-Id: automatic DPDK test reports List-Unsubscribe: , List-Archive: List-Post: List-Help: List-Subscribe: , Errors-To: test-report-bounces@dpdk.org _Testing PASS_ Branch: dpdk ca1690ebd224f148268285b15b97441ccdbdd07e --> testing pass Upstream job id: Generic-VM-Unit-Test-DPDK#28295 Test environment and result as below: +---------------------+----------------+ | Environment | dpdk_unit_test | +=====================+================+ | CentOS Stream 9 | PASS | +---------------------+----------------+ | Arch Linux | PASS | +---------------------+----------------+ | Fedora 40 (Clang) | PASS | +---------------------+----------------+ | Debian 12 | PASS | +---------------------+----------------+ | CentOS Stream 10 | PASS | +---------------------+----------------+ | Fedora 40 | PASS | +---------------------+----------------+ | Fedora 41 (Clang) | PASS | +---------------------+----------------+ | RHEL8 | PASS | +---------------------+----------------+ | RHEL9 | PASS | +---------------------+----------------+ | Fedora 41 | PASS | +---------------------+----------------+ | Ubuntu 20.04 | PASS | +---------------------+----------------+ | Ubuntu 22.04 | PASS | +---------------------+----------------+ | Ubuntu 24.04 | PASS | +---------------------+----------------+ | Windows Server 2022 | PASS | +---------------------+----------------+ CentOS Stream 9 Kernel: Depends on container host Compiler: gcc 11.5.0 20240719 (Red Hat 11.5.0-2) Arch Linux Kernel: Depends on container host Compiler: gcc 14.2.1 20240910 Fedora 40 (Clang) Kernel: Depends on container host Compiler: clang 18.1.8 (Fedora 18.1.8-1.fc40) Debian 12 Kernel: Depends on container host Compiler: gcc (Debian 12.2.0-14) 12.2.0 CentOS Stream 10 Kernel: Depends on container host Compiler: gcc 14.2.1 20241104 (Red Hat 14.2.1-6) Fedora 40 Kernel: Depends on container host Compiler: gcc 14.2.1 20240912 (Red Hat 14.2.1-3) Fedora 41 (Clang) Kernel: Depends on container host Compiler: clang 19.1.5 (Fedora 19.1.5-1.fc41) RHEL8 Kernel: Depends on container host Compiler: gcc 8.5.0 20210514 (Red Hat 8.5.0-22) RHEL9 Kernel: Depends on container host Compiler: gcc 11.5.0 20240719 (Red Hat 11.5.0-2) Fedora 41 Kernel: Depends on container host Compiler: gcc 14.2.1 20240912 (Red Hat 14.2.1-3) Ubuntu 20.04 Kernel: Depends on container host Compiler: gcc (Ubuntu 9.4.0-1ubuntu1~20.04.2) 9.4.0 Ubuntu 22.04 Kernel: Depends on container host Compiler: gcc (Ubuntu 11.4.0-1ubuntu1~22.04) 11.4.0 Ubuntu 24.04 Kernel: Depends on container host Compiler: gcc (Ubuntu 13.3.0-6ubuntu2~24.04) 13.3.0 Windows Server 2022 Kernel: 10.0.20348.2031 Compiler: clang 15.0.7, gcc 14.1.0 (MinGW), and MSVC VS 19.39.33521 To view detailed results, visit: https://lab.dpdk.org/results/dashboard/tarballs/33418/ UNH-IOL DPDK Community Lab To manage your email subscriptions, visit: https://lab.dpdk.org/results/dashboard/preferences/subscriptions/