From mboxrd@z Thu Jan 1 00:00:00 1970 Return-Path: Received: from mails.dpdk.org (mails.dpdk.org [217.70.189.124]) by inbox.dpdk.org (Postfix) with ESMTP id 109F9466B4 for ; Sun, 4 May 2025 03:56:13 +0200 (CEST) Received: from mails.dpdk.org (localhost [127.0.0.1]) by mails.dpdk.org (Postfix) with ESMTP id C52CE4025D; Sun, 4 May 2025 03:56:12 +0200 (CEST) Received: from mail-yw1-f226.google.com (mail-yw1-f226.google.com [209.85.128.226]) by mails.dpdk.org (Postfix) with ESMTP id D932540156 for ; Sun, 4 May 2025 03:56:10 +0200 (CEST) Received: by mail-yw1-f226.google.com with SMTP id 00721157ae682-6fead317874so28439807b3.0 for ; Sat, 03 May 2025 18:56:10 -0700 (PDT) DKIM-Signature: v=1; a=rsa-sha256; c=relaxed/relaxed; d=iol.unh.edu; s=unh-iol; t=1746323770; x=1746928570; darn=dpdk.org; h=cc:to:from:subject:message-id:date:from:to:cc:subject:date :message-id:reply-to; bh=MzK7w/l4dZdnL7zDmv40ZhMP4wFY+kYaS2kiFZrgJNM=; b=REYrJ2KvMYgRhLvgcV1tVjrhX7tvR05r9j+lRcHQ8Dxq3NgWNSLBysyy1A+mnPNfL+ x80J4dPeRHCvnSynQ2FsGfREldVjPFuPP7W2OkYGX2LZc70DAeK55CDmVum2ujDv85S2 mHaGOLeqSNgZn2XukvaR41G5J7WuMIw7WX2H0= X-Google-DKIM-Signature: v=1; a=rsa-sha256; c=relaxed/relaxed; d=1e100.net; s=20230601; t=1746323770; x=1746928570; h=cc:to:from:subject:message-id:date:x-gm-message-state:from:to:cc :subject:date:message-id:reply-to; bh=MzK7w/l4dZdnL7zDmv40ZhMP4wFY+kYaS2kiFZrgJNM=; b=puuqgG7hG2JY0Kiquyl6U3c90gZhFvOgCL7ay3BCoIbkm15PoyFAvmeyy/bPN+ULzJ nA6coYSdX4j90wQIucXnPjw+/5aidx9uUKkHFtyVeGgccrkQHPxk33L+wNLbOF3MDp0X dRni7DziUgWq2iYkbu6PCsNKwAWQ2MRgNccXEKwDeJiF3eCWrBpiwAWZo3+JnBZF4MdW uzojNytaDIf+Kj1jth15jXE5j7/pglVbyaI3+/wmhzF5ohBwCHPnoeI/bzY+YuS/tjiJ wcY3KevPxLhk+eOjOvxj0M7Vw9mkxyD3/ngkkwEsgd0rppwCcjSa5Shu/WV8XWnz1aeu pfRw== X-Gm-Message-State: AOJu0YxhCp3HZA5z6ES7THnMjkAsO7Ilv3luAUEXn9BZCY3d1RQnD05x cLv0wFIN/JdWlZaIpfew5B1bRr6AbYk9tyPKPOh+DbgZY/auqbOTijXkKDVN7sJjGhpHfnpYfyj YxpVG+681ZYnIDuaebgNa/PcrXO4KuQuHENQDvH48c+RLst35e0F+v++f X-Gm-Gg: ASbGnctatTmRwXU1NF+jFzSExlRSuRBdfYGWTPLZc6at5rYQltnRYBkqrAhX5fc/vNZ 6aWpnYcgBXAjdxoecXTi+3XuXZrF8IqbUviAe1nzB35Aq8eH6erEjaST/2bNwZjLJGN43tSpeHG IT7hSKX7KNvwGLWlhBrqX4p3FTg0eiU3cHIUEI3xhkQJGm5mIwYi06vNJteRizfJ7zuceG9BMJa DzOSVhBJqHgGzX16C60hLUiuLiKLLjUbrKO0uj1F7dyabW1VBOvym0A1C9GxuZhm8s5K0vUQwu3 /OmILPDMfT4Zm0Lw6IWlZofnjagtgBvcTa9T X-Google-Smtp-Source: AGHT+IHoVqBibwa2rZh4QWf/w0fLKXQXxLsLn3UDnyS0ZAs1ztoqyJ0L5IbWlcJhmfYzwdyPsGRSpX8gup27 X-Received: by 2002:a05:690c:6081:b0:708:3a47:3d2c with SMTP id 00721157ae682-708eaed32cdmr36445217b3.13.1746323770174; Sat, 03 May 2025 18:56:10 -0700 (PDT) Received: from postal.iol.unh.edu (postal.iol.unh.edu. [2606:4100:3880:1234::84]) by smtp-relay.gmail.com with ESMTPS id 00721157ae682-708c3f110aasm11186857b3.14.2025.05.03.18.56.10 (version=TLS1_2 cipher=ECDHE-ECDSA-AES128-GCM-SHA256 bits=128/128); Sat, 03 May 2025 18:56:10 -0700 (PDT) X-Relaying-Domain: iol.unh.edu Date: Sat, 03 May 2025 18:56:10 -0700 (PDT) Message-ID: <6816c93a.050a0220.213cf1.b50fSMTPIN_ADDED_MISSING@mx.google.com> Received: from [172.17.0.2] (unknown [172.18.0.74]) by postal.iol.unh.edu (Postfix) with ESMTP id BE2FB6052471; Sat, 3 May 2025 21:56:09 -0400 (EDT) Subject: |SUCCESS| [GIT MASTER] ca1690ebd224f148268285b15b97441ccdbdd07e From: dpdklab@iol.unh.edu To: Test Report Cc: dpdk-test-reports@iol.unh.edu Content-Type: text/plain X-BeenThere: test-report@dpdk.org X-Mailman-Version: 2.1.29 Precedence: list List-Id: automatic DPDK test reports List-Unsubscribe: , List-Archive: List-Post: List-Help: List-Subscribe: , Errors-To: test-report-bounces@dpdk.org _Testing PASS_ Branch: dpdk ca1690ebd224f148268285b15b97441ccdbdd07e --> testing pass Upstream job id: Aarch32-Unit-Test#6119 Test environment and result as below: +-----------------------------+----------------+--------------+---------------------------+------------------------------+ | Environment | dpdk_unit_test | lpm_autotest | cryptodev_sw_zuc_autotest | cryptodev_sw_snow3g_autotest | +=============================+================+==============+===========================+==============================+ | Debian 12 (arm) | PASS | SKIPPED | PASS | PASS | +-----------------------------+----------------+--------------+---------------------------+------------------------------+ | CentOS Stream 9 (ARM) | PASS | SKIPPED | SKIPPED | SKIPPED | +-----------------------------+----------------+--------------+---------------------------+------------------------------+ | CentOS Stream 10 (ARM) | PASS | SKIPPED | SKIPPED | SKIPPED | +-----------------------------+----------------+--------------+---------------------------+------------------------------+ | Fedora 40 (ARM) | PASS | SKIPPED | SKIPPED | SKIPPED | +-----------------------------+----------------+--------------+---------------------------+------------------------------+ | Fedora 40 (ARM Clang) | PASS | SKIPPED | SKIPPED | SKIPPED | +-----------------------------+----------------+--------------+---------------------------+------------------------------+ | Fedora 41 (ARM) | PASS | SKIPPED | SKIPPED | SKIPPED | +-----------------------------+----------------+--------------+---------------------------+------------------------------+ | RHEL9 (ARM) | PASS | SKIPPED | SKIPPED | SKIPPED | +-----------------------------+----------------+--------------+---------------------------+------------------------------+ | Fedora 41 (ARM Clang) | PASS | SKIPPED | SKIPPED | SKIPPED | +-----------------------------+----------------+--------------+---------------------------+------------------------------+ | Ubuntu 22.04 (ARM) | PASS | SKIPPED | SKIPPED | SKIPPED | +-----------------------------+----------------+--------------+---------------------------+------------------------------+ | Ubuntu 24.04 (ARM) | PASS | SKIPPED | SKIPPED | SKIPPED | +-----------------------------+----------------+--------------+---------------------------+------------------------------+ | Ubuntu 20.04 (ARM) | PASS | SKIPPED | SKIPPED | SKIPPED | +-----------------------------+----------------+--------------+---------------------------+------------------------------+ | 32-bit Ubuntu 22.04.4 (ARM) | PASS | SKIPPED | SKIPPED | SKIPPED | +-----------------------------+----------------+--------------+---------------------------+------------------------------+ | Ubuntu 20.04 ARM SVE | SKIPPED | PASS | SKIPPED | SKIPPED | +-----------------------------+----------------+--------------+---------------------------+------------------------------+ Debian 12 (arm) Kernel: Depends on container host Compiler: gcc (Debian 12.2.0-14) 12.2.0 CentOS Stream 9 (ARM) Kernel: Depends on container host Compiler: gcc 11.5.0 20240719 (Red Hat 11.5.0-2) CentOS Stream 10 (ARM) Kernel: Depends on container host Compiler: gcc 14.2.1 20241104 (Red Hat 14.2.1-6) Fedora 40 (ARM) Kernel: Depends on container host Compiler: gcc 14.2.1 20240912 (Red Hat 14.2.1-3) Fedora 40 (ARM Clang) Kernel: Depends on container host Compiler: clang 18.1.8 (Fedora 18.1.8-1.fc40) Fedora 41 (ARM) Kernel: Depends on container host Compiler: gcc 14.2.1 20240912 (Red Hat 14.2.1-3) RHEL9 (ARM) Kernel: Depends on container host Compiler: gcc 11.5.0 20240719 (Red Hat 11.5.0-2) Fedora 41 (ARM Clang) Kernel: Depends on container host Compiler: clang 19.1.5 (Fedora 19.1.5-1.fc41) Ubuntu 22.04 (ARM) Kernel: Depends on container host Compiler: gcc (Ubuntu 11.4.0-1ubuntu1~22.04) 11.4.0 Ubuntu 24.04 (ARM) Kernel: Depends on container host Compiler: gcc (Ubuntu 13.3.0-6ubuntu2~24.04) 13.3.0 Ubuntu 20.04 (ARM) Kernel: Depends on container host Compiler: gcc (Ubuntu 9.4.0-1ubuntu1~20.04.2) 9.4.0 32-bit Ubuntu 22.04.4 (ARM) Kernel: 5.15.83+ aarch64 Compiler: gcc (Ubuntu 11.4.0-1ubuntu1~22.04) 11.4.0 Ubuntu 20.04 ARM SVE Kernel: Depends on container host Compiler: gcc (Ubuntu 10.5.0-1ubuntu1~20.04) 10.5.0 To view detailed results, visit: https://lab.dpdk.org/results/dashboard/tarballs/33418/ UNH-IOL DPDK Community Lab To manage your email subscriptions, visit: https://lab.dpdk.org/results/dashboard/preferences/subscriptions/