From mboxrd@z Thu Jan 1 00:00:00 1970 Return-Path: Received: from mails.dpdk.org (mails.dpdk.org [217.70.189.124]) by inbox.dpdk.org (Postfix) with ESMTP id 3A188466B4 for ; Sun, 4 May 2025 03:58:28 +0200 (CEST) Received: from mails.dpdk.org (localhost [127.0.0.1]) by mails.dpdk.org (Postfix) with ESMTP id 1D2DB4025D; Sun, 4 May 2025 03:58:28 +0200 (CEST) Received: from mail-yw1-f225.google.com (mail-yw1-f225.google.com [209.85.128.225]) by mails.dpdk.org (Postfix) with ESMTP id EACFA40156 for ; Sun, 4 May 2025 03:58:26 +0200 (CEST) Received: by mail-yw1-f225.google.com with SMTP id 00721157ae682-700b17551cdso26156147b3.0 for ; Sat, 03 May 2025 18:58:26 -0700 (PDT) DKIM-Signature: v=1; a=rsa-sha256; c=relaxed/relaxed; d=iol.unh.edu; s=unh-iol; t=1746323906; x=1746928706; darn=dpdk.org; h=cc:to:from:subject:message-id:date:from:to:cc:subject:date :message-id:reply-to; bh=icJUfB0f7e6aYPREklaMZatfb/tIIlvtsgWEWtdPuNs=; b=CWP2sPD3Ubxz4ZYjQ4i8hYDBiINTPSRlJ0Fsyg86Q7MKe3tsuleVo+e/pnizLyQ4y8 IDpq1UIMe7Axp/OXLrQQUE2vZHYPONqT4Bg9eQOWCdnIUxSqgEHUhizFwwXfYASsoxS4 TDktDEZ5/NmAzEjLXQIzOHFeYl28SpLsQ5o6k= X-Google-DKIM-Signature: v=1; a=rsa-sha256; c=relaxed/relaxed; d=1e100.net; s=20230601; t=1746323906; x=1746928706; h=cc:to:from:subject:message-id:date:x-gm-message-state:from:to:cc :subject:date:message-id:reply-to; bh=icJUfB0f7e6aYPREklaMZatfb/tIIlvtsgWEWtdPuNs=; b=PkPOU6tbHT50tpIdOtJe1UuKcgX0DVlWheriPlfDSIvoP5HAwRBhU4qpxAWD5AV8AD AqaLmecKc+8R0VerF8YCYpIBFVs1hU/wTuUFIhjEBkKbNyXlGEL4PA774b+Qy37gdQCg Jk8LW8bQTEC9oRpTM1hPBCjSbY65ORvXymCHO8JE71jREyWhO7NnOQmHUdE4hVLsLQA1 vVAItqMt9SKyKs4VmSDpXBxOYiNWEXXV0AcMmK8948U7qn2q/xZZH0ix6O1wj2y2YH4c 3azABHXKDinsorcuYqc/JKo4sKS7ayLDT3MJGEw2fCY/LxY0ScAYCn7kbLcmkquUhP3H iPNA== X-Gm-Message-State: AOJu0YykD0fG/cZ5UKQS7qb2vzUmXSUMl0BdR783WCvP0BnITLD8cer6 BHWbYjo82KQ3wuqg+rLkFQb+EpDJHVoERjnvElyncocQwGLh254coj3Vq1/mfTtjqw0h2fQUIEk mc25MMArVVzXE1wnXp+yGFy+eWx8qHZXamT5aqvfM X-Gm-Gg: ASbGncu0o2x35fTzwLkOLMZ3pDcRiJ4zFezih5NDFJP2yiuuUtaHstOfHt6aOI9CiYY ZHAHYulVVC3BNvAG3NebeuwQX1sEG1j8uhLFgZRKUhDwqmZwMTtWvVrzCfGRBqCifFuHz4Whetz Pdmu7JPoYhu+TBH0gdPBnusN8dFoQm8jsDy9GJ0FV5AEcTI5dZlC3yXcax2uZ/yvJcVUCdFmKoa 4YJsEZUXGOMZn4YxdRvNowLDvgtal2Uu8xbusyGMBjscxX2olS3ENXJOfluCitcH8uJxhSbSbgS ao+3gjrp3t6HK3IJDG+tAwY6898QO6pcWHPGMLujINEr3uGuzufBiw611tA= X-Google-Smtp-Source: AGHT+IEG6cTXbAehz6d+F/J0rLDNSCyODjBiW7IAweM0Nsc2p77nZjXd5v2JVifXMx0xFy05sR5GrNxqu43l X-Received: by 2002:a05:690c:650f:b0:705:5a18:fefe with SMTP id 00721157ae682-708eaeafc3fmr35215017b3.3.1746323906269; Sat, 03 May 2025 18:58:26 -0700 (PDT) Received: from postal.iol.unh.edu (postal.iol.unh.edu. [132.177.123.84]) by smtp-relay.gmail.com with ESMTPS id 00721157ae682-708c3f13866sm12986137b3.2.2025.05.03.18.58.26 (version=TLS1_2 cipher=ECDHE-ECDSA-AES128-GCM-SHA256 bits=128/128); Sat, 03 May 2025 18:58:26 -0700 (PDT) X-Relaying-Domain: iol.unh.edu Date: Sat, 03 May 2025 18:58:26 -0700 (PDT) Message-ID: <6816c9c2.810a0220.115140.689eSMTPIN_ADDED_MISSING@mx.google.com> Received: from [172.17.0.2] (unknown [172.18.0.74]) by postal.iol.unh.edu (Postfix) with ESMTP id E8AAF6052471; Sat, 3 May 2025 21:58:25 -0400 (EDT) Subject: |SUCCESS| [GIT MASTER] ca1690ebd224f148268285b15b97441ccdbdd07e From: dpdklab@iol.unh.edu To: Test Report Cc: dpdk-test-reports@iol.unh.edu Content-Type: text/plain X-BeenThere: test-report@dpdk.org X-Mailman-Version: 2.1.29 Precedence: list List-Id: automatic DPDK test reports List-Unsubscribe: , List-Archive: List-Post: List-Help: List-Subscribe: , Errors-To: test-report-bounces@dpdk.org _Testing PASS_ Branch: dpdk ca1690ebd224f148268285b15b97441ccdbdd07e --> testing pass Upstream job id: Generic-VM-Unit-Test-DPDK#28296 Test environment and result as below: +---------------------+----------------+ | Environment | dpdk_unit_test | +=====================+================+ | CentOS Stream 9 | PASS | +---------------------+----------------+ | Arch Linux | PASS | +---------------------+----------------+ | Fedora 40 (Clang) | PASS | +---------------------+----------------+ | Debian 12 | PASS | +---------------------+----------------+ | CentOS Stream 10 | PASS | +---------------------+----------------+ | Fedora 40 | PASS | +---------------------+----------------+ | Fedora 41 (Clang) | PASS | +---------------------+----------------+ | RHEL8 | PASS | +---------------------+----------------+ | RHEL9 | PASS | +---------------------+----------------+ | Fedora 41 | PASS | +---------------------+----------------+ | Ubuntu 20.04 | PASS | +---------------------+----------------+ | Ubuntu 22.04 | PASS | +---------------------+----------------+ | Ubuntu 24.04 | PASS | +---------------------+----------------+ | Windows Server 2022 | PASS | +---------------------+----------------+ CentOS Stream 9 Kernel: Depends on container host Compiler: gcc 11.5.0 20240719 (Red Hat 11.5.0-2) Arch Linux Kernel: Depends on container host Compiler: gcc 14.2.1 20240910 Fedora 40 (Clang) Kernel: Depends on container host Compiler: clang 18.1.8 (Fedora 18.1.8-1.fc40) Debian 12 Kernel: Depends on container host Compiler: gcc (Debian 12.2.0-14) 12.2.0 CentOS Stream 10 Kernel: Depends on container host Compiler: gcc 14.2.1 20241104 (Red Hat 14.2.1-6) Fedora 40 Kernel: Depends on container host Compiler: gcc 14.2.1 20240912 (Red Hat 14.2.1-3) Fedora 41 (Clang) Kernel: Depends on container host Compiler: clang 19.1.5 (Fedora 19.1.5-1.fc41) RHEL8 Kernel: Depends on container host Compiler: gcc 8.5.0 20210514 (Red Hat 8.5.0-22) RHEL9 Kernel: Depends on container host Compiler: gcc 11.5.0 20240719 (Red Hat 11.5.0-2) Fedora 41 Kernel: Depends on container host Compiler: gcc 14.2.1 20240912 (Red Hat 14.2.1-3) Ubuntu 20.04 Kernel: Depends on container host Compiler: gcc (Ubuntu 9.4.0-1ubuntu1~20.04.2) 9.4.0 Ubuntu 22.04 Kernel: Depends on container host Compiler: gcc (Ubuntu 11.4.0-1ubuntu1~22.04) 11.4.0 Ubuntu 24.04 Kernel: Depends on container host Compiler: gcc (Ubuntu 13.3.0-6ubuntu2~24.04) 13.3.0 Windows Server 2022 Kernel: 10.0.20348.2031 Compiler: clang 15.0.7, gcc 14.1.0 (MinGW), and MSVC VS 19.39.33521 To view detailed results, visit: https://lab.dpdk.org/results/dashboard/tarballs/33418/ UNH-IOL DPDK Community Lab To manage your email subscriptions, visit: https://lab.dpdk.org/results/dashboard/preferences/subscriptions/