From mboxrd@z Thu Jan 1 00:00:00 1970 Return-Path: Received: from mails.dpdk.org (mails.dpdk.org [217.70.189.124]) by inbox.dpdk.org (Postfix) with ESMTP id C7BB3466B5 for ; Sun, 4 May 2025 04:27:02 +0200 (CEST) Received: from mails.dpdk.org (localhost [127.0.0.1]) by mails.dpdk.org (Postfix) with ESMTP id 9E1204025D; Sun, 4 May 2025 04:27:02 +0200 (CEST) Received: from mail-il1-f227.google.com (mail-il1-f227.google.com [209.85.166.227]) by mails.dpdk.org (Postfix) with ESMTP id 34AFD40156 for ; Sun, 4 May 2025 04:27:01 +0200 (CEST) Received: by mail-il1-f227.google.com with SMTP id e9e14a558f8ab-3d813c1c39eso30420705ab.0 for ; Sat, 03 May 2025 19:27:01 -0700 (PDT) DKIM-Signature: v=1; a=rsa-sha256; c=relaxed/relaxed; d=iol.unh.edu; s=unh-iol; t=1746325620; x=1746930420; darn=dpdk.org; h=cc:to:from:subject:message-id:date:from:to:cc:subject:date :message-id:reply-to; bh=dlq2Ihj6SaWxG0dKg+TsyxQEcpdBLDXOYyhfWrOnmco=; b=jkXHbCUxDU6O3NoN4cOjOo4MsEWKNIA0nDGtLa1i7YqJAkKZEUX0cHNSVA6F5yS8gm h+4u+SQBucmJCmC8lvd0xfHJq6izhLoWM6wFibzzjZK3Y8662+jVHfKk5Rv5+iPsnCt0 0HxCouyPIQDj74kjlK7N4GIX5KoMiN+t44cxE= X-Google-DKIM-Signature: v=1; a=rsa-sha256; c=relaxed/relaxed; d=1e100.net; s=20230601; t=1746325620; x=1746930420; h=cc:to:from:subject:message-id:date:x-gm-message-state:from:to:cc :subject:date:message-id:reply-to; bh=dlq2Ihj6SaWxG0dKg+TsyxQEcpdBLDXOYyhfWrOnmco=; b=ifcMOsWvBt3ATVxF4SkY5uOCYueBcc0towERTgIJRryxCrya5TIVhnQtZ7NugZA7bC 2RaTu4/ntbEB5iQZA57simiCmgjAP3sVEZlcvvOwkxqFTnGs4kG6co+G7oXjhhQ2MRJF aYhe9ofRfL7qfER3qq7kvZXoSdOc0Os4UeQvVclEf80DT+y74eqcbMLkNEQyB7+kDWHn KIObbGmVWTIiqo8UOGP44Mt6RC3Mkql/mh4PQxpVBxUhQvlMjZxukmU1RoA2JEJs6D+D d5y8lxD1nt+l5aaMjsKqIKazq6SbLeJimwwt6mi5ydGldM8sN9V6JSCrRhN8VYVfgZrz /j2w== X-Gm-Message-State: AOJu0YxNDyBLpeAnWCN3OeQk6PbweUSKs1iNth99nz87JMe/8pvN5q4i fGmbgiwiKHxcSnA68mmefSbu8TSpmGBXSYcWkCkE/erhOa9VfWiVky/F3Fe4XtWSbEV6G7avul4 qwT1zoC21wchfV0+2bs03Gyzu/2XSg9Ys0wxLEEC3 X-Gm-Gg: ASbGncuWT7ucpBR1qmU+y20mJ4u1aGMb9+WmVb9Ni1QF/yMfKQxD/vjtrbyZ/HeqNWr Ln0XmPHSvR748Fk0rp8NzRM8xoQD/GQVsX3MrbM8YxKPg3S1Ht0mmG1r7a5lXYG3IExaxKpmWFG 8ZmhNicARAR647kuvouyzKaUuDl8zm+kdSiNRkE8NTVGM0z3jUu4fE2nSOBFD9JiTEWjryRdgMJ 7yySRzspe0WMp0ZZYcPpfYjGNFEjeBt2TnyYCEQwpkQpWndugggLYP3HQnMhCRagPw7+rsf9qLT R2XLxT3Kge1CilqJuUZyNphm5RL9cfx16WI8OEGv70vJXhMuyFI0Bqm0fKA= X-Google-Smtp-Source: AGHT+IFmGMWP39wJeA8tPqG85PhYr5+fSoUlNXPSEgb0UtXLjKai1bna2PMc4rP6X2oYP4jCEnZlPGn1FwS7 X-Received: by 2002:a05:6e02:1a89:b0:3cf:c9ad:46a1 with SMTP id e9e14a558f8ab-3da5b2a01d9mr22242745ab.13.1746325620570; Sat, 03 May 2025 19:27:00 -0700 (PDT) Received: from postal.iol.unh.edu (postal.iol.unh.edu. [132.177.123.84]) by smtp-relay.gmail.com with ESMTPS id e9e14a558f8ab-3d975e34b6csm11982775ab.12.2025.05.03.19.27.00 (version=TLS1_2 cipher=ECDHE-ECDSA-AES128-GCM-SHA256 bits=128/128); Sat, 03 May 2025 19:27:00 -0700 (PDT) X-Relaying-Domain: iol.unh.edu Date: Sat, 03 May 2025 19:27:00 -0700 (PDT) Message-ID: <6816d074.050a0220.28360d.de12SMTPIN_ADDED_MISSING@mx.google.com> Received: from [172.17.0.2] (unknown [172.18.0.74]) by postal.iol.unh.edu (Postfix) with ESMTP id 09B876052471; Sat, 3 May 2025 22:27:00 -0400 (EDT) Subject: |SUCCESS| [GIT MASTER] ca1690ebd224f148268285b15b97441ccdbdd07e From: dpdklab@iol.unh.edu To: Test Report Cc: dpdk-test-reports@iol.unh.edu Content-Type: text/plain X-BeenThere: test-report@dpdk.org X-Mailman-Version: 2.1.29 Precedence: list List-Id: automatic DPDK test reports List-Unsubscribe: , List-Archive: List-Post: List-Help: List-Subscribe: , Errors-To: test-report-bounces@dpdk.org _Testing PASS_ Branch: dpdk ca1690ebd224f148268285b15b97441ccdbdd07e --> testing pass Upstream job id: ACVP-FIPS-testing#9698 Test environment and result as below: +--------------------+----------------------+----------------------+ | Environment | compressdev_zlib_pmd | dpdk_fips_validation | +====================+======================+======================+ | Ubuntu 22.04 (ARM) | PASS | SKIPPED | +--------------------+----------------------+----------------------+ | Ubuntu 22.04 | PASS | SKIPPED | +--------------------+----------------------+----------------------+ | Ubuntu 20.04 | SKIPPED | PASS | +--------------------+----------------------+----------------------+ Ubuntu 22.04 (ARM) Kernel: 5.15.0-97-generic Compiler: gcc gcc (Ubuntu 11.4.0-1ubuntu1~22.04) 11.4.0 Ubuntu 22.04 Kernel: 5.15.0-100-generic Compiler: gcc gcc (Ubuntu 11.4.0-1ubuntu1~22.04) 11.4.0 Ubuntu 20.04 Kernel: Depends on container host Compiler: gcc (Ubuntu 9.4.0-1ubuntu1~20.04.2) 9.4.0 To view detailed results, visit: https://lab.dpdk.org/results/dashboard/tarballs/33418/ UNH-IOL DPDK Community Lab To manage your email subscriptions, visit: https://lab.dpdk.org/results/dashboard/preferences/subscriptions/