From mboxrd@z Thu Jan 1 00:00:00 1970 Return-Path: Received: from mails.dpdk.org (mails.dpdk.org [217.70.189.124]) by inbox.dpdk.org (Postfix) with ESMTP id 878E4466B5 for ; Sun, 4 May 2025 04:48:07 +0200 (CEST) Received: from mails.dpdk.org (localhost [127.0.0.1]) by mails.dpdk.org (Postfix) with ESMTP id 5393C4025D; Sun, 4 May 2025 04:48:07 +0200 (CEST) Received: from mail-pf1-f227.google.com (mail-pf1-f227.google.com [209.85.210.227]) by mails.dpdk.org (Postfix) with ESMTP id CBD9740156 for ; Sun, 4 May 2025 04:48:06 +0200 (CEST) Received: by mail-pf1-f227.google.com with SMTP id d2e1a72fcca58-736c062b1f5so3386624b3a.0 for ; Sat, 03 May 2025 19:48:06 -0700 (PDT) DKIM-Signature: v=1; a=rsa-sha256; c=relaxed/relaxed; d=iol.unh.edu; s=unh-iol; t=1746326886; x=1746931686; darn=dpdk.org; h=cc:to:from:subject:message-id:date:from:to:cc:subject:date :message-id:reply-to; bh=ABhTnnPqDMNlT81eBTNmH78j7H14vFYBo84eDr3o6k4=; b=MWa279xXaKzoPRUgbbmQdEndbg0/J/Rmcqtffx2NUAMPEXiDx1hoKq6QYoyuMf5M05 q8Oj7ZpVx+c/wKKDoBPhWoAcCmL89atvrxpKDASnVwN4qOaDMDCwjuss8OhU7GqQlo/e oqZ2cUgQJ9c8d/X9Tpln9z8GU2+LB3wJ32kOo= X-Google-DKIM-Signature: v=1; a=rsa-sha256; c=relaxed/relaxed; d=1e100.net; s=20230601; t=1746326886; x=1746931686; h=cc:to:from:subject:message-id:date:x-gm-message-state:from:to:cc :subject:date:message-id:reply-to; bh=ABhTnnPqDMNlT81eBTNmH78j7H14vFYBo84eDr3o6k4=; b=ikPB+Cs1u/0g/er+oLGbPOwh3BFDDNwxXE16rodJlB0W1gaAvxpquykZR9+sQDR5Ft jfV9B8JlO36+BPHuAtMq+uYO2i19JKXJim3t4/LmJgYLsWjVNFcTOnrshzS0xWVh6bAI DV8u8ULTz+fkezK2+whCwUI0HVsYM+0e2Sr4vxiTDP3xIpPtzqaFsuSGDMGNaWIvin7+ Kdq2+fgzMseFUn+1t+u4DBIZfg4bbUkJeiSEvyStQTcERP1nVMIq0lcH0iHc96pit14v 1yF6vA1NQ5PIrOMSIxQ7XGe6hhUXgKitiopQA6el6t9wbAB6eTIPJu1dCqBWZyUrri3L hWKQ== X-Gm-Message-State: AOJu0YwB6XHAkGuFR2uagRMxrIGaFEYdU87edrePHgviKEoOe/NkFQdF /15hEiQMCwPUKrjxYtucOdwfSqsM80FAxPGYW9c6yG5MJcLEiOlhSEMxLx66ZOPFXcnteYlGGv9 8oY6fYGOLhZvfJ/DEunCcFNpj919UxI4lxL+gkb1iNUpB7E4YKnlIXUC1 X-Gm-Gg: ASbGncupN9gmCLouLux7rpwzEta53qkSkmXcZuZHF8+TlglxWj2egvzBzsHQ//pOadv VmOX/bC2iEOf+fr9EwGWtCOv5zKRFQk9aD8FxZ4Qj3dikvwLFeDOdN8okow468+HKHd7DA3B9f/ NBjfLod0E0IJYwqo7Pp181HI9j3epF0Tb00xGE0wrBjXr5OHPAR4rtabeRXjXCim0+9W/WJazvi 173ykjSHWVW0q2smSQTe19kQWStmxTtq6/AMXtpI8ZGtkezfTyxg6Oqx6vewh7iFUxqu5bYudE1 NXSyhgx4JPsC11/SJhT0emfucjDHDFTb6S3a X-Google-Smtp-Source: AGHT+IHdGSeYjOGKCdYHhWIQ/4bgXyRWrE5NGipt73XjTbMzFysRPD7oPY7Dd/YIxH1AOhY043bES58VRSsI X-Received: by 2002:a05:6a00:8f0c:b0:736:50c4:3e0f with SMTP id d2e1a72fcca58-7406f0b5e78mr3106181b3a.10.1746326885694; Sat, 03 May 2025 19:48:05 -0700 (PDT) Received: from postal.iol.unh.edu (postal.iol.unh.edu. [2606:4100:3880:1234::84]) by smtp-relay.gmail.com with ESMTPS id d2e1a72fcca58-74058d7bf43sm1045037b3a.2.2025.05.03.19.48.05 (version=TLS1_2 cipher=ECDHE-ECDSA-AES128-GCM-SHA256 bits=128/128); Sat, 03 May 2025 19:48:05 -0700 (PDT) X-Relaying-Domain: iol.unh.edu Date: Sat, 03 May 2025 19:48:05 -0700 (PDT) Message-ID: <6816d565.050a0220.fb82.d9b1SMTPIN_ADDED_MISSING@mx.google.com> Received: from [172.17.0.2] (unknown [172.18.0.74]) by postal.iol.unh.edu (Postfix) with ESMTP id 451306052471; Sat, 3 May 2025 22:48:04 -0400 (EDT) Subject: |SUCCESS| [GIT MASTER] ca1690ebd224f148268285b15b97441ccdbdd07e From: dpdklab@iol.unh.edu To: Test Report Cc: dpdk-test-reports@iol.unh.edu Content-Type: text/plain X-BeenThere: test-report@dpdk.org X-Mailman-Version: 2.1.29 Precedence: list List-Id: automatic DPDK test reports List-Unsubscribe: , List-Archive: List-Post: List-Help: List-Subscribe: , Errors-To: test-report-bounces@dpdk.org _Testing PASS_ Branch: dpdk ca1690ebd224f148268285b15b97441ccdbdd07e --> testing pass Upstream job id: Generic-DPDK-Compile-Meson#384673 Test environment and result as below: +----------------------------------------+--------------------+ | Environment | dpdk_meson_compile | +========================================+====================+ | RHEL9 (ARM) | PASS | +----------------------------------------+--------------------+ | Ubuntu 20.04 ARM GCC Cross Compile | PASS | +----------------------------------------+--------------------+ | Ubuntu 20.04 ARM SVE | PASS | +----------------------------------------+--------------------+ | Fedora 40 (ARM) | PASS | +----------------------------------------+--------------------+ | Debian 12 with MUSDK | PASS | +----------------------------------------+--------------------+ | Fedora 40 (ARM Clang) | PASS | +----------------------------------------+--------------------+ | Fedora 41 (ARM) | PASS | +----------------------------------------+--------------------+ | Fedora 41 (ARM Clang) | PASS | +----------------------------------------+--------------------+ | Ubuntu 22.04 (ARM) | PASS | +----------------------------------------+--------------------+ | Ubuntu 20.04 (ARM) | PASS | +----------------------------------------+--------------------+ | CentOS Stream 10 (ARM) | PASS | +----------------------------------------+--------------------+ | CentOS Stream 9 (ARM) | PASS | +----------------------------------------+--------------------+ | Ubuntu 24.04 (ARM) | PASS | +----------------------------------------+--------------------+ | Debian 12 (arm) | PASS | +----------------------------------------+--------------------+ | Ubuntu 20.04 ARM Clang Cross Compile | PASS | +----------------------------------------+--------------------+ | Ubuntu 20.04 aarch32 GCC Cross Compile | PASS | +----------------------------------------+--------------------+ RHEL9 (ARM) Kernel: Depends on container host Compiler: gcc 11.5.0 20240719 (Red Hat 11.5.0-2) Ubuntu 20.04 ARM GCC Cross Compile Kernel: Depends on container host Compiler: aarch64-linux-gnu-gcc (Ubuntu 9.4.0-1ubuntu1~20.04.2) 9.4.0 Ubuntu 20.04 ARM SVE Kernel: Depends on container host Compiler: gcc (Ubuntu 10.5.0-1ubuntu1~20.04) 10.5.0 Fedora 40 (ARM) Kernel: Depends on container host Compiler: gcc 14.2.1 20240912 (Red Hat 14.2.1-3) Debian 12 with MUSDK Kernel: Depends on container host Compiler: gcc (Debian 12.2.0-14) 12.2.0 Fedora 40 (ARM Clang) Kernel: Depends on container host Compiler: clang 18.1.8 (Fedora 18.1.8-1.fc40) Fedora 41 (ARM) Kernel: Depends on container host Compiler: gcc 14.2.1 20240912 (Red Hat 14.2.1-3) Fedora 41 (ARM Clang) Kernel: Depends on container host Compiler: clang 19.1.5 (Fedora 19.1.5-1.fc41) Ubuntu 22.04 (ARM) Kernel: Depends on container host Compiler: gcc (Ubuntu 11.4.0-1ubuntu1~22.04) 11.4.0 Ubuntu 20.04 (ARM) Kernel: Depends on container host Compiler: gcc (Ubuntu 9.4.0-1ubuntu1~20.04.2) 9.4.0 CentOS Stream 10 (ARM) Kernel: Depends on container host Compiler: gcc 14.2.1 20241104 (Red Hat 14.2.1-6) CentOS Stream 9 (ARM) Kernel: Depends on container host Compiler: gcc 11.5.0 20240719 (Red Hat 11.5.0-2) Ubuntu 24.04 (ARM) Kernel: Depends on container host Compiler: gcc (Ubuntu 13.3.0-6ubuntu2~24.04) 13.3.0 Debian 12 (arm) Kernel: Depends on container host Compiler: gcc (Debian 12.2.0-14) 12.2.0 Ubuntu 20.04 ARM Clang Cross Compile Kernel: Depends on container host Compiler: clang 10.0.0-4ubuntu1 Ubuntu 20.04 aarch32 GCC Cross Compile Kernel: Depends on container host Compiler: gcc 9.4.0 To view detailed results, visit: https://lab.dpdk.org/results/dashboard/tarballs/33418/ UNH-IOL DPDK Community Lab To manage your email subscriptions, visit: https://lab.dpdk.org/results/dashboard/preferences/subscriptions/