From mboxrd@z Thu Jan 1 00:00:00 1970 Return-Path: Received: from mails.dpdk.org (mails.dpdk.org [217.70.189.124]) by inbox.dpdk.org (Postfix) with ESMTP id 6DF03466B8 for ; Sun, 4 May 2025 07:47:17 +0200 (CEST) Received: from mails.dpdk.org (localhost [127.0.0.1]) by mails.dpdk.org (Postfix) with ESMTP id 4B2064025D; Sun, 4 May 2025 07:47:17 +0200 (CEST) Received: from mail-pl1-f228.google.com (mail-pl1-f228.google.com [209.85.214.228]) by mails.dpdk.org (Postfix) with ESMTP id 80EEB40156 for ; Sun, 4 May 2025 07:47:15 +0200 (CEST) Received: by mail-pl1-f228.google.com with SMTP id d9443c01a7336-224100e9a5cso47488935ad.2 for ; Sat, 03 May 2025 22:47:15 -0700 (PDT) DKIM-Signature: v=1; a=rsa-sha256; c=relaxed/relaxed; d=iol.unh.edu; s=unh-iol; t=1746337634; x=1746942434; darn=dpdk.org; h=cc:to:from:subject:message-id:date:from:to:cc:subject:date :message-id:reply-to; bh=jePsEeejcOMC8IJmloIXZIHZgNzDPM4uTZ1ij/Fli+A=; b=Db4H7YAhsyf8Xs8Pp++pcEAfr/MWrZTPRj7LmI3ahdtgxc37OCVkWypBIRG1AF7i1R AIPO6QPQn8kkKB7mH/sQsvm0r9f3ZpAqA/XI5ouZq+HyWK4g0movdQlOeTPo8QRcKQ5q X4ypfjlnbGHrhwx6mOhII+cmNc8YhavduUhpE= X-Google-DKIM-Signature: v=1; a=rsa-sha256; c=relaxed/relaxed; d=1e100.net; s=20230601; t=1746337634; x=1746942434; h=cc:to:from:subject:message-id:date:x-gm-message-state:from:to:cc :subject:date:message-id:reply-to; bh=jePsEeejcOMC8IJmloIXZIHZgNzDPM4uTZ1ij/Fli+A=; b=rMHbsgL4gpcoGX7pev0MXYC3HDcDvWFk2lg4NJCTnd7z+3jxu/OfAkY9qWAaoudMye wRgAX1vaVW6vemTGeIzdo3HG7e7iE2HL7/+lUJTZSmIR0MvQFubkfgylP4KhcL+JKC+S j5D2cXoWQI7Eg/sIv5QqnxHksHuQr+bYd6S20YE/L4aMnf4iu/I92K029V1uhjmp0OjA RCUA2JEV9OmGCufYO0f3rlH3nHq2eQiOvzpdg9L3WUA0cjzbh/bpnFePYD/SK84qflsR MFlEsPIZadGQgeap744uYZG00esI27ykE0K3bT+4y4oEabjxXo7KHZmGJGcSrxjJHKkF Xakw== X-Gm-Message-State: AOJu0Yy2IA0rXQYFWlMfzKWjJligg5e2A1pzrh8rPOoc2vM4ct5s8j0o /tt0wMjbY77Eu3jxSK+QE4kldk3X6Ei8dorOnIwA/zNPn1DQTMVxRveyzu5p8K9nyEIKNtt0E6G B5NpRicLD0RRH673syO5hE8KPwi2lQZRJksIFpre86Z8e7lrl X-Gm-Gg: ASbGncsIce79fga2nVhXUsrkzu6rlHUjxqbMK6Oyr0JzNkjfBKM3fyzu3qMVVRsEuZH 9hz7gCw5AEwIO+VnMXZ4/lu8xHUNf0NTboFfdyWw8NDp3Av5Ejd0Hn5ZKG7YbFD6Ltd0SrqPgR2 6gKiShh538vDS7oD1amDFMXwyLIk5T6A+7L/1TgQ9dNwmnnXdB6VnRcf7O16q5UUoDf7XJOYgsd gkXmqUbdKxt1+M8u1a2coDrX6vjw7lPxutb2rWVvd3tbF0ZysZhmIdqH5YEO4u0hi0t0xHeH1cH D5w7c/Ad9IlgDxw7XIT5HRZcyhELxaJ6TKqC X-Google-Smtp-Source: AGHT+IEZbFgFd6QVzizWJ6pWI2+/8llzzmRFc762oUgrsyIZcY5WCd13+6ftmN8kyN4nRRy0n9jjzKLsmIVh X-Received: by 2002:a17:902:c406:b0:220:e63c:5b13 with SMTP id d9443c01a7336-22e1eaa6a70mr42871855ad.46.1746337634629; Sat, 03 May 2025 22:47:14 -0700 (PDT) Received: from postal.iol.unh.edu (postal.iol.unh.edu. [2606:4100:3880:1234::84]) by smtp-relay.gmail.com with ESMTPS id d9443c01a7336-22e1522b4a1sm9200795ad.86.2025.05.03.22.47.14 (version=TLS1_2 cipher=ECDHE-ECDSA-AES128-GCM-SHA256 bits=128/128); Sat, 03 May 2025 22:47:14 -0700 (PDT) X-Relaying-Domain: iol.unh.edu Date: Sat, 03 May 2025 22:47:14 -0700 (PDT) Message-ID: <6816ff62.170a0220.3aabd8.b2d6SMTPIN_ADDED_MISSING@mx.google.com> Received: from [172.21.0.5] (unknown [172.18.0.240]) by postal.iol.unh.edu (Postfix) with ESMTP id B52146052471; Sun, 4 May 2025 01:47:13 -0400 (EDT) Subject: |SUCCESS| [GIT MASTER] 4c5634de9f933555bab9c64a533d3dca999071cd From: dpdklab@iol.unh.edu To: Test Report Cc: dpdk-test-reports@iol.unh.edu, Xueming Li , Christian Ehrhardt , Kevin Traynor , Luca Boccassi Content-Type: text/plain X-BeenThere: test-report@dpdk.org X-Mailman-Version: 2.1.29 Precedence: list List-Id: automatic DPDK test reports List-Unsubscribe: , List-Archive: List-Post: List-Help: List-Subscribe: , Errors-To: test-report-bounces@dpdk.org _Testing PASS_ Branch: tags/v24.11 4c5634de9f933555bab9c64a533d3dca999071cd --> testing pass Upstream job id: Generic-Unit-Test-DPDK#335013 Test environment and result as below: +-----------------------------+----------------+--------------+------------------------------+---------------------------+ | Environment | dpdk_unit_test | lpm_autotest | cryptodev_sw_snow3g_autotest | cryptodev_sw_zuc_autotest | +=============================+================+==============+==============================+===========================+ | CentOS Stream 9 (ARM) | PASS | SKIPPED | SKIPPED | SKIPPED | +-----------------------------+----------------+--------------+------------------------------+---------------------------+ | CentOS Stream 10 (ARM) | PASS | SKIPPED | SKIPPED | SKIPPED | +-----------------------------+----------------+--------------+------------------------------+---------------------------+ | Fedora 41 (ARM) | PASS | SKIPPED | SKIPPED | SKIPPED | +-----------------------------+----------------+--------------+------------------------------+---------------------------+ | Fedora 40 (ARM Clang) | PASS | SKIPPED | SKIPPED | SKIPPED | +-----------------------------+----------------+--------------+------------------------------+---------------------------+ | Fedora 40 (ARM) | PASS | SKIPPED | SKIPPED | SKIPPED | +-----------------------------+----------------+--------------+------------------------------+---------------------------+ | Debian 12 (arm) | PASS | SKIPPED | PASS | PASS | +-----------------------------+----------------+--------------+------------------------------+---------------------------+ | Fedora 41 (ARM Clang) | PASS | SKIPPED | SKIPPED | SKIPPED | +-----------------------------+----------------+--------------+------------------------------+---------------------------+ | Ubuntu 20.04 (ARM) | PASS | SKIPPED | SKIPPED | SKIPPED | +-----------------------------+----------------+--------------+------------------------------+---------------------------+ | Ubuntu 22.04 (ARM) | PASS | SKIPPED | SKIPPED | SKIPPED | +-----------------------------+----------------+--------------+------------------------------+---------------------------+ | RHEL9 (ARM) | PASS | SKIPPED | SKIPPED | SKIPPED | +-----------------------------+----------------+--------------+------------------------------+---------------------------+ | Ubuntu 24.04 (ARM) | PASS | SKIPPED | SKIPPED | SKIPPED | +-----------------------------+----------------+--------------+------------------------------+---------------------------+ | 32-bit Ubuntu 22.04.4 (ARM) | PASS | SKIPPED | SKIPPED | SKIPPED | +-----------------------------+----------------+--------------+------------------------------+---------------------------+ | Ubuntu 20.04 ARM SVE | SKIPPED | PASS | SKIPPED | SKIPPED | +-----------------------------+----------------+--------------+------------------------------+---------------------------+ CentOS Stream 9 (ARM) Kernel: Depends on container host Compiler: gcc 11.5.0 20240719 (Red Hat 11.5.0-2) CentOS Stream 10 (ARM) Kernel: Depends on container host Compiler: gcc 14.2.1 20241104 (Red Hat 14.2.1-6) Fedora 41 (ARM) Kernel: Depends on container host Compiler: gcc 14.2.1 20240912 (Red Hat 14.2.1-3) Fedora 40 (ARM Clang) Kernel: Depends on container host Compiler: clang 18.1.8 (Fedora 18.1.8-1.fc40) Fedora 40 (ARM) Kernel: Depends on container host Compiler: gcc 14.2.1 20240912 (Red Hat 14.2.1-3) Debian 12 (arm) Kernel: Depends on container host Compiler: gcc (Debian 12.2.0-14) 12.2.0 Fedora 41 (ARM Clang) Kernel: Depends on container host Compiler: clang 19.1.5 (Fedora 19.1.5-1.fc41) Ubuntu 20.04 (ARM) Kernel: Depends on container host Compiler: gcc (Ubuntu 9.4.0-1ubuntu1~20.04.2) 9.4.0 Ubuntu 22.04 (ARM) Kernel: Depends on container host Compiler: gcc (Ubuntu 11.4.0-1ubuntu1~22.04) 11.4.0 RHEL9 (ARM) Kernel: Depends on container host Compiler: gcc 11.5.0 20240719 (Red Hat 11.5.0-2) Ubuntu 24.04 (ARM) Kernel: Depends on container host Compiler: gcc (Ubuntu 13.3.0-6ubuntu2~24.04) 13.3.0 32-bit Ubuntu 22.04.4 (ARM) Kernel: 5.15.83+ aarch64 Compiler: gcc (Ubuntu 11.4.0-1ubuntu1~22.04) 11.4.0 Ubuntu 20.04 ARM SVE Kernel: Depends on container host Compiler: gcc (Ubuntu 10.5.0-1ubuntu1~20.04) 10.5.0 To view detailed results, visit: https://lab.dpdk.org/results/dashboard/tarballs/33419/ UNH-IOL DPDK Community Lab To manage your email subscriptions, visit: https://lab.dpdk.org/results/dashboard/preferences/subscriptions/