From mboxrd@z Thu Jan 1 00:00:00 1970 Return-Path: Received: from mails.dpdk.org (mails.dpdk.org [217.70.189.124]) by inbox.dpdk.org (Postfix) with ESMTP id 7AA8F466B8 for ; Sun, 4 May 2025 07:57:55 +0200 (CEST) Received: from mails.dpdk.org (localhost [127.0.0.1]) by mails.dpdk.org (Postfix) with ESMTP id 55FFD4025D; Sun, 4 May 2025 07:57:55 +0200 (CEST) Received: from mail-vk1-f227.google.com (mail-vk1-f227.google.com [209.85.221.227]) by mails.dpdk.org (Postfix) with ESMTP id C21C940156 for ; Sun, 4 May 2025 07:57:54 +0200 (CEST) Received: by mail-vk1-f227.google.com with SMTP id 71dfb90a1353d-52413efd0d3so951146e0c.2 for ; Sat, 03 May 2025 22:57:54 -0700 (PDT) DKIM-Signature: v=1; a=rsa-sha256; c=relaxed/relaxed; d=iol.unh.edu; s=unh-iol; t=1746338274; x=1746943074; darn=dpdk.org; h=cc:to:from:subject:message-id:date:from:to:cc:subject:date :message-id:reply-to; bh=dYPaDglcXY79q2XzX3daQdpQ1EXQSFv0ZgPtDELTLzE=; b=Qq887QjdGwJKi3LKQpmEvBTS5D6QWsAyadzaUpf8GWW6ituVTOz1s0Qr4tYXPD7z9w ByA/rH3RCbzIuqwGWN0AjGIGBQySQ4v+u7VJ+BVgUfcXWGInJRvemcgP65ItdVrYS/A/ lMG9Ed7U2zSuUtRC/OB/LTvFNHz6DfqAxwbYE= X-Google-DKIM-Signature: v=1; a=rsa-sha256; c=relaxed/relaxed; d=1e100.net; s=20230601; t=1746338274; x=1746943074; h=cc:to:from:subject:message-id:date:x-gm-message-state:from:to:cc :subject:date:message-id:reply-to; bh=dYPaDglcXY79q2XzX3daQdpQ1EXQSFv0ZgPtDELTLzE=; b=Nq6seCSL5EEa5YBQBlEyAPtzBvgFdFYBlic/JOj/aKCfPvWxJSaR+qsmuLgELAViTU bgFETT8UlpRQQ9+eUwQoQAZNkxRJ9Vnnmeg/BlfhHq8EXxdGEO2Rww3n+DoiNf9uP5XE Hh1SkCnxAXphmiNb2q5vlGUVrYRkh+ecJq4jcLDgFBXu5syc0Ut/OhCKHboi4RnYwKhi RbaKXgO4GJmZMVLbJz7o7OKopijTW0T5wbxUQUn9XtSMIveRPI3MDbtBM+xhMQiW9qoa mlD3fl/e2VBKsb7brgFDgg3l0EBcTJJbvRbVlf7k+VP+ifxosyqZ42G43/q7BZnKzWtz vSXg== X-Gm-Message-State: AOJu0YwO/MeThmS4YwnQggfObICAUWHsYW26KWQf121Syo22bThUNfpz c2wiwz0uM0TLBj9I1KZEjSmGLesATJK1l8Jocd7Ibn0oIUGZBgoMnG5IAiG8SK6S8M2RGArDrsZ wrV35VOTMvThXscFqOCZ53NTVVMhZ8tcs X-Gm-Gg: ASbGncurZ0blTC/vyyelkl4DwHE+X1EibvPJMVNA54zF8aRTnMypug4R3mVOSxBRsO6 OYql106gTgiC227Ev//ng+NV+znRrxt4ZcNkPo0YmHjwCQvmxRmssoy0SajSI1O3r3pj5stiaNb /c//TEEy6FtU35RPEJ8BOsCerObKc59hCsJWU4TcD8JCvfV9WJsn0cVfmhRQWD4fLgECehUP7VC GGKZJn1Gohr6UYl4qsSgPWAGuewmwsZYMm26TP01T+z4xvOgiB+iQ3sxemy2PjX6we+Khv84rsU I1tMNyDmVt7AuPszFH7PHaVcbvBDuSG2nGGJGhjso07D/xLifWP6fmOUPGI= X-Google-Smtp-Source: AGHT+IEvKUp7dmF0LKJRNq1aglr9Iig8Z9zCV09Cn+o2hvhYJGNr68wsV5dMltH4bQ8Dvv3YcMB0jIh0pffp X-Received: by 2002:a05:6102:5049:b0:4c3:7f7:92f4 with SMTP id ada2fe7eead31-4db147b2ec8mr1342483137.6.1746338274034; Sat, 03 May 2025 22:57:54 -0700 (PDT) Received: from postal.iol.unh.edu (postal.iol.unh.edu. [132.177.123.84]) by smtp-relay.gmail.com with ESMTPS id a1e0cc1a2514c-8780b287bc9sm450698241.12.2025.05.03.22.57.53 (version=TLS1_2 cipher=ECDHE-ECDSA-AES128-GCM-SHA256 bits=128/128); Sat, 03 May 2025 22:57:54 -0700 (PDT) X-Relaying-Domain: iol.unh.edu Date: Sat, 03 May 2025 22:57:54 -0700 (PDT) Message-ID: <681701e2.050a0220.1067f0.508dSMTPIN_ADDED_MISSING@mx.google.com> Received: from [172.21.0.5] (unknown [172.18.0.240]) by postal.iol.unh.edu (Postfix) with ESMTP id B0AC56052471; Sun, 4 May 2025 01:57:53 -0400 (EDT) Subject: |SUCCESS| [GIT MASTER] 4c5634de9f933555bab9c64a533d3dca999071cd From: dpdklab@iol.unh.edu To: Test Report Cc: dpdk-test-reports@iol.unh.edu, Xueming Li , Christian Ehrhardt , Kevin Traynor , Luca Boccassi Content-Type: text/plain X-BeenThere: test-report@dpdk.org X-Mailman-Version: 2.1.29 Precedence: list List-Id: automatic DPDK test reports List-Unsubscribe: , List-Archive: List-Post: List-Help: List-Subscribe: , Errors-To: test-report-bounces@dpdk.org _Testing PASS_ Branch: tags/v24.11 4c5634de9f933555bab9c64a533d3dca999071cd --> testing pass Upstream job id: Generic-VM-Unit-Test-DPDK#28298 Test environment and result as below: +---------------------+----------------+ | Environment | dpdk_unit_test | +=====================+================+ | CentOS Stream 10 | PASS | +---------------------+----------------+ | CentOS Stream 9 | PASS | +---------------------+----------------+ | Fedora 41 (Clang) | PASS | +---------------------+----------------+ | Debian 12 | PASS | +---------------------+----------------+ | Fedora 40 | PASS | +---------------------+----------------+ | Fedora 40 (Clang) | PASS | +---------------------+----------------+ | Fedora 41 | PASS | +---------------------+----------------+ | RHEL9 | PASS | +---------------------+----------------+ | RHEL8 | PASS | +---------------------+----------------+ | Ubuntu 22.04 | PASS | +---------------------+----------------+ | Ubuntu 20.04 | PASS | +---------------------+----------------+ | Ubuntu 24.04 | PASS | +---------------------+----------------+ | Windows Server 2022 | PASS | +---------------------+----------------+ CentOS Stream 10 Kernel: Depends on container host Compiler: gcc 14.2.1 20241104 (Red Hat 14.2.1-6) CentOS Stream 9 Kernel: Depends on container host Compiler: gcc 11.5.0 20240719 (Red Hat 11.5.0-2) Fedora 41 (Clang) Kernel: Depends on container host Compiler: clang 19.1.5 (Fedora 19.1.5-1.fc41) Debian 12 Kernel: Depends on container host Compiler: gcc (Debian 12.2.0-14) 12.2.0 Fedora 40 Kernel: Depends on container host Compiler: gcc 14.2.1 20240912 (Red Hat 14.2.1-3) Fedora 40 (Clang) Kernel: Depends on container host Compiler: clang 18.1.8 (Fedora 18.1.8-1.fc40) Fedora 41 Kernel: Depends on container host Compiler: gcc 14.2.1 20240912 (Red Hat 14.2.1-3) RHEL9 Kernel: Depends on container host Compiler: gcc 11.5.0 20240719 (Red Hat 11.5.0-2) RHEL8 Kernel: Depends on container host Compiler: gcc 8.5.0 20210514 (Red Hat 8.5.0-22) Ubuntu 22.04 Kernel: Depends on container host Compiler: gcc (Ubuntu 11.4.0-1ubuntu1~22.04) 11.4.0 Ubuntu 20.04 Kernel: Depends on container host Compiler: gcc (Ubuntu 9.4.0-1ubuntu1~20.04.2) 9.4.0 Ubuntu 24.04 Kernel: Depends on container host Compiler: gcc (Ubuntu 13.3.0-6ubuntu2~24.04) 13.3.0 Windows Server 2022 Kernel: 10.0.20348.2031 Compiler: clang 15.0.7, gcc 14.1.0 (MinGW), and MSVC VS 19.39.33521 To view detailed results, visit: https://lab.dpdk.org/results/dashboard/tarballs/33419/ UNH-IOL DPDK Community Lab To manage your email subscriptions, visit: https://lab.dpdk.org/results/dashboard/preferences/subscriptions/