From mboxrd@z Thu Jan 1 00:00:00 1970 Return-Path: Received: from mails.dpdk.org (mails.dpdk.org [217.70.189.124]) by inbox.dpdk.org (Postfix) with ESMTP id 1AEBE466B9 for ; Sun, 4 May 2025 08:04:11 +0200 (CEST) Received: from mails.dpdk.org (localhost [127.0.0.1]) by mails.dpdk.org (Postfix) with ESMTP id 171B34025D; Sun, 4 May 2025 08:04:11 +0200 (CEST) Received: from mail-vk1-f226.google.com (mail-vk1-f226.google.com [209.85.221.226]) by mails.dpdk.org (Postfix) with ESMTP id 6161740156 for ; Sun, 4 May 2025 08:04:10 +0200 (CEST) Received: by mail-vk1-f226.google.com with SMTP id 71dfb90a1353d-5290be1aedcso3187351e0c.1 for ; Sat, 03 May 2025 23:04:10 -0700 (PDT) DKIM-Signature: v=1; a=rsa-sha256; c=relaxed/relaxed; d=iol.unh.edu; s=unh-iol; t=1746338649; x=1746943449; darn=dpdk.org; h=cc:to:from:subject:message-id:date:from:to:cc:subject:date :message-id:reply-to; bh=BGhkDDG9mhLRNf0VvziAHXN9uGO76kczN7dNgL8VxwY=; b=Y1O7nomCTVIjoNgMUtqz9yXw04CYHflAwk8ZRozcvoyJ/WXdNtEdbidQapVk/hXDkg V6kiW1BTFFpyRxvt97onD+q8Tfv+/7oIblVnuN8ziF5sVYCUpFhlXtB2imHh9i4LOl7w CohAumXha5R9jtNxE97HhLQ9dLEvAgKObsUQc= X-Google-DKIM-Signature: v=1; a=rsa-sha256; c=relaxed/relaxed; d=1e100.net; s=20230601; t=1746338649; x=1746943449; h=cc:to:from:subject:message-id:date:x-gm-message-state:from:to:cc :subject:date:message-id:reply-to; bh=BGhkDDG9mhLRNf0VvziAHXN9uGO76kczN7dNgL8VxwY=; b=B+cUWW9lYda15AIhcL/kbyVwIkA46RMig6wbr6qtjm1QNe/BPUClGeCCVHyoEBEPWe oPnIIdmdWZlWfG+YZDMg4f4E73Pxv9MbiBfB5b6UZKmN/EsumDVAyoNGmNpGI4wBU3qC k92Kvcgj4MFjYWgo9WVFMCHqhRxxsPlsmIQwRw9XtcK+dVPzDmsVSDpaKhpCPiSoKQi1 Qv4/lnvhQn5eAWHmwIAxnmveFkjI5yt9JIQudHQL5gSpkVleXnLUBFTaP9+Lfi1NFXCX hjVVogLf6AsBTVsbPR2cJmUvi5TU6O3ljiDCVqlvX2woNuqIEWcDIvFpz5ut7t7yMV6b o/nA== X-Gm-Message-State: AOJu0YyyYW/qn3cb0Ch+X+Kp+ZotelO8VVGCYpPtmGuIrP9CkcRS+yFk lWqhtkbcof0WzeBMAPr4L1DlO3myCzJ9vvSK3478/eOast2QPTGxJ2I+zjlrnkyDkcUCulS1IMF uAHL3ileQhtnzdU/URSmgfYA3BPSkBc3COIVWXQx1uZEriqn4 X-Gm-Gg: ASbGncsU6ENh3BtfWNf+QF6qiPHatXUPIyup9dtKauGo3z1loLa6rBA5d4UfAyTkcRw Wtd7ZWcH8VvVfV1r5yzms7blialS4aJaYHYxnuh7QSRIzwqeyzgsoq7TEse0A/U2MN6cj8k0e0e H/lp03gmWO2Zi0UJeY7U4HdeDmXOga+c5mIrZdh/1vWdgOklzqpezXEfMOxdBGhqn5nuNkfW44y Yrux5oj5Z3bE8xu4SUEtgJduIdO60wGoarTlLweLWGMy1Kr2iRxkczM1OABrUkWpp8daLsKqiL/ NnjRPpYaOKn0BM7OmM2L6Zj+trmVI0RiaFRq X-Google-Smtp-Source: AGHT+IEXIcAJQ3OnVx6CwjZTdaQz9nYVvN9EO46OI7/MksQTD+T8RBbNsMY8AkI1xaWynXVJLKA67A1cg+km X-Received: by 2002:a05:6122:d85:b0:523:dbd5:4e7f with SMTP id 71dfb90a1353d-52aded807f2mr7760789e0c.3.1746338649708; Sat, 03 May 2025 23:04:09 -0700 (PDT) Received: from postal.iol.unh.edu (postal.iol.unh.edu. [2606:4100:3880:1234::84]) by smtp-relay.gmail.com with ESMTPS id a1e0cc1a2514c-8780affe5fbsm444693241.6.2025.05.03.23.04.09 (version=TLS1_2 cipher=ECDHE-ECDSA-AES128-GCM-SHA256 bits=128/128); Sat, 03 May 2025 23:04:09 -0700 (PDT) X-Relaying-Domain: iol.unh.edu Date: Sat, 03 May 2025 23:04:09 -0700 (PDT) Message-ID: <68170359.050a0220.14728c.4ca4SMTPIN_ADDED_MISSING@mx.google.com> Received: from [172.21.0.6] (unknown [172.18.0.240]) by postal.iol.unh.edu (Postfix) with ESMTP id 5C5C96052471; Sun, 4 May 2025 02:04:09 -0400 (EDT) Subject: |SUCCESS| [GIT MASTER] 4c5634de9f933555bab9c64a533d3dca999071cd From: dpdklab@iol.unh.edu To: Test Report Cc: dpdk-test-reports@iol.unh.edu, Xueming Li , Christian Ehrhardt , Kevin Traynor , Luca Boccassi Content-Type: text/plain X-BeenThere: test-report@dpdk.org X-Mailman-Version: 2.1.29 Precedence: list List-Id: automatic DPDK test reports List-Unsubscribe: , List-Archive: List-Post: List-Help: List-Subscribe: , Errors-To: test-report-bounces@dpdk.org _Testing PASS_ Branch: tags/v24.11 4c5634de9f933555bab9c64a533d3dca999071cd --> testing pass Upstream job id: Generic-DPDK-Compile-ABI#125098 Test environment and result as below: +-------------------+----------+ | Environment | abi_test | +===================+==========+ | CentOS Stream 9 | PASS | +-------------------+----------+ | CentOS Stream 10 | PASS | +-------------------+----------+ | Debian 12 | PASS | +-------------------+----------+ | Fedora 40 (Clang) | PASS | +-------------------+----------+ | Fedora 40 | PASS | +-------------------+----------+ | Fedora 41 (Clang) | PASS | +-------------------+----------+ | Fedora 41 | PASS | +-------------------+----------+ | openSUSE Leap 15 | PASS | +-------------------+----------+ | RHEL9 | PASS | +-------------------+----------+ | RHEL8 | PASS | +-------------------+----------+ | Ubuntu 22.04 | PASS | +-------------------+----------+ | Ubuntu 24.04 | PASS | +-------------------+----------+ CentOS Stream 9 Kernel: Depends on container host Compiler: gcc 11.5.0 20240719 (Red Hat 11.5.0-2) CentOS Stream 10 Kernel: Depends on container host Compiler: gcc 14.2.1 20241104 (Red Hat 14.2.1-6) Debian 12 Kernel: Depends on container host Compiler: gcc (Debian 12.2.0-14) 12.2.0 Fedora 40 (Clang) Kernel: Depends on container host Compiler: clang 18.1.8 (Fedora 18.1.8-1.fc40) Fedora 40 Kernel: Depends on container host Compiler: gcc 14.2.1 20240912 (Red Hat 14.2.1-3) Fedora 41 (Clang) Kernel: Depends on container host Compiler: clang 19.1.5 (Fedora 19.1.5-1.fc41) Fedora 41 Kernel: Depends on container host Compiler: gcc 14.2.1 20240912 (Red Hat 14.2.1-3) openSUSE Leap 15 Kernel: Depends on container host Compiler: gcc (SUSE Linux) 7.5.0 RHEL9 Kernel: Depends on container host Compiler: gcc 11.5.0 20240719 (Red Hat 11.5.0-2) RHEL8 Kernel: Depends on container host Compiler: gcc 8.5.0 20210514 (Red Hat 8.5.0-22) Ubuntu 22.04 Kernel: Depends on container host Compiler: gcc (Ubuntu 11.4.0-1ubuntu1~22.04) 11.4.0 Ubuntu 24.04 Kernel: Depends on container host Compiler: gcc (Ubuntu 13.3.0-6ubuntu2~24.04) 13.3.0 To view detailed results, visit: https://lab.dpdk.org/results/dashboard/tarballs/33419/ UNH-IOL DPDK Community Lab To manage your email subscriptions, visit: https://lab.dpdk.org/results/dashboard/preferences/subscriptions/