From mboxrd@z Thu Jan 1 00:00:00 1970 Return-Path: Received: from mails.dpdk.org (mails.dpdk.org [217.70.189.124]) by inbox.dpdk.org (Postfix) with ESMTP id 625B3466BA for ; Sun, 4 May 2025 08:35:42 +0200 (CEST) Received: from mails.dpdk.org (localhost [127.0.0.1]) by mails.dpdk.org (Postfix) with ESMTP id 390604025D; Sun, 4 May 2025 08:35:42 +0200 (CEST) Received: from mail-qt1-f228.google.com (mail-qt1-f228.google.com [209.85.160.228]) by mails.dpdk.org (Postfix) with ESMTP id 0341340156 for ; Sun, 4 May 2025 08:35:40 +0200 (CEST) Received: by mail-qt1-f228.google.com with SMTP id d75a77b69052e-47ae894e9b7so75553271cf.3 for ; Sat, 03 May 2025 23:35:40 -0700 (PDT) DKIM-Signature: v=1; a=rsa-sha256; c=relaxed/relaxed; d=iol.unh.edu; s=unh-iol; t=1746340540; x=1746945340; darn=dpdk.org; h=references:in-reply-to:cc:to:from:subject:message-id:date:from:to :cc:subject:date:message-id:reply-to; bh=ywbTJPrCr1qmwNjHGj/RHb+WttthtfccGNNau7w0LPM=; b=Y17EdFLBkkIIAL+ob2SBMVW7ptTc+KY4EYJinonKaYl1WTBk5Xn3HD+kYBJ838dk9l HweggbDyEHz6/vAGrosKJl7wQEvWRdIaK4NnCFPzuCPNFf3N5Gl777RG4bqj3CN1tuTW H/oLdVQOf9B+qJr52u/VCz1RkPWKzTN8Gc5lE= X-Google-DKIM-Signature: v=1; a=rsa-sha256; c=relaxed/relaxed; d=1e100.net; s=20230601; t=1746340540; x=1746945340; h=references:in-reply-to:cc:to:from:subject:message-id:date :x-gm-message-state:from:to:cc:subject:date:message-id:reply-to; bh=ywbTJPrCr1qmwNjHGj/RHb+WttthtfccGNNau7w0LPM=; b=G/jbqoOuAH5Fbrt4ntTghrop2I6qphX2W9cQU8TZ9VLyXFpWeQNC30y1xaR6mYUr82 7vXhaogrNTPvjdSA5eRXeUSmiGwyPyX4prRWFYqs1QcqthodIqRFDDLV5NIsV+owHf74 hBfNgkwNvR4mqKDKctiu1mfu5vw9PEx6ESZiPag4cA3hRArT5I1sqo+od/zIpqE6F9z0 8nQ68hK37n/R+X8pSGgh/W8HCHqIFGm1MYvSbDhtfmUw9SmnUNp4c4OYCvIiESyeongU J6PZ4XYBCECdCJ9MI8TfHJes4ya3IXA9X/qVbKhiH1jsQ1/xJ+6vcmiDVbfqvKtqoXu4 fhJg== X-Gm-Message-State: AOJu0YwHRbbcpUqcT/n59Z+QLdSj998oJyJxErPZQTSAVdMewAn77po2 unEt4lcAmhTGkSs7FxLRcTIVf0YBH8LW7ZRvjJIe/M1wheymxRBZhH0RqCFgQ4c+VQJ+rWOnLwt /xW4H5kXE+gXw57IhWlDUzB/bal5wv0+p5MJpnJof X-Gm-Gg: ASbGncsOrmSISJ4kdQUngMY5So1hWlCc9yMTlanxUWxgR5aSE16vnCShyMYXnTvW2z7 UdRi9bmREoydBEiBP5Fzh3O1EDY/gBGxVGtQKwixqmlu5ek4iDd0EvN+rVxdlg6Fm1lmUdJdsX7 z6l8Njes75RbxpLnm75ZCUtyQGpPOIWDpCeBAsicc/CIjy5HrDyJxeny+I6m0FzCsVFytD+OkN/ MCCqmfaQahFZhyi/WOhEr0yG/QBSOuQP3ZnQKxF8WAUS6aXDHa+/yNcsjhJRXbPL0siuPwht2MX /u/4MuiHP7aKwWUKy98NWg77hPBGWghhfAr9P29eUKJbcBCZlekMuv6/cNg= X-Google-Smtp-Source: AGHT+IFscIRFolVLDrrN1jxGw38vsZ0eCAz7iY2xsllwTfmCsnORjUR9xbo2L//dKqlBhV4O+RoFwBCtFPzm X-Received: by 2002:a05:622a:5a10:b0:476:af21:9d4b with SMTP id d75a77b69052e-48e00e67229mr57903411cf.37.1746340540260; Sat, 03 May 2025 23:35:40 -0700 (PDT) Received: from postal.iol.unh.edu (postal.iol.unh.edu. [132.177.123.84]) by smtp-relay.gmail.com with ESMTPS id d75a77b69052e-48b987229ccsm10680261cf.17.2025.05.03.23.35.40 (version=TLS1_2 cipher=ECDHE-ECDSA-AES128-GCM-SHA256 bits=128/128); Sat, 03 May 2025 23:35:40 -0700 (PDT) X-Relaying-Domain: iol.unh.edu Date: Sat, 03 May 2025 23:35:40 -0700 (PDT) Message-ID: <68170abc.c80a0220.5f6a8.bd2fSMTPIN_ADDED_MISSING@mx.google.com> Received: from [172.21.0.5] (unknown [172.18.0.240]) by postal.iol.unh.edu (Postfix) with ESMTP id 041256052471; Sun, 4 May 2025 02:35:40 -0400 (EDT) Subject: |SUCCESS| pw153229 [PATCH] net/mlx5: fix support for meter flow acti From: dpdklab@iol.unh.edu To: Test Report Cc: dpdk-test-reports@iol.unh.edu In-Reply-To: <20250504052350.91160-1-getelson@nvidia.com> References: <20250504052350.91160-1-getelson@nvidia.com> Content-Type: text/plain X-BeenThere: test-report@dpdk.org X-Mailman-Version: 2.1.29 Precedence: list List-Id: automatic DPDK test reports List-Unsubscribe: , List-Archive: List-Post: List-Help: List-Subscribe: , Errors-To: test-report-bounces@dpdk.org Test-Label: iol-compile-amd64-testing Test-Status: SUCCESS http://dpdk.org/patch/153229 _Testing PASS_ Submitter: Gregory Etelson Date: Sunday, May 04 2025 05:23:50 DPDK git baseline: Repo:dpdk Branch: master CommitID:edd3f4b1265e6da707c46ca9b6c39d332647baea 153229 --> testing pass Upstream job id: Generic-VM-DPDK-Compile-Meson#35102 Test environment and result as below: +---------------------+-------------------+--------------------+ | Environment | dpdk_msvc_compile | dpdk_meson_compile | +=====================+===================+====================+ | Windows Server 2022 | PASS | SKIPPED | +---------------------+-------------------+--------------------+ | Ubuntu 20.04 | SKIPPED | PASS | +---------------------+-------------------+--------------------+ | FreeBSD 13.5 | SKIPPED | PASS | +---------------------+-------------------+--------------------+ | FreeBSD 14.2 | SKIPPED | PASS | +---------------------+-------------------+--------------------+ Windows Server 2022 Kernel: 10.0.20348.2031 Compiler: clang 15.0.7, gcc 14.1.0 (MinGW), and MSVC VS 19.39.33521 Ubuntu 20.04 Kernel: 4.19.325-0419325-generic Compiler: gcc (Ubuntu 9.4.0-1ubuntu1~20.04.2) 9.4.0 FreeBSD 13.5 Kernel: 13.5-RELEASE Compiler: clang 19.1.7 FreeBSD 14.2 Kernel: 14.2-RELEASE Compiler: clang 18.1.6 To view detailed results, visit: https://lab.dpdk.org/results/dashboard/patchsets/33099/ UNH-IOL DPDK Community Lab To manage your email subscriptions, visit: https://lab.dpdk.org/results/dashboard/preferences/subscriptions/