From mboxrd@z Thu Jan 1 00:00:00 1970 Return-Path: Received: from mails.dpdk.org (mails.dpdk.org [217.70.189.124]) by inbox.dpdk.org (Postfix) with ESMTP id B4A5D466BA for ; Sun, 4 May 2025 08:56:35 +0200 (CEST) Received: from mails.dpdk.org (localhost [127.0.0.1]) by mails.dpdk.org (Postfix) with ESMTP id 875DE4025D; Sun, 4 May 2025 08:56:35 +0200 (CEST) Received: from mail-yb1-f226.google.com (mail-yb1-f226.google.com [209.85.219.226]) by mails.dpdk.org (Postfix) with ESMTP id 9868D40156 for ; Sun, 4 May 2025 08:56:34 +0200 (CEST) Received: by mail-yb1-f226.google.com with SMTP id 3f1490d57ef6-e728cd7150dso2507739276.3 for ; Sat, 03 May 2025 23:56:34 -0700 (PDT) DKIM-Signature: v=1; a=rsa-sha256; c=relaxed/relaxed; d=iol.unh.edu; s=unh-iol; t=1746341794; x=1746946594; darn=dpdk.org; h=references:in-reply-to:cc:to:from:subject:message-id:date:from:to :cc:subject:date:message-id:reply-to; bh=9aC2Go6dj0y0UZHJ2RQ1msys5MCmA8CHLd6zFrt8BG8=; b=eaFaCMy/l/qGOC+W/1lo73acplvgoaEI4E5jKb9Myeq1wSkywcCGBbvKoNfe/9JATp j4w4nnPMnH0yTzfP33/hM079FD+hbGO+3TcIWKCZsfWP32xHlDAZzOckfxSJHfaqDzjH 8ql1DGZKEhgdEcki2QvfUNlXG48N1e/LW3x70= X-Google-DKIM-Signature: v=1; a=rsa-sha256; c=relaxed/relaxed; d=1e100.net; s=20230601; t=1746341794; x=1746946594; h=references:in-reply-to:cc:to:from:subject:message-id:date :x-gm-message-state:from:to:cc:subject:date:message-id:reply-to; bh=9aC2Go6dj0y0UZHJ2RQ1msys5MCmA8CHLd6zFrt8BG8=; b=nLK1CYvnYIrrj7l4Uc5blbYiVO1c+0kEXaAi7hWwJWXLbumkibdrBnuvAM1Lhix3xP 4anC7MyQb5Q1qj+KYiGfQajXiFVSXbgn+6qxjQMC/iRZ3oabUjtDQKjUa6VJ7MfZ0jYh 11qmzbMC5hhVj90a6L/3U2PPVxy3xHMZMUlH2zFszPSJzAATFuTIYNKNbhLeyuz/OmpL zdj+EbC+85M7soLy4KEohXe6sXmReFVG+DLZ5REas6jYztBMO7vcgXBNWqyRpnx+uFxN 6lc0a+Ibjuu5+5BO2B9aWT8KYMlk/yoRyxKPCcJOOTbVbaY6FB2O4phSNR7pzvvAi7SM fakQ== X-Gm-Message-State: AOJu0YzYAPGTYCLkrpXi3eg6Hpz/avmGE+MVa+eCb40CNnmT62PTpree RzZow6EKUb8Xyj1AJ/sT2z5x8tcN1hkRgld+CROFUnyTWIUlmQbr/x6AN394SRLmtqme+XjIkJE g98jtHSg/MikJmhYBA+hsNDIHWmeLR4IsuK87vUUw X-Gm-Gg: ASbGncvy8EVopouCROVCshEwMXnNo48Q8qTZMHfG9hmPkHrMVdvMVzCzSMDW/F0DhKC Dh5/ZccDarF/Iq7TFom1wBDgB/OmiGD6ECs5GjPCrsZBqvbZrSPnwERgsL6vq5cH2AmISm4PwsN W6Z3T9eHURJQJB0nT36LwPTrvsE+9AeZNv0/sW8PFhXxyBRcuBzzTSHYfvzKgTxumFkcOBF8quZ cXuToeVId0VYkANLqFJL/UmbkL9ZflOX98fM1PewyV5MR1oQ3naF7WE/gq+q3noUi4G3CL21pVV iQq/05P+gowHhb7rJGKeI4wEJnfdkTiFp1OztcZwJOf7Q/Pcg0HDfh/ROIw= X-Google-Smtp-Source: AGHT+IEeeii+Rem5IbWvu8gTrhsQHXHmhKcNPaqpva0A3D1k++iG28V8ChiTnUH4D0J3dMvFO7Ax6waBJb+R X-Received: by 2002:a05:6902:161b:b0:e6d:e693:411c with SMTP id 3f1490d57ef6-e757d0c24cfmr4096760276.2.1746341793857; Sat, 03 May 2025 23:56:33 -0700 (PDT) Received: from postal.iol.unh.edu (postal.iol.unh.edu. [132.177.123.84]) by smtp-relay.gmail.com with ESMTPS id 3f1490d57ef6-e75608f4cf8sm1154781276.0.2025.05.03.23.56.33 (version=TLS1_2 cipher=ECDHE-ECDSA-AES128-GCM-SHA256 bits=128/128); Sat, 03 May 2025 23:56:33 -0700 (PDT) X-Relaying-Domain: iol.unh.edu Date: Sat, 03 May 2025 23:56:33 -0700 (PDT) Message-ID: <68170fa1.250a0220.124640.1433SMTPIN_ADDED_MISSING@mx.google.com> Received: from [172.21.0.5] (unknown [172.18.0.240]) by postal.iol.unh.edu (Postfix) with ESMTP id 854CD6052471; Sun, 4 May 2025 02:56:33 -0400 (EDT) Subject: |SUCCESS| pw153229 [PATCH] net/mlx5: fix support for meter flow acti From: dpdklab@iol.unh.edu To: Test Report Cc: dpdk-test-reports@iol.unh.edu In-Reply-To: <20250504052350.91160-1-getelson@nvidia.com> References: <20250504052350.91160-1-getelson@nvidia.com> Content-Type: text/plain X-BeenThere: test-report@dpdk.org X-Mailman-Version: 2.1.29 Precedence: list List-Id: automatic DPDK test reports List-Unsubscribe: , List-Archive: List-Post: List-Help: List-Subscribe: , Errors-To: test-report-bounces@dpdk.org Test-Label: iol-compile-amd64-testing Test-Status: SUCCESS http://dpdk.org/patch/153229 _Testing PASS_ Submitter: Gregory Etelson Date: Sunday, May 04 2025 05:23:50 DPDK git baseline: Repo:dpdk Branch: master CommitID:edd3f4b1265e6da707c46ca9b6c39d332647baea 153229 --> testing pass Upstream job id: Windows-Compile-DPDK-Native#28190 Test environment and result as below: +---------------------+-------------------+--------------------+-------------------------+ | Environment | dpdk_msvc_compile | dpdk_meson_compile | dpdk_llvm_clang_compile | +=====================+===================+====================+=========================+ | Windows Server 2022 | PASS | SKIPPED | PASS | +---------------------+-------------------+--------------------+-------------------------+ | Ubuntu 20.04 | SKIPPED | PASS | SKIPPED | +---------------------+-------------------+--------------------+-------------------------+ | FreeBSD 13.5 | SKIPPED | PASS | SKIPPED | +---------------------+-------------------+--------------------+-------------------------+ | FreeBSD 14.2 | SKIPPED | PASS | SKIPPED | +---------------------+-------------------+--------------------+-------------------------+ Windows Server 2022 Kernel: 10.0.20348.2031 Compiler: clang 15.0.7, gcc 14.1.0 (MinGW), and MSVC VS 19.39.33521 Ubuntu 20.04 Kernel: 4.19.325-0419325-generic Compiler: gcc (Ubuntu 9.4.0-1ubuntu1~20.04.2) 9.4.0 FreeBSD 13.5 Kernel: 13.5-RELEASE Compiler: clang 19.1.7 FreeBSD 14.2 Kernel: 14.2-RELEASE Compiler: clang 18.1.6 To view detailed results, visit: https://lab.dpdk.org/results/dashboard/patchsets/33099/ UNH-IOL DPDK Community Lab To manage your email subscriptions, visit: https://lab.dpdk.org/results/dashboard/preferences/subscriptions/