From mboxrd@z Thu Jan 1 00:00:00 1970 Return-Path: Received: from mails.dpdk.org (mails.dpdk.org [217.70.189.124]) by inbox.dpdk.org (Postfix) with ESMTP id 36CD7466BA for ; Sun, 4 May 2025 09:10:24 +0200 (CEST) Received: from mails.dpdk.org (localhost [127.0.0.1]) by mails.dpdk.org (Postfix) with ESMTP id 3309E4025D; Sun, 4 May 2025 09:10:24 +0200 (CEST) Received: from mail-il1-f225.google.com (mail-il1-f225.google.com [209.85.166.225]) by mails.dpdk.org (Postfix) with ESMTP id D903640156 for ; Sun, 4 May 2025 09:10:22 +0200 (CEST) Received: by mail-il1-f225.google.com with SMTP id e9e14a558f8ab-3d8fc9dbce4so16217475ab.0 for ; Sun, 04 May 2025 00:10:22 -0700 (PDT) DKIM-Signature: v=1; a=rsa-sha256; c=relaxed/relaxed; d=iol.unh.edu; s=unh-iol; t=1746342622; x=1746947422; darn=dpdk.org; h=references:in-reply-to:cc:to:from:subject:message-id:date:from:to :cc:subject:date:message-id:reply-to; bh=KhjNEkN3cYfyw2m1bM0+nL6jZzRcC7G73uYNbUrmIlY=; b=HcBvf6aL89wD1v6QQML7VjiUflcm/nQkeJHHFOrO/+hWKkuadMNEg9JirPmWWa4VCL x9JBsI5xtH3Ff6kr8h0kXdjazUzrycJ4YM++Sns1p3AwfEH24dVkp7o71f6kpk1HbEwM YwR0J3dJglQj3NlMBjjOLmwYYV+TLyF/OQ7fk= X-Google-DKIM-Signature: v=1; a=rsa-sha256; c=relaxed/relaxed; d=1e100.net; s=20230601; t=1746342622; x=1746947422; h=references:in-reply-to:cc:to:from:subject:message-id:date :x-gm-message-state:from:to:cc:subject:date:message-id:reply-to; bh=KhjNEkN3cYfyw2m1bM0+nL6jZzRcC7G73uYNbUrmIlY=; b=ke+aAAGE2WuqLNGPO+IRBvIQWdufJiEzoygS37ffkpBJDi5QZ3oHu+sd6L825vldk5 lRO7p1T16nIJoskUPDuhuoR4LQ2TUFgw/UlemaGD3cLzb6xaBJZdVAVl0o5hWNLDdaKO svoJN7zH8eELaqOs7TDG+Aldnqb75HBWaUsSxnz3dPkJ65FLpSdwPLbN+wcVkZ4Q4Okl 3mfRvZxCN6yaOsw7pfL1J+y+lmxJ5pqrrZp5RyF8DSGGvlHu2cOyfbjZ6aj1gghTCj+K m8n6tx5UEAE/8CrlQbqUxVUF9KSgDb60ghbYUh/2KEOnmuXntiJThIks8HXApPYWOZe1 tJiw== X-Gm-Message-State: AOJu0YymDjL/YTAlJrL8t8g5b8Zm+eQ3GRqWxphMDVFE5iDo59hRaiZy x7AdklQfmnuxKqoWHw2pDLaUTbXBgnJ4mrLDrBBGg/ObqAM+96uX51+DTZbWgkx5PFjJ0YL0tJ9 oiBdM+B5zWnx3CknrlGHvAOYa8nuQ+PQCG7I3b85I X-Gm-Gg: ASbGncsDKFp7t5JPrD6/I2zMi4WLbNMlqQYl1ENQwzrvYs4bpTDJ789a8Vgkok9/RnV YU39ktffWOiJB8mU0dg3WowZbf62vKHXpdDYdVbP+e27R8BMHuGR6RYgCX1OTy1CHLTusZBPUdh wen5r8NI8rj3NtPivpWo9HfI1sVpFmN9mZ17c5YQSmcoc6jwbvOkUNLsFo7x8srkyrE0mJSlFvQ JVdXiz1Xsd1t7sSi5dDa6iPGVPpo+iYlcq0hHemVNGc1L1J6w18nUlBl/7cVlQ/OLKP2UmA2ykR 8uvrPiDtLiKopgoI0dgQ0pCmnaNxhJKOXztN30V8BaWrPlMZMjJUpNoqhAw= X-Google-Smtp-Source: AGHT+IEmgMhWTpvRbQJ8dQOMt6jCKPdZeIPrDCaPahPego5RDqFMZ9YV5zGjAFygT3AQPl9MxpBhLCeeEeBd X-Received: by 2002:a05:6e02:174a:b0:3d9:668c:a6b9 with SMTP id e9e14a558f8ab-3d970b5e449mr130149745ab.7.1746342622035; Sun, 04 May 2025 00:10:22 -0700 (PDT) Received: from postal.iol.unh.edu (postal.iol.unh.edu. [132.177.123.84]) by smtp-relay.gmail.com with ESMTPS id 8926c6da1cb9f-4f88aa645c5sm1228799173.52.2025.05.04.00.10.21 (version=TLS1_2 cipher=ECDHE-ECDSA-AES128-GCM-SHA256 bits=128/128); Sun, 04 May 2025 00:10:22 -0700 (PDT) X-Relaying-Domain: iol.unh.edu Date: Sun, 04 May 2025 00:10:22 -0700 (PDT) Message-ID: <681712de.050a0220.24aa2f.de24SMTPIN_ADDED_MISSING@mx.google.com> Received: from [172.21.0.7] (unknown [172.18.0.240]) by postal.iol.unh.edu (Postfix) with ESMTP id 5C4626052471; Sun, 4 May 2025 03:10:21 -0400 (EDT) Subject: |SUCCESS| pw153228 [PATCH] net/ice: update log message From: dpdklab@iol.unh.edu To: Test Report Cc: dpdk-test-reports@iol.unh.edu In-Reply-To: <20250502152601.699443-1-dhanya.r.pillai@intel.com> References: <20250502152601.699443-1-dhanya.r.pillai@intel.com> Content-Type: text/plain X-BeenThere: test-report@dpdk.org X-Mailman-Version: 2.1.29 Precedence: list List-Id: automatic DPDK test reports List-Unsubscribe: , List-Archive: List-Post: List-Help: List-Subscribe: , Errors-To: test-report-bounces@dpdk.org Test-Label: iol-compile-amd64-testing Test-Status: SUCCESS http://dpdk.org/patch/153228 _Testing PASS_ Submitter: Pillai, Dhanya R Date: Friday, May 02 2025 15:25:59 DPDK git baseline: Repo:dpdk Branch: master CommitID:2665bfb9838fec7ea6c3b2be5831f93ee087b288 153228 --> testing pass Upstream job id: Generic-VM-DPDK-Compile-Meson#35108 Test environment and result as below: +--------------+--------------------+ | Environment | dpdk_meson_compile | +==============+====================+ | Ubuntu 20.04 | PASS | +--------------+--------------------+ | FreeBSD 13.5 | PASS | +--------------+--------------------+ | FreeBSD 14.2 | PASS | +--------------+--------------------+ Ubuntu 20.04 Kernel: 4.19.325-0419325-generic Compiler: gcc (Ubuntu 9.4.0-1ubuntu1~20.04.2) 9.4.0 FreeBSD 13.5 Kernel: 13.5-RELEASE Compiler: clang 19.1.7 FreeBSD 14.2 Kernel: 14.2-RELEASE Compiler: clang 18.1.6 To view detailed results, visit: https://lab.dpdk.org/results/dashboard/patchsets/33098/ UNH-IOL DPDK Community Lab To manage your email subscriptions, visit: https://lab.dpdk.org/results/dashboard/preferences/subscriptions/