From mboxrd@z Thu Jan 1 00:00:00 1970 Return-Path: Received: from mails.dpdk.org (mails.dpdk.org [217.70.189.124]) by inbox.dpdk.org (Postfix) with ESMTP id 1B49E466BA for ; Sun, 4 May 2025 09:18:22 +0200 (CEST) Received: from mails.dpdk.org (localhost [127.0.0.1]) by mails.dpdk.org (Postfix) with ESMTP id 02CF54025D; Sun, 4 May 2025 09:18:22 +0200 (CEST) Received: from mail-vs1-f97.google.com (mail-vs1-f97.google.com [209.85.217.97]) by mails.dpdk.org (Postfix) with ESMTP id E697140156 for ; Sun, 4 May 2025 09:18:19 +0200 (CEST) Received: by mail-vs1-f97.google.com with SMTP id ada2fe7eead31-4c30f11e79bso837392137.0 for ; Sun, 04 May 2025 00:18:19 -0700 (PDT) DKIM-Signature: v=1; a=rsa-sha256; c=relaxed/relaxed; d=iol.unh.edu; s=unh-iol; t=1746343099; x=1746947899; darn=dpdk.org; h=references:in-reply-to:cc:to:from:subject:message-id:date:from:to :cc:subject:date:message-id:reply-to; bh=/Us4N1aEfbzhMCwxw12oQ4AXSy927CdBJFqCVyhzBgw=; b=C/KZRKSaRlZg179Wxm/zYPFgFAQPQ0P3kV/ttwj9CcovmGVsZrXSyBXt1jTp3lVKaF VUJhXuQHonrMeeNOT3UJo25JWchb5q71lJnuWAdgC8p3eDFTqEBBWfl6U6bGhB7Lo2v6 9iBUu6hPNYISBinlk9UmFIUWRUp353CQaZ7AA= X-Google-DKIM-Signature: v=1; a=rsa-sha256; c=relaxed/relaxed; d=1e100.net; s=20230601; t=1746343099; x=1746947899; h=references:in-reply-to:cc:to:from:subject:message-id:date :x-gm-message-state:from:to:cc:subject:date:message-id:reply-to; bh=/Us4N1aEfbzhMCwxw12oQ4AXSy927CdBJFqCVyhzBgw=; b=nnAXumeTPzmrfFzgUX6EGB2/nswsJwDiObKsjRb5DrGdQ1YenOtbrDFs97zWQe7cYG 7NKpMKOdPHaYMThR1oRCCdDgFpIPMadEEAkAKZcaGBMCPk5ezHb89EIRE8VU8oq+GK9g 9Xw0RBwZJ+KAFNrkIF0mgYIJx7qUGOT4qLb9sbERtxmWo8tukupKkkUxxCH7JpTGJ5qk abL2iAi+ba8K53BKS0eoGU4YeY5x901iy37Wciskkc4jNph6SMNz8rk1IrldsAFW58Rq WgdeXrj+zhzvaAwSNaQi9YvQ8r9S+UqZC7JJEFK4snvA87ksglfU1Q3BIow2RcbOgcdR ApJQ== X-Gm-Message-State: AOJu0Ywjh2PgFn8wk3lv4naYzk2CsNWFvwKVagOGUXVZijKaNAVVKoga mlJAOn9Fa77d+3j0nKx7mt2ZIWCpM12lg14GbAvERs1ymTx99k6A4sBw3Z3j1sNFAyd8Ye1Hydx 5gmsnNlqvj+YHVS5e2q/u1SM5GH6ktt6MyxuN3rRb98DtkNfYhtLxphVX X-Gm-Gg: ASbGncuCyyh+SryL5GkmU6evO8O61VlWDKkJ7dr1H/pwWv74zZSsHFAKuLhomY2zlC0 B+N2irTbXMPFZ3VGABSXAT7tykKKBUaeY24T2n0eoUAWlqQK04zv6vKNkkzmVMebUk7Hw96Ksc+ 5LPgF1XYvSzX0KikT+uj7qvXnJgZZjUPf8eUEYXDhU1CwxFp2oI/Y4KfVm3ZJHT+H65zISonz7U MkocYXQcf7zn/3awx+i/ibEIxXXSYW9nbbDT25ds69Bn+wv/BLSYGAwASQzj7mTbxODVX1N6LDH jd0WOO1+/yj8/Led1VhgqmRFX0g2KsjCb3O1 X-Google-Smtp-Source: AGHT+IEdRXlNAgSgSl7dIqkYn38TlMjiQBkMAhnRKvFhIA6jRdGEyBrJy/6uL9RRybHTjDiKXWWwSiXaVKhJ X-Received: by 2002:a05:6102:5605:b0:4cb:43d4:691e with SMTP id ada2fe7eead31-4dafb5053femr5024678137.10.1746343099120; Sun, 04 May 2025 00:18:19 -0700 (PDT) Received: from postal.iol.unh.edu (postal.iol.unh.edu. [2606:4100:3880:1234::84]) by smtp-relay.gmail.com with ESMTPS id ada2fe7eead31-4daf205f65csm461228137.0.2025.05.04.00.18.19 (version=TLS1_2 cipher=ECDHE-ECDSA-AES128-GCM-SHA256 bits=128/128); Sun, 04 May 2025 00:18:19 -0700 (PDT) X-Relaying-Domain: iol.unh.edu Date: Sun, 04 May 2025 00:18:19 -0700 (PDT) Message-ID: <681714bb.050a0220.13c6ae.3d6aSMTPIN_ADDED_MISSING@mx.google.com> Received: from [172.21.0.5] (unknown [172.18.0.240]) by postal.iol.unh.edu (Postfix) with ESMTP id AC2CA6052471; Sun, 4 May 2025 03:18:18 -0400 (EDT) Subject: |SUCCESS| pw153228 [PATCH] net/ice: update log message From: dpdklab@iol.unh.edu To: Test Report Cc: dpdk-test-reports@iol.unh.edu In-Reply-To: <20250502152601.699443-1-dhanya.r.pillai@intel.com> References: <20250502152601.699443-1-dhanya.r.pillai@intel.com> Content-Type: text/plain X-BeenThere: test-report@dpdk.org X-Mailman-Version: 2.1.29 Precedence: list List-Id: automatic DPDK test reports List-Unsubscribe: , List-Archive: List-Post: List-Help: List-Subscribe: , Errors-To: test-report-bounces@dpdk.org Test-Label: iol-compile-amd64-testing Test-Status: SUCCESS http://dpdk.org/patch/153228 _Testing PASS_ Submitter: Pillai, Dhanya R Date: Friday, May 02 2025 15:25:59 DPDK git baseline: Repo:dpdk Branch: master CommitID:2665bfb9838fec7ea6c3b2be5831f93ee087b288 153228 --> testing pass Upstream job id: Windows-Compile-DPDK-VS#5624 Test environment and result as below: +---------------------+-------------------+--------------------+ | Environment | dpdk_msvc_compile | dpdk_meson_compile | +=====================+===================+====================+ | Windows Server 2022 | PASS | SKIPPED | +---------------------+-------------------+--------------------+ | Ubuntu 20.04 | SKIPPED | PASS | +---------------------+-------------------+--------------------+ | FreeBSD 13.5 | SKIPPED | PASS | +---------------------+-------------------+--------------------+ | FreeBSD 14.2 | SKIPPED | PASS | +---------------------+-------------------+--------------------+ Windows Server 2022 Kernel: 10.0.20348.2031 Compiler: clang 15.0.7, gcc 14.1.0 (MinGW), and MSVC VS 19.39.33521 Ubuntu 20.04 Kernel: 4.19.325-0419325-generic Compiler: gcc (Ubuntu 9.4.0-1ubuntu1~20.04.2) 9.4.0 FreeBSD 13.5 Kernel: 13.5-RELEASE Compiler: clang 19.1.7 FreeBSD 14.2 Kernel: 14.2-RELEASE Compiler: clang 18.1.6 To view detailed results, visit: https://lab.dpdk.org/results/dashboard/patchsets/33098/ UNH-IOL DPDK Community Lab To manage your email subscriptions, visit: https://lab.dpdk.org/results/dashboard/preferences/subscriptions/