From mboxrd@z Thu Jan 1 00:00:00 1970 Return-Path: Received: from mails.dpdk.org (mails.dpdk.org [217.70.189.124]) by inbox.dpdk.org (Postfix) with ESMTP id 55735466BA for ; Sun, 4 May 2025 09:20:06 +0200 (CEST) Received: from mails.dpdk.org (localhost [127.0.0.1]) by mails.dpdk.org (Postfix) with ESMTP id 3731D4025D; Sun, 4 May 2025 09:20:06 +0200 (CEST) Received: from mail-qv1-f98.google.com (mail-qv1-f98.google.com [209.85.219.98]) by mails.dpdk.org (Postfix) with ESMTP id E393640156 for ; Sun, 4 May 2025 09:20:05 +0200 (CEST) Received: by mail-qv1-f98.google.com with SMTP id 6a1803df08f44-6ecf99dd567so47529036d6.0 for ; Sun, 04 May 2025 00:20:05 -0700 (PDT) DKIM-Signature: v=1; a=rsa-sha256; c=relaxed/relaxed; d=iol.unh.edu; s=unh-iol; t=1746343205; x=1746948005; darn=dpdk.org; h=references:in-reply-to:cc:to:from:subject:message-id:date:from:to :cc:subject:date:message-id:reply-to; bh=hnotcP5/4UUp1vL1NyJVC/PdyOFFI37J2AfRxRXAIiw=; b=fu+M5VPRcpHC5uBzrvJtuk0YE78/5p6xi8nEUMsCvtK0qYCi5rvuFL/fyfclD7OkA3 ZnW2wF+z+MaXxnv1ZXMp/JjF3JzC9seNig50IiFy2gR450FEMw4cuhVVxHNAsE6uhPtL JmNue9SP1MPczxURtMnAkbPRWhGqUUhE/aMRs= X-Google-DKIM-Signature: v=1; a=rsa-sha256; c=relaxed/relaxed; d=1e100.net; s=20230601; t=1746343205; x=1746948005; h=references:in-reply-to:cc:to:from:subject:message-id:date :x-gm-message-state:from:to:cc:subject:date:message-id:reply-to; bh=hnotcP5/4UUp1vL1NyJVC/PdyOFFI37J2AfRxRXAIiw=; b=mPwPy6AER/KGU+WPeaiMFxP659XLP51WMFg+QivB+r9l/naecoAe5kOmYBEVDgooEa /DLpXo0Qjp3P6RDdv/Xg+Y/42eBu5WBtygWrwSuiyY/ng4ElDc+OPIdSU6Do2lMbyH+X LbFS4CycbLqlhyeehJ9f4fYBd25HnqhTIyQmMg7VqKMdHkUzrc7lSRmFxLuDT+u8vAju 7l8RUZ4EUHdCqG/WVd5no4CbRw8xpmIaflTHycNzAlUQEiW0tWSuKHW01tiPZxK0GZa0 7285U2J2YlxiiCKR3zb/Oni7SMBmrtXxKXw2tD1YV6L0+VQ6FtOW9MskswCluZPNi9os n+Mw== X-Gm-Message-State: AOJu0YzpS657pmzOAuUQJ+2cloZcDHnKoBhVvnfaBBH90GEGLLLCJWnG gvjxQ+TLz8+n8qTJPQi01ogbaIl0wWCe1nskelXmgRHsL5G8S2BdW3Gafex+1I8lmX3YfdabWov xCXxRY6TknQEKFjnEfvXwQG9++i8jtawI3TAUcQDP X-Gm-Gg: ASbGnctbDk4DzyqDBei513sWPgT934/v6qAz2q56sAkHG1gk7tDv+fGT3EYnlYlqgS1 yM3jDKmGk30Sn82SDG/b9X9pqmDwS7O4VNcPkXyHQMIfSQh3qS464lv9HU9jJoJpTUfK6NwFkLz In4OnaEGH4e1xpiX/xUH75WsgYe58q3h/nOp+/zvXfmGqTotHNFZI0iUZbGVcO2Go9gMEpb4Jik xKHFmHukMtHypLbDe8uYdj+1yUZy2ZA8bgd5pbD3tJI/T/moNQXsoqv6IAN9Fiz5orwKKPMDCd2 kT9WQZoYjhS08vP8v9NChbA9VGIrKAuohcofGQYpSRHnlc9Lnhs/3Wq2Vg4= X-Google-Smtp-Source: AGHT+IHa0GBoyg7AV3MwbU1SiCKzfqdheauBG78sYNqScrBsILlR5rPM8V51JqLKtHZcIdv1IiacqTdbNSbC X-Received: by 2002:a05:6214:519b:b0:6e8:f445:3578 with SMTP id 6a1803df08f44-6f528c3f32dmr50283026d6.2.1746343205292; Sun, 04 May 2025 00:20:05 -0700 (PDT) Received: from postal.iol.unh.edu (postal.iol.unh.edu. [132.177.123.84]) by smtp-relay.gmail.com with ESMTPS id 6a1803df08f44-6f50f48e811sm14944226d6.60.2025.05.04.00.20.05 (version=TLS1_2 cipher=ECDHE-ECDSA-AES128-GCM-SHA256 bits=128/128); Sun, 04 May 2025 00:20:05 -0700 (PDT) X-Relaying-Domain: iol.unh.edu Date: Sun, 04 May 2025 00:20:05 -0700 (PDT) Message-ID: <68171525.050a0220.29b759.0277SMTPIN_ADDED_MISSING@mx.google.com> Received: from [172.21.0.6] (unknown [172.18.0.240]) by postal.iol.unh.edu (Postfix) with ESMTP id EDAED6052471; Sun, 4 May 2025 03:20:04 -0400 (EDT) Subject: |SUCCESS| pw153229 [PATCH] net/mlx5: fix support for meter flow acti From: dpdklab@iol.unh.edu To: Test Report Cc: dpdk-test-reports@iol.unh.edu In-Reply-To: <20250504052350.91160-1-getelson@nvidia.com> References: <20250504052350.91160-1-getelson@nvidia.com> Content-Type: text/plain X-BeenThere: test-report@dpdk.org X-Mailman-Version: 2.1.29 Precedence: list List-Id: automatic DPDK test reports List-Unsubscribe: , List-Archive: List-Post: List-Help: List-Subscribe: , Errors-To: test-report-bounces@dpdk.org Test-Label: iol-compile-amd64-testing Test-Status: SUCCESS http://dpdk.org/patch/153229 _Testing PASS_ Submitter: Gregory Etelson Date: Sunday, May 04 2025 05:23:50 DPDK git baseline: Repo:dpdk Branch: master CommitID:edd3f4b1265e6da707c46ca9b6c39d332647baea 153229 --> testing pass Upstream job id: Windows-Compile-DPDK-Native#28191 Test environment and result as below: +---------------------+-------------------+--------------------+-------------------------+----------------------+ | Environment | dpdk_msvc_compile | dpdk_meson_compile | dpdk_llvm_clang_compile | dpdk_mingw64_compile | +=====================+===================+====================+=========================+======================+ | Windows Server 2022 | PASS | SKIPPED | PASS | PASS | +---------------------+-------------------+--------------------+-------------------------+----------------------+ | Ubuntu 20.04 | SKIPPED | PASS | SKIPPED | SKIPPED | +---------------------+-------------------+--------------------+-------------------------+----------------------+ | FreeBSD 13.5 | SKIPPED | PASS | SKIPPED | SKIPPED | +---------------------+-------------------+--------------------+-------------------------+----------------------+ | FreeBSD 14.2 | SKIPPED | PASS | SKIPPED | SKIPPED | +---------------------+-------------------+--------------------+-------------------------+----------------------+ Windows Server 2022 Kernel: 10.0.20348.2031 Compiler: clang 15.0.7, gcc 14.1.0 (MinGW), and MSVC VS 19.39.33521 Ubuntu 20.04 Kernel: 4.19.325-0419325-generic Compiler: gcc (Ubuntu 9.4.0-1ubuntu1~20.04.2) 9.4.0 FreeBSD 13.5 Kernel: 13.5-RELEASE Compiler: clang 19.1.7 FreeBSD 14.2 Kernel: 14.2-RELEASE Compiler: clang 18.1.6 To view detailed results, visit: https://lab.dpdk.org/results/dashboard/patchsets/33099/ UNH-IOL DPDK Community Lab To manage your email subscriptions, visit: https://lab.dpdk.org/results/dashboard/preferences/subscriptions/