From mboxrd@z Thu Jan 1 00:00:00 1970 Return-Path: Received: from mails.dpdk.org (mails.dpdk.org [217.70.189.124]) by inbox.dpdk.org (Postfix) with ESMTP id 78950466B3 for ; Sun, 4 May 2025 09:42:31 +0200 (CEST) Received: from mails.dpdk.org (localhost [127.0.0.1]) by mails.dpdk.org (Postfix) with ESMTP id 5FF234025D; Sun, 4 May 2025 09:42:31 +0200 (CEST) Received: from mail-il1-f228.google.com (mail-il1-f228.google.com [209.85.166.228]) by mails.dpdk.org (Postfix) with ESMTP id 742D940156 for ; Sun, 4 May 2025 09:42:30 +0200 (CEST) Received: by mail-il1-f228.google.com with SMTP id e9e14a558f8ab-3cfce97a3d9so14177075ab.2 for ; Sun, 04 May 2025 00:42:30 -0700 (PDT) DKIM-Signature: v=1; a=rsa-sha256; c=relaxed/relaxed; d=iol.unh.edu; s=unh-iol; t=1746344549; x=1746949349; darn=dpdk.org; h=cc:to:from:subject:message-id:date:from:to:cc:subject:date :message-id:reply-to; bh=+oYMEhkmfdCyDK0QVbAf+L8jGcZV6W1cTNyzoVh8UyU=; b=BmKs+olk3bwR8HbJ9GdZZbOnJwXcU+zcO2EWQ2GrHQGQWh5cJQtXaAC9Ugg9Up+nTW cPP/69xZ5ywyp8AG0prBQz6QL6vE2z6RRQNn8FulIa3ynptp05X1syMxvAEBlO14kDdh xiCBjrhpJVL/Yzs/y4BXLS+jbMA11ZVCvsX88= X-Google-DKIM-Signature: v=1; a=rsa-sha256; c=relaxed/relaxed; d=1e100.net; s=20230601; t=1746344549; x=1746949349; h=cc:to:from:subject:message-id:date:x-gm-message-state:from:to:cc :subject:date:message-id:reply-to; bh=+oYMEhkmfdCyDK0QVbAf+L8jGcZV6W1cTNyzoVh8UyU=; b=uGzkHETM2Hu8zj+dn6cy9EDL0c7VV90oENvwbxmszVd1HvQbm7IPV9Guzfb5Xtl3DW lHfTu3HjYta5059/YBOb/5S3bah+9EB262+uQScb5+e2WU+eJy6yB9/K1asz1N6yjeZe gttRJ8aKy6l2l9HfQE40r9hjVh48dmuvxzzbijx2Zps+HMWSqDXjkhjueNq4SlQq82Fk o2H5Anze3nu4l1ij0upDgdZbS3EixQuGXfKc0aZQLNwjq9ypR1XeOPPWtScvXX5aaFw+ 3kZK97vnHCSyka+tfPozV3cJo2Wk2md6HoVa6cn+0PxGjc3V+l+H2DUU6Lja1kV/5sAR TTjw== X-Gm-Message-State: AOJu0Yx8IWPw0F4qUpo5iccoD3C4ZmOkpmpN9JahCdWyh02ZkOL7DO4a BRIPq46gHXVoPAHHEk1SG/YzRzXsAO82+xsnCTBShPdPE80JLEfWDoQs6KoUxMaKE7L/0+2hhMy eVY4lhzgapBNnZqZPdkLtng560K3uoyeH7hKpauuJRSAEPZyf X-Gm-Gg: ASbGncuRkEhR7UTdPTF/byl+imHlWbsjqQrK6F2uIEfdsvJ4KPs6lyBfJTGOafkXwYP OrI4UiH6fDlcnfhXUW9ZdwpOTCGm0XpOK/KnBIWnz5P3yEaeNQ3pOqTI3sBRQKhzUpIdxcI0vUS PrEdUTefAShwUgc3lpYfrOLnzjsvSXGcr9a/2Rf4M8dYNPA/NF4C6ZIum904r8r92U2yH00ljSq A5HCv5gXQqwq6SYqR8+1dBi85ZfVIF47IQ5L/5KgvXjmXo2cZoH/PRftLscYa7+HOfToQdvarNB 9kwA9xOyQgQWq2WT1SQXcPsZHmk8vzOnWbWn X-Google-Smtp-Source: AGHT+IGesRQXqpcckZGPyKO0W71S3tdnY4SMExhgvXJYfyRXjy5xNQSf4AetmUFkUI0ivXVfTSDq5Hx9OFfU X-Received: by 2002:a05:6e02:214d:b0:3d0:47cf:869c with SMTP id e9e14a558f8ab-3da5b3438a3mr29855885ab.19.1746344549597; Sun, 04 May 2025 00:42:29 -0700 (PDT) Received: from postal.iol.unh.edu (postal.iol.unh.edu. [2606:4100:3880:1234::84]) by smtp-relay.gmail.com with ESMTPS id 8926c6da1cb9f-4f88a8cf774sm1266431173.13.2025.05.04.00.42.29 (version=TLS1_2 cipher=ECDHE-ECDSA-AES128-GCM-SHA256 bits=128/128); Sun, 04 May 2025 00:42:29 -0700 (PDT) X-Relaying-Domain: iol.unh.edu Date: Sun, 04 May 2025 00:42:29 -0700 (PDT) Message-ID: <68171a65.050a0220.10e4c4.d3c5SMTPIN_ADDED_MISSING@mx.google.com> Received: from [172.21.0.5] (unknown [172.18.0.240]) by postal.iol.unh.edu (Postfix) with ESMTP id 09A9E6052471; Sun, 4 May 2025 03:42:29 -0400 (EDT) Subject: |SUCCESS| [GIT MASTER] 4c5634de9f933555bab9c64a533d3dca999071cd From: dpdklab@iol.unh.edu To: Test Report Cc: dpdk-test-reports@iol.unh.edu, Xueming Li , Christian Ehrhardt , Kevin Traynor , Luca Boccassi Content-Type: text/plain X-BeenThere: test-report@dpdk.org X-Mailman-Version: 2.1.29 Precedence: list List-Id: automatic DPDK test reports List-Unsubscribe: , List-Archive: List-Post: List-Help: List-Subscribe: , Errors-To: test-report-bounces@dpdk.org _Testing PASS_ Branch: tags/v24.11 4c5634de9f933555bab9c64a533d3dca999071cd --> testing pass Upstream job id: ACVP-FIPS-testing#9699 Test environment and result as below: +--------------------+----------------------+----------------------+ | Environment | compressdev_zlib_pmd | dpdk_fips_validation | +====================+======================+======================+ | Ubuntu 22.04 (ARM) | PASS | SKIPPED | +--------------------+----------------------+----------------------+ | Ubuntu 22.04 | PASS | SKIPPED | +--------------------+----------------------+----------------------+ | Ubuntu 20.04 | SKIPPED | PASS | +--------------------+----------------------+----------------------+ Ubuntu 22.04 (ARM) Kernel: 5.15.0-97-generic Compiler: gcc gcc (Ubuntu 11.4.0-1ubuntu1~22.04) 11.4.0 Ubuntu 22.04 Kernel: 5.15.0-100-generic Compiler: gcc gcc (Ubuntu 11.4.0-1ubuntu1~22.04) 11.4.0 Ubuntu 20.04 Kernel: Depends on container host Compiler: gcc (Ubuntu 9.4.0-1ubuntu1~20.04.2) 9.4.0 To view detailed results, visit: https://lab.dpdk.org/results/dashboard/tarballs/33419/ UNH-IOL DPDK Community Lab To manage your email subscriptions, visit: https://lab.dpdk.org/results/dashboard/preferences/subscriptions/