From mboxrd@z Thu Jan 1 00:00:00 1970 Return-Path: Received: from mails.dpdk.org (mails.dpdk.org [217.70.189.124]) by inbox.dpdk.org (Postfix) with ESMTP id 4B796466BA for ; Sun, 4 May 2025 09:51:35 +0200 (CEST) Received: from mails.dpdk.org (localhost [127.0.0.1]) by mails.dpdk.org (Postfix) with ESMTP id 2D15F4025D; Sun, 4 May 2025 09:51:35 +0200 (CEST) Received: from mail-ot1-f97.google.com (mail-ot1-f97.google.com [209.85.210.97]) by mails.dpdk.org (Postfix) with ESMTP id 8125140156 for ; Sun, 4 May 2025 09:51:33 +0200 (CEST) Received: by mail-ot1-f97.google.com with SMTP id 46e09a7af769-72c40235c34so923861a34.3 for ; Sun, 04 May 2025 00:51:33 -0700 (PDT) DKIM-Signature: v=1; a=rsa-sha256; c=relaxed/relaxed; d=iol.unh.edu; s=unh-iol; t=1746345092; x=1746949892; darn=dpdk.org; h=references:in-reply-to:cc:to:from:subject:message-id:date:from:to :cc:subject:date:message-id:reply-to; bh=zf2nfaKrD0P0SOZd67fqThsKYkSlzT2a5TJ6Irgiw7M=; b=RTCp6lXsQy9qtmvov6l+haNZu1Zrr2ew8mbGf1RGh7adFsZN84+slJqmsemZJ8NUng o9CiAJRxNfYBVR5hrIWPp4FE3cQYPa3aNt/MjhleVl9p+j6e8ij1ZY8RFzJy7hLhMXul ckHYEieHjgUfaalTsJ0ot+fkwPG9rrrCp5OAY= X-Google-DKIM-Signature: v=1; a=rsa-sha256; c=relaxed/relaxed; d=1e100.net; s=20230601; t=1746345092; x=1746949892; h=references:in-reply-to:cc:to:from:subject:message-id:date :x-gm-message-state:from:to:cc:subject:date:message-id:reply-to; bh=zf2nfaKrD0P0SOZd67fqThsKYkSlzT2a5TJ6Irgiw7M=; b=Trccy3LdJYedgAiuyidFKAaRgYDVDyjNBSF3ywv4dQjx4DJSlxu2/6FAVejYnyK/Sl h/yNDylzi/3N9wbMU6RAN+dh5mcJIovdKM9T/AV/nH2RD/JCjYFjrAn4vkw2we/E2gTg NZgBovnJuI+oS+kdCDgSTh/hOSJ6El9dFJ++G/b02PyFgyccix+1y7akKOxCRMGxMuRk p1WYypi8gkO2GYKiGLphOHMoCZteLynptUwu7g9iaY7TNUO7DM5iQvNcDk1gREqh18kM 1xdOM855ru8IoRQtgvG9uhQFYjAjPP4QOd9+ayW1p/nmeq0FFXj1L1ZZTRtRyMqC2yB+ /hhQ== X-Gm-Message-State: AOJu0YyFBQrPmYbn4dg1tantgdpwuWQON7IE2x6A98SunSmPT97dpL3u vvWpWOlyG/g4lUszBrUMrsPFpPgzz9qv0zsDovSK+UjlyFNKKQhZaQWo+lU0GmhpjaFF8zzhOhL 59VWHh+Tbbei3TFNUW3r5q85dP8pr+2ZQu2V4gUtmJH9M9jSv8eePdVR8 X-Gm-Gg: ASbGncsUBOlEEarI6tIKN6qYuWeRx/2W0Zm8fYqOmR/zrwubE+g+WUKxMA8JwNjib6l ua6NIKhiFYWaH61m9xkI022SHugeA06obl6YKYaLfZHCaZ7zeNL/Xck9AzLGyR7Hkco65Z+UqCW FrnsjUPvyU8RJmkVWq7XgYYcsKsmv0QoNN939irXcD2/pNJ/QXdOaA1nRPXMfDOPUyTvyzsXl9g dhA8/n7qbdggXhVVka7UEPhNJR/+Z4p7TIDAs5Lqx31MVCKvtlTfc51uEcNKqwmlpfJo+0Tk1NS 8RnmF/4QrCjlc+3Nf6lFJfF61iSXbD85uO9G X-Google-Smtp-Source: AGHT+IHGnOLI0DN71IiqkJz1iTxpod2RoEHKSVHDOb5NeGwOYGMPbw5XqRe5oLBJMqP3BiZITFjN9AT2lUKl X-Received: by 2002:a05:6830:258a:b0:72c:3289:ab9e with SMTP id 46e09a7af769-731eae6fea8mr2105713a34.27.1746345092510; Sun, 04 May 2025 00:51:32 -0700 (PDT) Received: from postal.iol.unh.edu (postal.iol.unh.edu. [2606:4100:3880:1234::84]) by smtp-relay.gmail.com with ESMTPS id 586e51a60fabf-2daa0efe04asm1469765fac.16.2025.05.04.00.51.32 (version=TLS1_2 cipher=ECDHE-ECDSA-AES128-GCM-SHA256 bits=128/128); Sun, 04 May 2025 00:51:32 -0700 (PDT) X-Relaying-Domain: iol.unh.edu Date: Sun, 04 May 2025 00:51:32 -0700 (PDT) Message-ID: <68171c84.050a0220.30f39e.f9cfSMTPIN_ADDED_MISSING@mx.google.com> Received: from [172.21.0.5] (unknown [172.18.0.240]) by postal.iol.unh.edu (Postfix) with ESMTP id EAC086052471; Sun, 4 May 2025 03:51:31 -0400 (EDT) Subject: |SUCCESS| pw153228 [PATCH] net/ice: update log message From: dpdklab@iol.unh.edu To: Test Report Cc: dpdk-test-reports@iol.unh.edu In-Reply-To: <20250502152601.699443-1-dhanya.r.pillai@intel.com> References: <20250502152601.699443-1-dhanya.r.pillai@intel.com> Content-Type: text/plain X-BeenThere: test-report@dpdk.org X-Mailman-Version: 2.1.29 Precedence: list List-Id: automatic DPDK test reports List-Unsubscribe: , List-Archive: List-Post: List-Help: List-Subscribe: , Errors-To: test-report-bounces@dpdk.org Test-Label: iol-compile-amd64-testing Test-Status: SUCCESS http://dpdk.org/patch/153228 _Testing PASS_ Submitter: Pillai, Dhanya R Date: Friday, May 02 2025 15:25:59 DPDK git baseline: Repo:dpdk Branch: master CommitID:2665bfb9838fec7ea6c3b2be5831f93ee087b288 153228 --> testing pass Upstream job id: Windows-Compile-DPDK-VS#5625 Test environment and result as below: +---------------------+--------------------+-------------------+ | Environment | dpdk_meson_compile | dpdk_msvc_compile | +=====================+====================+===================+ | Ubuntu 20.04 | PASS | SKIPPED | +---------------------+--------------------+-------------------+ | FreeBSD 13.5 | PASS | SKIPPED | +---------------------+--------------------+-------------------+ | FreeBSD 14.2 | PASS | SKIPPED | +---------------------+--------------------+-------------------+ | Windows Server 2022 | SKIPPED | PASS | +---------------------+--------------------+-------------------+ Ubuntu 20.04 Kernel: 4.19.325-0419325-generic Compiler: gcc (Ubuntu 9.4.0-1ubuntu1~20.04.2) 9.4.0 FreeBSD 13.5 Kernel: 13.5-RELEASE Compiler: clang 19.1.7 FreeBSD 14.2 Kernel: 14.2-RELEASE Compiler: clang 18.1.6 Windows Server 2022 Kernel: 10.0.20348.2031 Compiler: clang 15.0.7, gcc 14.1.0 (MinGW), and MSVC VS 19.39.33521 To view detailed results, visit: https://lab.dpdk.org/results/dashboard/patchsets/33098/ UNH-IOL DPDK Community Lab To manage your email subscriptions, visit: https://lab.dpdk.org/results/dashboard/preferences/subscriptions/