From mboxrd@z Thu Jan 1 00:00:00 1970 Return-Path: Received: from mails.dpdk.org (mails.dpdk.org [217.70.189.124]) by inbox.dpdk.org (Postfix) with ESMTP id E3D2E466BA for ; Sun, 4 May 2025 09:58:23 +0200 (CEST) Received: from mails.dpdk.org (localhost [127.0.0.1]) by mails.dpdk.org (Postfix) with ESMTP id C8DB04025D; Sun, 4 May 2025 09:58:23 +0200 (CEST) Received: from mail-il1-f227.google.com (mail-il1-f227.google.com [209.85.166.227]) by mails.dpdk.org (Postfix) with ESMTP id 9E35A40156 for ; Sun, 4 May 2025 09:58:22 +0200 (CEST) Received: by mail-il1-f227.google.com with SMTP id e9e14a558f8ab-3d57143ee39so31943055ab.1 for ; Sun, 04 May 2025 00:58:22 -0700 (PDT) DKIM-Signature: v=1; a=rsa-sha256; c=relaxed/relaxed; d=iol.unh.edu; s=unh-iol; t=1746345502; x=1746950302; darn=dpdk.org; h=references:in-reply-to:cc:to:from:subject:message-id:date:from:to :cc:subject:date:message-id:reply-to; bh=NJnZJ9rh3f5OUcrATVXFpP2Jpt/FS5z/kKJn6CbKPe8=; b=QSWExKZqNZ/xKnkWHGDm5ue/LNfi+3qKvfIPBvhGM1vLbfqfWdXS986I8wilg05bos jgOb6m0/mZ1TC9JfErNQt9pxY5lVMaG3lAVEsDsCzpQg6x8LcxHNvo5rvHKNtMSsaSfG 0lYI1wNITyy23tzmBZzHPAP2F1AsnUa0l6G8Q= X-Google-DKIM-Signature: v=1; a=rsa-sha256; c=relaxed/relaxed; d=1e100.net; s=20230601; t=1746345502; x=1746950302; h=references:in-reply-to:cc:to:from:subject:message-id:date :x-gm-message-state:from:to:cc:subject:date:message-id:reply-to; bh=NJnZJ9rh3f5OUcrATVXFpP2Jpt/FS5z/kKJn6CbKPe8=; b=Yf8LGdnWvuVI2FqAmEu1tXuRkOBHvQ469BmJer1Jtxst+0Yge5gfxvMyY1XLljBcat iBNO1OYg2ThR6LcncPv5WgIKCHmR+/4t4LCJM6xe2rzwbJG5KmjcA8fbOLnh2KVtaF37 cga/DK9haGQFlekSpzSzwc6R4AdUrd+WYzRxyUbI03rxwQ1kXDZyaJkbFlpT/nrmjs/g HiLrCeFifpLI+X90vzu16+BOpUzezml8byJhbmXVq00Dr07W+GuIiexIXjPb+pVQwGyA waqJ4uy64XmuwnFb29nNaVY+qiiWaMRDQ/HwXlsyHMDDavYpxJtKtoQ9/q9biZolQ7d2 DNfg== X-Gm-Message-State: AOJu0YwEP7XjmDBRdkuaLrdlGPPR8Q5zgIsftYsA9azWYyF33Zr62ygD uzLD4eRABj092kuCEofJioVQgguGZy7XsYyFSr78YNvVZjNUYcnJeXC3O8HIbeOdNqLwCd9SV0C 5h/nvb7bxpQwNXwNIDAN1VHxDqc3XUnQD7znq75Ak X-Gm-Gg: ASbGnctKSGdjCskuNZeaS8f8FK6lGGkLZkGj69JP8tosk90ohs+0zw9RvfX1ZzfpIkg bf2KD4SP0a8+RpK94arHJMY5l5CHXnwuA1KQ58WXaWmXM+tX+o8H8MBSnkxpi/a14iAD/cPe5Vm LpmdsK/ToC693ZY3x4lIDZSeCh72HOG7hF6jjJAHmLbOOGUQeAzmvzbfg9Sc4IZ+as4N+6kT6qP NrsqkSwiiZZDEAQBfOKsrEv4/7lMqef1OD/zT99+GkqixlXxx/NPSM/zAbpHiw2wXiQD1Qh/Nqd 2oFWSzO4mbdPMbckp+9xHaKUfX/eMRcfWw+xV+FR9u89EDLQOMc0CA0MB0Y= X-Google-Smtp-Source: AGHT+IHfE1PtdFuqSXI6D/NQPzauaoEv99xipjRVlQWC6E5H8ImTW70L/Sfe0Jc28LADtqji55b3XhMtOBDQ X-Received: by 2002:a05:6e02:1908:b0:3d8:2187:5cea with SMTP id e9e14a558f8ab-3da5b23733dmr31241035ab.1.1746345501904; Sun, 04 May 2025 00:58:21 -0700 (PDT) Received: from postal.iol.unh.edu (postal.iol.unh.edu. [132.177.123.84]) by smtp-relay.gmail.com with ESMTPS id 8926c6da1cb9f-4f88a91639esm1247804173.16.2025.05.04.00.58.21 (version=TLS1_2 cipher=ECDHE-ECDSA-AES128-GCM-SHA256 bits=128/128); Sun, 04 May 2025 00:58:21 -0700 (PDT) X-Relaying-Domain: iol.unh.edu Date: Sun, 04 May 2025 00:58:21 -0700 (PDT) Message-ID: <68171e1d.050a0220.1c39a.d91aSMTPIN_ADDED_MISSING@mx.google.com> Received: from [172.21.0.6] (unknown [172.18.0.240]) by postal.iol.unh.edu (Postfix) with ESMTP id 7F2376052471; Sun, 4 May 2025 03:58:21 -0400 (EDT) Subject: |SUCCESS| pw153228 [PATCH] net/ice: update log message From: dpdklab@iol.unh.edu To: Test Report Cc: dpdk-test-reports@iol.unh.edu In-Reply-To: <20250502152601.699443-1-dhanya.r.pillai@intel.com> References: <20250502152601.699443-1-dhanya.r.pillai@intel.com> Content-Type: text/plain X-BeenThere: test-report@dpdk.org X-Mailman-Version: 2.1.29 Precedence: list List-Id: automatic DPDK test reports List-Unsubscribe: , List-Archive: List-Post: List-Help: List-Subscribe: , Errors-To: test-report-bounces@dpdk.org Test-Label: iol-compile-amd64-testing Test-Status: SUCCESS http://dpdk.org/patch/153228 _Testing PASS_ Submitter: Pillai, Dhanya R Date: Friday, May 02 2025 15:25:59 DPDK git baseline: Repo:dpdk Branch: master CommitID:2665bfb9838fec7ea6c3b2be5831f93ee087b288 153228 --> testing pass Upstream job id: Windows-Compile-DPDK-Native#28192 Test environment and result as below: +---------------------+-------------------+--------------------+-------------------------+ | Environment | dpdk_msvc_compile | dpdk_meson_compile | dpdk_llvm_clang_compile | +=====================+===================+====================+=========================+ | Windows Server 2022 | PASS | SKIPPED | PASS | +---------------------+-------------------+--------------------+-------------------------+ | Ubuntu 20.04 | SKIPPED | PASS | SKIPPED | +---------------------+-------------------+--------------------+-------------------------+ | FreeBSD 13.5 | SKIPPED | PASS | SKIPPED | +---------------------+-------------------+--------------------+-------------------------+ | FreeBSD 14.2 | SKIPPED | PASS | SKIPPED | +---------------------+-------------------+--------------------+-------------------------+ Windows Server 2022 Kernel: 10.0.20348.2031 Compiler: clang 15.0.7, gcc 14.1.0 (MinGW), and MSVC VS 19.39.33521 Ubuntu 20.04 Kernel: 4.19.325-0419325-generic Compiler: gcc (Ubuntu 9.4.0-1ubuntu1~20.04.2) 9.4.0 FreeBSD 13.5 Kernel: 13.5-RELEASE Compiler: clang 19.1.7 FreeBSD 14.2 Kernel: 14.2-RELEASE Compiler: clang 18.1.6 To view detailed results, visit: https://lab.dpdk.org/results/dashboard/patchsets/33098/ UNH-IOL DPDK Community Lab To manage your email subscriptions, visit: https://lab.dpdk.org/results/dashboard/preferences/subscriptions/