From mboxrd@z Thu Jan 1 00:00:00 1970 Return-Path: Received: from mails.dpdk.org (mails.dpdk.org [217.70.189.124]) by inbox.dpdk.org (Postfix) with ESMTP id BB13B466BC for ; Sun, 4 May 2025 10:06:17 +0200 (CEST) Received: from mails.dpdk.org (localhost [127.0.0.1]) by mails.dpdk.org (Postfix) with ESMTP id B3D6C4025D; Sun, 4 May 2025 10:06:17 +0200 (CEST) Received: from mail-il1-f226.google.com (mail-il1-f226.google.com [209.85.166.226]) by mails.dpdk.org (Postfix) with ESMTP id 60AD540156 for ; Sun, 4 May 2025 10:06:16 +0200 (CEST) Received: by mail-il1-f226.google.com with SMTP id e9e14a558f8ab-3d589ed2b47so10869575ab.2 for ; Sun, 04 May 2025 01:06:16 -0700 (PDT) DKIM-Signature: v=1; a=rsa-sha256; c=relaxed/relaxed; d=iol.unh.edu; s=unh-iol; t=1746345976; x=1746950776; darn=dpdk.org; h=cc:to:from:subject:message-id:date:from:to:cc:subject:date :message-id:reply-to; bh=efUmB1P4JVDz5rjGRKiX1LLUgEEjHRg8QJE2vaRrCyo=; b=jcHRkEqeveCr1borU/U7hqKh2LjomFwBPwhJvsubQ5L9f4p6dCggoBsDjjIl/2DglM kSdEi+sov1XhxnbKbMBuh+i/z4S/sqXj42J/5p2AIr/nwzOgKpInu54BNDulQ6FM7gMC CoeQAbRZrHV5c0cAdcIPk7QAiLuGvVlOJwyPE= X-Google-DKIM-Signature: v=1; a=rsa-sha256; c=relaxed/relaxed; d=1e100.net; s=20230601; t=1746345976; x=1746950776; h=cc:to:from:subject:message-id:date:x-gm-message-state:from:to:cc :subject:date:message-id:reply-to; bh=efUmB1P4JVDz5rjGRKiX1LLUgEEjHRg8QJE2vaRrCyo=; b=sjiG8IZ5m/YX+3750OVEZeRzwtoEra930BnfSmUCagWg2iVYE4Na8HtIsySOZij5vI F8XKOsC+9/O2pt/E7K+k4w3WMhjHgmrh0O5QQF4IPMn2HR3is9mVdOdOn0rz2+E+seTj JCXSL5rCCJE6yVxQSnJviPa2cyoI/k2x5nz5T2Bzodc4ZwD6ZG4kIrJDg+nNgm6zNxhZ LC2F9u3/iU3ST10IK0/eMCJuYYzSo6S7X5ZXkq/5sEs2q6qpd0sawABw9E56GfeCKo2p T5/HFZ6rwm3aiFXu7hAWU8gJGJisI5Z/nIYK9tb1qxqQf3s8VkrE3SR+X19DeoVUS7JW pJRw== X-Gm-Message-State: AOJu0Yy+67JvEEk9KH2Dv5RUoAcNFjb70GquFjVUDg+EhlUUCSEE8161 8OwCXCH68kEoOyBTmt1VHZvn5Seahv9SEeqEKxT5PBRkcP/VPblel/h/tIRbFokmN6FRcydBGBj V1xiCqBwGW5quPG5+4dRFCiP2DkFkn4r2 X-Gm-Gg: ASbGncslagfLoMw/GuFq6Ntb6Piky6G6rQjvoAKvGMfSRjKMsE9XaMsacWLJdwIZu1x URSh39yWDm70vGJuneudy9VjfdYsAM1Ez6Rya8nf0XryMDSho4gf5oZl/LeNgV4I4vmeXkscyg9 u3yGj/U1eDsXUlse2ihuq7o1lt3U0ms0PAArqgUDcUjH+f5I9z3pqZEBU2hbs91qsxmTDRuCv0T QbHfpZ6pOr/k7+p6gKkZ4pQpdgJHixmK5r0z6WFyCKBfohyNfvC31bWxQOlX+wBwVkAIGDq3n4c T40Xff1/qvECR5I7UNB22hBJLBL61OERsNjNs89ehZEkhdTnTcPPyLZwjY0= X-Google-Smtp-Source: AGHT+IHjq7N1kE6EqfpcQuBwsdxAN/YQLzvH2X12EeUK78WVlTffqgVNeuz4xw+9FuLjzMfNARqULoZXt5t9 X-Received: by 2002:a05:6e02:b2b:b0:3d3:fbae:3978 with SMTP id e9e14a558f8ab-3da56921b33mr42479825ab.9.1746345975795; Sun, 04 May 2025 01:06:15 -0700 (PDT) Received: from postal.iol.unh.edu (postal.iol.unh.edu. [132.177.123.84]) by smtp-relay.gmail.com with ESMTPS id e9e14a558f8ab-3d9760725c3sm14112955ab.63.2025.05.04.01.06.15 (version=TLS1_2 cipher=ECDHE-ECDSA-AES128-GCM-SHA256 bits=128/128); Sun, 04 May 2025 01:06:15 -0700 (PDT) X-Relaying-Domain: iol.unh.edu Date: Sun, 04 May 2025 01:06:15 -0700 (PDT) Message-ID: <68171ff7.050a0220.164b80.e9cdSMTPIN_ADDED_MISSING@mx.google.com> Received: from [172.21.0.6] (unknown [172.18.0.240]) by postal.iol.unh.edu (Postfix) with ESMTP id 4B78E6052471; Sun, 4 May 2025 04:06:15 -0400 (EDT) Subject: |SUCCESS| [GIT MASTER] 83a7a648344674c0269fcaeb71d8d16468421a0e From: dpdklab@iol.unh.edu To: Test Report Cc: dpdk-test-reports@iol.unh.edu, Xueming Li , Christian Ehrhardt , Kevin Traynor , Luca Boccassi Content-Type: text/plain X-BeenThere: test-report@dpdk.org X-Mailman-Version: 2.1.29 Precedence: list List-Id: automatic DPDK test reports List-Unsubscribe: , List-Archive: List-Post: List-Help: List-Subscribe: , Errors-To: test-report-bounces@dpdk.org _Testing PASS_ Branch: tags/v23.11 83a7a648344674c0269fcaeb71d8d16468421a0e --> testing pass Upstream job id: Generic-Unit-Test-DPDK#335048 Test environment and result as below: +---------------------+----------------+ | Environment | dpdk_unit_test | +=====================+================+ | CentOS Stream 9 | PASS | +---------------------+----------------+ | CentOS Stream 10 | PASS | +---------------------+----------------+ | Debian 12 | PASS | +---------------------+----------------+ | Fedora 40 (Clang) | PASS | +---------------------+----------------+ | Fedora 41 | PASS | +---------------------+----------------+ | Fedora 40 | PASS | +---------------------+----------------+ | Fedora 41 (Clang) | PASS | +---------------------+----------------+ | RHEL8 | PASS | +---------------------+----------------+ | Ubuntu 20.04 | PASS | +---------------------+----------------+ | Ubuntu 24.04 | PASS | +---------------------+----------------+ | RHEL9 | PASS | +---------------------+----------------+ | Ubuntu 22.04 | PASS | +---------------------+----------------+ | Windows Server 2022 | PASS | +---------------------+----------------+ CentOS Stream 9 Kernel: Depends on container host Compiler: gcc 11.5.0 20240719 (Red Hat 11.5.0-2) CentOS Stream 10 Kernel: Depends on container host Compiler: gcc 14.2.1 20241104 (Red Hat 14.2.1-6) Debian 12 Kernel: Depends on container host Compiler: gcc (Debian 12.2.0-14) 12.2.0 Fedora 40 (Clang) Kernel: Depends on container host Compiler: clang 18.1.8 (Fedora 18.1.8-1.fc40) Fedora 41 Kernel: Depends on container host Compiler: gcc 14.2.1 20240912 (Red Hat 14.2.1-3) Fedora 40 Kernel: Depends on container host Compiler: gcc 14.2.1 20240912 (Red Hat 14.2.1-3) Fedora 41 (Clang) Kernel: Depends on container host Compiler: clang 19.1.5 (Fedora 19.1.5-1.fc41) RHEL8 Kernel: Depends on container host Compiler: gcc 8.5.0 20210514 (Red Hat 8.5.0-22) Ubuntu 20.04 Kernel: Depends on container host Compiler: gcc (Ubuntu 9.4.0-1ubuntu1~20.04.2) 9.4.0 Ubuntu 24.04 Kernel: Depends on container host Compiler: gcc (Ubuntu 13.3.0-6ubuntu2~24.04) 13.3.0 RHEL9 Kernel: Depends on container host Compiler: gcc 11.5.0 20240719 (Red Hat 11.5.0-2) Ubuntu 22.04 Kernel: Depends on container host Compiler: gcc (Ubuntu 11.4.0-1ubuntu1~22.04) 11.4.0 Windows Server 2022 Kernel: 10.0.20348.2031 Compiler: clang 15.0.7, gcc 14.1.0 (MinGW), and MSVC VS 19.39.33521 To view detailed results, visit: https://lab.dpdk.org/results/dashboard/tarballs/33420/ UNH-IOL DPDK Community Lab To manage your email subscriptions, visit: https://lab.dpdk.org/results/dashboard/preferences/subscriptions/