From mboxrd@z Thu Jan 1 00:00:00 1970 Return-Path: Received: from mails.dpdk.org (mails.dpdk.org [217.70.189.124]) by inbox.dpdk.org (Postfix) with ESMTP id CE3ED466BC for ; Sun, 4 May 2025 10:06:39 +0200 (CEST) Received: from mails.dpdk.org (localhost [127.0.0.1]) by mails.dpdk.org (Postfix) with ESMTP id C956D4025D; Sun, 4 May 2025 10:06:39 +0200 (CEST) Received: from mail-il1-f226.google.com (mail-il1-f226.google.com [209.85.166.226]) by mails.dpdk.org (Postfix) with ESMTP id 3D6BB40156 for ; Sun, 4 May 2025 10:06:38 +0200 (CEST) Received: by mail-il1-f226.google.com with SMTP id e9e14a558f8ab-3d80bbf3aefso11551675ab.1 for ; Sun, 04 May 2025 01:06:38 -0700 (PDT) DKIM-Signature: v=1; a=rsa-sha256; c=relaxed/relaxed; d=iol.unh.edu; s=unh-iol; t=1746345997; x=1746950797; darn=dpdk.org; h=cc:to:from:subject:message-id:date:from:to:cc:subject:date :message-id:reply-to; bh=oHZzQ8Z7EJlmzXurUq0JVryosocQ++aLkSugrxGbyO4=; b=E39shE0kFYge6qGjr4B+Uo2Ufhrmhk/x2EGLDDR93vMyg3MrpelWpa9RvTO/Mi4tg2 XPX8NsP7OzISjAZcCUXuvOxyNZx2B1iJhtBZxTKd5zhEpaZ3OR7kemNOy0rQyG1IQTIj gbsrGgVTowF15niQVSTGrRFSrbbhmKR6PyK18= X-Google-DKIM-Signature: v=1; a=rsa-sha256; c=relaxed/relaxed; d=1e100.net; s=20230601; t=1746345997; x=1746950797; h=cc:to:from:subject:message-id:date:x-gm-message-state:from:to:cc :subject:date:message-id:reply-to; bh=oHZzQ8Z7EJlmzXurUq0JVryosocQ++aLkSugrxGbyO4=; b=fSlgQ56bGBdelc25CTLf4TSEFWY6I7i17odObSxYQO97Uv67WAP1W2lFWRrstdUnqo Tc/huwSuZ6sS/5dbIkLppe/C1D+yRxw45BJOCqebvYgrSfVIyBPrWRARhp7ZZCM/9Inc 3Y9jOxZe/t1Wyzf6WdxNAUdlW8g6XgZlwWseDaEJp03UoUH+VfuI/zapXuwnTERpN4cd vLblOuPK7AfrBiLxTEV6RcKJt/lPUnsSnww/HovKrLLHrTqz0aZbccFxe/fCiEYL3GJN I67P3XO3oaSisg8cZ8/mOF5jCX8t/FEPHhzCw1hJN5WFOVgP3x4h0mMHCuYKb99y5V5B e7rA== X-Gm-Message-State: AOJu0YywJkv8HhRzttJZs6IegdTmBeM7rYe/kHtGHAZ04R6t9+At4vMu ntoh2vkP0ir9iYca6Q25Fw/aXMUR1ug42TtRb7FNKc3Um+f1YFU7sweKyle1pwmAkhqt+TkAo3Z RxnOAyfKLzCvMW7WBGPZ4mzeigP8QW1Jp X-Gm-Gg: ASbGncvF5EDFEHnq9d5bnv/nw4HI6fi+rAOErmv2sPhz26zOOuYzDTrLzkH1RyuS2Yo aJLD87eD6puXUvBFbZO7kgGpayN5nw3w636mkHUtVPD60NrSuy07TDNZKZvThjhk+wyWJDbyjGJ /bXkYwLlmNLjDkA7Md+JAM30EK/xtsM1y1fnhRWfx0yTwFb9/Bib5HgHWOETDwNXBrj/1P5qBra WNy+TRo42I0IwNBoqqlO1udak7T67BB26i9/SJSN2liuZcMfoZ97jpkJR0//yAyP4go4jVlj7Ch NuILup+7fhOEv8SbHoGzK14Tqs/WhzfkgUKycXRhjrhOCs44ebyAqmz0mS0= X-Google-Smtp-Source: AGHT+IHC3r353AOUVPaTcEhw9Tnl4VIiQBELLFbf6+MMNXa2qnvlnWFnMiOtdAtCwSqfbUGDSyOBMF49Bgtk X-Received: by 2002:a05:6e02:3803:b0:3d9:36a8:3da0 with SMTP id e9e14a558f8ab-3da5b23ca3fmr33806225ab.2.1746345997655; Sun, 04 May 2025 01:06:37 -0700 (PDT) Received: from postal.iol.unh.edu (postal.iol.unh.edu. [132.177.123.84]) by smtp-relay.gmail.com with ESMTPS id 8926c6da1cb9f-4f88aa620fasm1258542173.57.2025.05.04.01.06.37 (version=TLS1_2 cipher=ECDHE-ECDSA-AES128-GCM-SHA256 bits=128/128); Sun, 04 May 2025 01:06:37 -0700 (PDT) X-Relaying-Domain: iol.unh.edu Date: Sun, 04 May 2025 01:06:37 -0700 (PDT) Message-ID: <6817200d.050a0220.1c8596.ddc4SMTPIN_ADDED_MISSING@mx.google.com> Received: from [172.21.0.6] (unknown [172.18.0.240]) by postal.iol.unh.edu (Postfix) with ESMTP id 30BA16052471; Sun, 4 May 2025 04:06:37 -0400 (EDT) Subject: |SUCCESS| [GIT MASTER] 83a7a648344674c0269fcaeb71d8d16468421a0e From: dpdklab@iol.unh.edu To: Test Report Cc: dpdk-test-reports@iol.unh.edu, Xueming Li , Christian Ehrhardt , Kevin Traynor , Luca Boccassi Content-Type: text/plain X-BeenThere: test-report@dpdk.org X-Mailman-Version: 2.1.29 Precedence: list List-Id: automatic DPDK test reports List-Unsubscribe: , List-Archive: List-Post: List-Help: List-Subscribe: , Errors-To: test-report-bounces@dpdk.org _Testing PASS_ Branch: tags/v23.11 83a7a648344674c0269fcaeb71d8d16468421a0e --> testing pass Upstream job id: Generic-Unit-Test-DPDK#335050 Test environment and result as below: +---------------------+----------------+ | Environment | dpdk_unit_test | +=====================+================+ | CentOS Stream 9 | PASS | +---------------------+----------------+ | CentOS Stream 10 | PASS | +---------------------+----------------+ | Debian 12 | PASS | +---------------------+----------------+ | Fedora 40 (Clang) | PASS | +---------------------+----------------+ | Fedora 41 | PASS | +---------------------+----------------+ | Fedora 40 | PASS | +---------------------+----------------+ | Fedora 41 (Clang) | PASS | +---------------------+----------------+ | RHEL8 | PASS | +---------------------+----------------+ | Ubuntu 20.04 | PASS | +---------------------+----------------+ | Ubuntu 24.04 | PASS | +---------------------+----------------+ | RHEL9 | PASS | +---------------------+----------------+ | Ubuntu 22.04 | PASS | +---------------------+----------------+ | Windows Server 2022 | PASS | +---------------------+----------------+ CentOS Stream 9 Kernel: Depends on container host Compiler: gcc 11.5.0 20240719 (Red Hat 11.5.0-2) CentOS Stream 10 Kernel: Depends on container host Compiler: gcc 14.2.1 20241104 (Red Hat 14.2.1-6) Debian 12 Kernel: Depends on container host Compiler: gcc (Debian 12.2.0-14) 12.2.0 Fedora 40 (Clang) Kernel: Depends on container host Compiler: clang 18.1.8 (Fedora 18.1.8-1.fc40) Fedora 41 Kernel: Depends on container host Compiler: gcc 14.2.1 20240912 (Red Hat 14.2.1-3) Fedora 40 Kernel: Depends on container host Compiler: gcc 14.2.1 20240912 (Red Hat 14.2.1-3) Fedora 41 (Clang) Kernel: Depends on container host Compiler: clang 19.1.5 (Fedora 19.1.5-1.fc41) RHEL8 Kernel: Depends on container host Compiler: gcc 8.5.0 20210514 (Red Hat 8.5.0-22) Ubuntu 20.04 Kernel: Depends on container host Compiler: gcc (Ubuntu 9.4.0-1ubuntu1~20.04.2) 9.4.0 Ubuntu 24.04 Kernel: Depends on container host Compiler: gcc (Ubuntu 13.3.0-6ubuntu2~24.04) 13.3.0 RHEL9 Kernel: Depends on container host Compiler: gcc 11.5.0 20240719 (Red Hat 11.5.0-2) Ubuntu 22.04 Kernel: Depends on container host Compiler: gcc (Ubuntu 11.4.0-1ubuntu1~22.04) 11.4.0 Windows Server 2022 Kernel: 10.0.20348.2031 Compiler: clang 15.0.7, gcc 14.1.0 (MinGW), and MSVC VS 19.39.33521 To view detailed results, visit: https://lab.dpdk.org/results/dashboard/tarballs/33420/ UNH-IOL DPDK Community Lab To manage your email subscriptions, visit: https://lab.dpdk.org/results/dashboard/preferences/subscriptions/