From mboxrd@z Thu Jan 1 00:00:00 1970 Return-Path: Received: from mails.dpdk.org (mails.dpdk.org [217.70.189.124]) by inbox.dpdk.org (Postfix) with ESMTP id 023E6466BC for ; Sun, 4 May 2025 10:08:12 +0200 (CEST) Received: from mails.dpdk.org (localhost [127.0.0.1]) by mails.dpdk.org (Postfix) with ESMTP id F0EBE4025D; Sun, 4 May 2025 10:08:11 +0200 (CEST) Received: from mail-oo1-f98.google.com (mail-oo1-f98.google.com [209.85.161.98]) by mails.dpdk.org (Postfix) with ESMTP id 2DB4140156 for ; Sun, 4 May 2025 10:08:10 +0200 (CEST) Received: by mail-oo1-f98.google.com with SMTP id 006d021491bc7-601a8b6c133so2460187eaf.1 for ; Sun, 04 May 2025 01:08:10 -0700 (PDT) DKIM-Signature: v=1; a=rsa-sha256; c=relaxed/relaxed; d=iol.unh.edu; s=unh-iol; t=1746346089; x=1746950889; darn=dpdk.org; h=references:in-reply-to:cc:to:from:subject:message-id:date:from:to :cc:subject:date:message-id:reply-to; bh=J0DfMEbXbKlZH/35Vs9yjnZY8nIYsx4WjP8s4MvaF6I=; b=IrFxX8pTj+amtd1781WjAz9OZJHWt5nJQx7oOzPgiu14decAsj90NUbgIfbIUqynve dTUoTAFKGGKDvAgDBvJ5GKOzNgZ87ujohFdfZRo1wviuit1+aBg39SOPcbd1/gf90OEc NMpg4PXSS4lbSfTqUhOkKJ4fo1DI21dFJfO84= X-Google-DKIM-Signature: v=1; a=rsa-sha256; c=relaxed/relaxed; d=1e100.net; s=20230601; t=1746346089; x=1746950889; h=references:in-reply-to:cc:to:from:subject:message-id:date :x-gm-message-state:from:to:cc:subject:date:message-id:reply-to; bh=J0DfMEbXbKlZH/35Vs9yjnZY8nIYsx4WjP8s4MvaF6I=; b=fEDRavSIKYuSOv9Xuo2ZNO/RTSXBE2WrlMJLepSgjYCnGLDqAsIXZwBF0imDCIvZ/m 2VO5BrupYk5lxrhuKnFfne9OsML5Vnoivk9LBPOMwl07KMulixG81SOMBILmoSyLfwmg WCnwBny6Nu/P/HaVNCzPa91WFiN2BH1QQp9vL5XVXXN2t6ZppMdcFsnNiLRUmIx2rpiC B/TOkV3czRKowlUwKtoGXV7ekE9tBKPr5QQy9CCiS5UhvqskASVlnA+pLXdRNIfz43DF V14plwCWzUTnypN+OEo6ROUuASXKMK5Rzgv5XLC4uxPWCnCWNgljVGFH3Xexf/MXA5mC HuPg== X-Gm-Message-State: AOJu0YzAGaCtkVzHx92oMyTMQchatqagfuhnpNlNQPsTm86+dLqpyzBF 5hYbe9RFLjbO0lSzsANK7j3Wha6Wg6Wymg/8Spcy2XMIZe+1EfUqMBtr4uIbvpL3cPV7/eL9YEw ZpD/mUGHacCfUu9hGhTSV8rx4o5S2adGz5qC1dNE1 X-Gm-Gg: ASbGncsHaNaV3UqbWH5K7IkDVlZTpQWyckVxiAr3iHYE3K3YvgQDKbd4uHU9bDMBBdR kZxPW4vlUgI1RLQpLT+HlGliUXDW8/cy2mIu4+7sSQ0KtXLDj7jBAZLeXTQrMe10+utJVOq8Twf k47jvhsc4E9fOGs29sgNWTsoxigSIskJt7jnALvtQxDmZMGE0tbYhtdoBkcnFBxotOa7PTgYUoy GkxFWPAr3BB6A70ypVSOoSYSJP+SSrEt/aOdzj1vDR4m0nhNjV0YGQ7Sz3LgL0qbNxErJbp3PE9 BSaNVv/fyl6HiRovmsEbAFfVDR1di72p5UX/vhNr9YkCuTy+yDXda88dYeA= X-Google-Smtp-Source: AGHT+IGRF5hFLKEE9EUSGkuKTTRvaDmb537E541LsDUPpoDECMaf7HtSQgTV7xbmwhKi+md7X7i4lvu54LOe X-Received: by 2002:a05:6870:8986:b0:2d5:2dfd:e11c with SMTP id 586e51a60fabf-2daaf900cd9mr4627011fac.7.1746346088964; Sun, 04 May 2025 01:08:08 -0700 (PDT) Received: from postal.iol.unh.edu (postal.iol.unh.edu. [132.177.123.84]) by smtp-relay.gmail.com with ESMTPS id 586e51a60fabf-2daa0ee361fsm1505084fac.12.2025.05.04.01.08.08 (version=TLS1_2 cipher=ECDHE-ECDSA-AES128-GCM-SHA256 bits=128/128); Sun, 04 May 2025 01:08:08 -0700 (PDT) X-Relaying-Domain: iol.unh.edu Date: Sun, 04 May 2025 01:08:08 -0700 (PDT) Message-ID: <68172068.050a0220.17e1ac.fdc8SMTPIN_ADDED_MISSING@mx.google.com> Received: from [172.21.0.6] (unknown [172.18.0.240]) by postal.iol.unh.edu (Postfix) with ESMTP id F052D6052471; Sun, 4 May 2025 04:08:07 -0400 (EDT) Subject: |SUCCESS| pw153228 [PATCH] net/ice: update log message From: dpdklab@iol.unh.edu To: Test Report Cc: dpdk-test-reports@iol.unh.edu In-Reply-To: <20250502152601.699443-1-dhanya.r.pillai@intel.com> References: <20250502152601.699443-1-dhanya.r.pillai@intel.com> Content-Type: text/plain X-BeenThere: test-report@dpdk.org X-Mailman-Version: 2.1.29 Precedence: list List-Id: automatic DPDK test reports List-Unsubscribe: , List-Archive: List-Post: List-Help: List-Subscribe: , Errors-To: test-report-bounces@dpdk.org Test-Label: iol-compile-amd64-testing Test-Status: SUCCESS http://dpdk.org/patch/153228 _Testing PASS_ Submitter: Pillai, Dhanya R Date: Friday, May 02 2025 15:25:59 DPDK git baseline: Repo:dpdk Branch: master CommitID:2665bfb9838fec7ea6c3b2be5831f93ee087b288 153228 --> testing pass Upstream job id: Windows-Compile-DPDK-Native#28193 Test environment and result as below: +---------------------+-------------------+--------------------+-------------------------+----------------------+ | Environment | dpdk_msvc_compile | dpdk_meson_compile | dpdk_llvm_clang_compile | dpdk_mingw64_compile | +=====================+===================+====================+=========================+======================+ | Windows Server 2022 | PASS | SKIPPED | PASS | PASS | +---------------------+-------------------+--------------------+-------------------------+----------------------+ | Ubuntu 20.04 | SKIPPED | PASS | SKIPPED | SKIPPED | +---------------------+-------------------+--------------------+-------------------------+----------------------+ | FreeBSD 13.5 | SKIPPED | PASS | SKIPPED | SKIPPED | +---------------------+-------------------+--------------------+-------------------------+----------------------+ | FreeBSD 14.2 | SKIPPED | PASS | SKIPPED | SKIPPED | +---------------------+-------------------+--------------------+-------------------------+----------------------+ Windows Server 2022 Kernel: 10.0.20348.2031 Compiler: clang 15.0.7, gcc 14.1.0 (MinGW), and MSVC VS 19.39.33521 Ubuntu 20.04 Kernel: 4.19.325-0419325-generic Compiler: gcc (Ubuntu 9.4.0-1ubuntu1~20.04.2) 9.4.0 FreeBSD 13.5 Kernel: 13.5-RELEASE Compiler: clang 19.1.7 FreeBSD 14.2 Kernel: 14.2-RELEASE Compiler: clang 18.1.6 To view detailed results, visit: https://lab.dpdk.org/results/dashboard/patchsets/33098/ UNH-IOL DPDK Community Lab To manage your email subscriptions, visit: https://lab.dpdk.org/results/dashboard/preferences/subscriptions/