From mboxrd@z Thu Jan 1 00:00:00 1970 Return-Path: Received: from mails.dpdk.org (mails.dpdk.org [217.70.189.124]) by inbox.dpdk.org (Postfix) with ESMTP id CAF99466BC for ; Sun, 4 May 2025 10:15:49 +0200 (CEST) Received: from mails.dpdk.org (localhost [127.0.0.1]) by mails.dpdk.org (Postfix) with ESMTP id 99CA44025D; Sun, 4 May 2025 10:15:49 +0200 (CEST) Received: from mail-pg1-f226.google.com (mail-pg1-f226.google.com [209.85.215.226]) by mails.dpdk.org (Postfix) with ESMTP id 302C740156 for ; Sun, 4 May 2025 10:15:49 +0200 (CEST) Received: by mail-pg1-f226.google.com with SMTP id 41be03b00d2f7-b13e0471a2dso2596976a12.2 for ; Sun, 04 May 2025 01:15:49 -0700 (PDT) DKIM-Signature: v=1; a=rsa-sha256; c=relaxed/relaxed; d=iol.unh.edu; s=unh-iol; t=1746346548; x=1746951348; darn=dpdk.org; h=cc:to:from:subject:message-id:date:from:to:cc:subject:date :message-id:reply-to; bh=nsy+Gq0pvyTe1kG6nHi4CkuO7WWx8nJcgFB5cG7ApsA=; b=bm/0IsYy/ZdeKnt9YIxkyvME6eVlHRYWEudtDD9e9qfyFDbVksiAvcgiouoWPEPVMB +8DU0KP0yYBLDHLPHpNLBe8gFFdPE07mEbj/3n07RW6VgVVCKqjjS7suTzQazCQ2siLd OZJSXrzgguot0xhliyhY+vRJ9dfdXQkJ+A4qM= X-Google-DKIM-Signature: v=1; a=rsa-sha256; c=relaxed/relaxed; d=1e100.net; s=20230601; t=1746346548; x=1746951348; h=cc:to:from:subject:message-id:date:x-gm-message-state:from:to:cc :subject:date:message-id:reply-to; bh=nsy+Gq0pvyTe1kG6nHi4CkuO7WWx8nJcgFB5cG7ApsA=; b=vDmYvBot870593WOXTtG0D4hZ7qTQAfxxr4M8EOtxYR+IfnfaAg//i4cDpv4vG3vIQ lEvNYtluEc15/fibxI+F5owOj/+YSDPuZwtZ0QN0A9smdi+71WSSDmVpedREjXNo/S5I PY9rf1DeBNfEmNQKLm2Cm+nC++kp5tM+bmKV6YSzgQxslYRH7Zb7vJ1d6nXfAhsOtdAW dRjARtP3iK97x8Nozuo7sAIW3fqm6JRsGd+Wj+/EK5rYW0UqGjCYiAsquD+VZf+cv4Bl Q+avleczFnCNMianDMkADB83DewP0o5B222K+LE1yJ2J7PFXvdg8Wn7Zbkp8Mr+8QDep b/+g== X-Gm-Message-State: AOJu0YwyXowMfFATHWvYQGgRnpc4WyqG3hwI6iFekX0BdhhBI6CeBt07 VRk49EE8kYNbnoqjFBaUa3Bacz8BHiFsGJ1Xn5ohs9d9Hin+e8dcTzHKQDEl+/UKEK66Km7Cgzo RBqTDLj742k34zsPJ2eOVTk5Yiyd5HXQ/ X-Gm-Gg: ASbGnctiTEuuQqTBQHJ/kepL3nOuP9TaEVQOlwIEHFk15NvH332HA1cEeGT76WoM1pT fbFuYAzpK2YQ0XaVNA/PxXyw2oPcznwg/nKz2YQqkLBkQZpjQz5x8HXr2R+Y6hYQuHFOiXCqdSZ SKUrxGb8ESsNRe6MSYETelxfwTIZM5QrcBDOKQhUphMHKAvOSpeTbeSV1mt3+AwZrDnvCV1Ba+x FpUuJYTqA9cilJZSI0spYfd7LPfHfeckKACAgqM4kltXX9K2+oLaapXYPB1aAxhxjLj2RX/XT7j 0HeVKtq0uvnAXIul4rJmvBHTvFDcqDbCFTtNPZU5lx8fX5wXSoWFUGTM+4k= X-Google-Smtp-Source: AGHT+IHnvsUiAvgZrSUfojCyW24MfIvlD+xTL490pBRBAYRFCHJAzo5RksYdmIjqW2uH8rWFU3K4fi+HkZrt X-Received: by 2002:a17:903:1ac3:b0:21f:85d0:828 with SMTP id d9443c01a7336-22e1eaf0a6fmr51331485ad.41.1746346547852; Sun, 04 May 2025 01:15:47 -0700 (PDT) Received: from postal.iol.unh.edu (postal.iol.unh.edu. [132.177.123.84]) by smtp-relay.gmail.com with ESMTPS id d9443c01a7336-22e1523cd80sm10218295ad.128.2025.05.04.01.15.47 (version=TLS1_2 cipher=ECDHE-ECDSA-AES128-GCM-SHA256 bits=128/128); Sun, 04 May 2025 01:15:47 -0700 (PDT) X-Relaying-Domain: iol.unh.edu Date: Sun, 04 May 2025 01:15:47 -0700 (PDT) Message-ID: <68172233.170a0220.39a414.b587SMTPIN_ADDED_MISSING@mx.google.com> Received: from [172.21.0.6] (unknown [172.18.0.240]) by postal.iol.unh.edu (Postfix) with ESMTP id 054736052471; Sun, 4 May 2025 04:15:47 -0400 (EDT) Subject: |SUCCESS| [GIT MASTER] 83a7a648344674c0269fcaeb71d8d16468421a0e From: dpdklab@iol.unh.edu To: Test Report Cc: dpdk-test-reports@iol.unh.edu, Xueming Li , Christian Ehrhardt , Kevin Traynor , Luca Boccassi Content-Type: text/plain X-BeenThere: test-report@dpdk.org X-Mailman-Version: 2.1.29 Precedence: list List-Id: automatic DPDK test reports List-Unsubscribe: , List-Archive: List-Post: List-Help: List-Subscribe: , Errors-To: test-report-bounces@dpdk.org _Testing PASS_ Branch: tags/v23.11 83a7a648344674c0269fcaeb71d8d16468421a0e --> testing pass Upstream job id: Generic-Unit-Test-DPDK#335052 Test environment and result as below: +-----------------------------+----------------+------------------------------+--------------+---------------------------+ | Environment | dpdk_unit_test | cryptodev_sw_snow3g_autotest | lpm_autotest | cryptodev_sw_zuc_autotest | +=============================+================+==============================+==============+===========================+ | Fedora 41 (ARM) | PASS | SKIPPED | SKIPPED | SKIPPED | +-----------------------------+----------------+------------------------------+--------------+---------------------------+ | CentOS Stream 10 (ARM) | PASS | SKIPPED | SKIPPED | SKIPPED | +-----------------------------+----------------+------------------------------+--------------+---------------------------+ | CentOS Stream 9 (ARM) | PASS | SKIPPED | SKIPPED | SKIPPED | +-----------------------------+----------------+------------------------------+--------------+---------------------------+ | Fedora 40 (ARM) | PASS | SKIPPED | SKIPPED | SKIPPED | +-----------------------------+----------------+------------------------------+--------------+---------------------------+ | Debian 12 (arm) | PASS | PASS | SKIPPED | PASS | +-----------------------------+----------------+------------------------------+--------------+---------------------------+ | Fedora 40 (ARM Clang) | PASS | SKIPPED | SKIPPED | SKIPPED | +-----------------------------+----------------+------------------------------+--------------+---------------------------+ | Ubuntu 20.04 (ARM) | PASS | SKIPPED | SKIPPED | SKIPPED | +-----------------------------+----------------+------------------------------+--------------+---------------------------+ | Fedora 41 (ARM Clang) | PASS | SKIPPED | SKIPPED | SKIPPED | +-----------------------------+----------------+------------------------------+--------------+---------------------------+ | RHEL9 (ARM) | PASS | SKIPPED | SKIPPED | SKIPPED | +-----------------------------+----------------+------------------------------+--------------+---------------------------+ | Ubuntu 22.04 (ARM) | PASS | SKIPPED | SKIPPED | SKIPPED | +-----------------------------+----------------+------------------------------+--------------+---------------------------+ | Ubuntu 24.04 (ARM) | PASS | SKIPPED | SKIPPED | SKIPPED | +-----------------------------+----------------+------------------------------+--------------+---------------------------+ | 32-bit Ubuntu 22.04.4 (ARM) | PASS | SKIPPED | SKIPPED | SKIPPED | +-----------------------------+----------------+------------------------------+--------------+---------------------------+ | Ubuntu 20.04 ARM SVE | SKIPPED | SKIPPED | PASS | SKIPPED | +-----------------------------+----------------+------------------------------+--------------+---------------------------+ Fedora 41 (ARM) Kernel: Depends on container host Compiler: gcc 14.2.1 20240912 (Red Hat 14.2.1-3) CentOS Stream 10 (ARM) Kernel: Depends on container host Compiler: gcc 14.2.1 20241104 (Red Hat 14.2.1-6) CentOS Stream 9 (ARM) Kernel: Depends on container host Compiler: gcc 11.5.0 20240719 (Red Hat 11.5.0-2) Fedora 40 (ARM) Kernel: Depends on container host Compiler: gcc 14.2.1 20240912 (Red Hat 14.2.1-3) Debian 12 (arm) Kernel: Depends on container host Compiler: gcc (Debian 12.2.0-14) 12.2.0 Fedora 40 (ARM Clang) Kernel: Depends on container host Compiler: clang 18.1.8 (Fedora 18.1.8-1.fc40) Ubuntu 20.04 (ARM) Kernel: Depends on container host Compiler: gcc (Ubuntu 9.4.0-1ubuntu1~20.04.2) 9.4.0 Fedora 41 (ARM Clang) Kernel: Depends on container host Compiler: clang 19.1.5 (Fedora 19.1.5-1.fc41) RHEL9 (ARM) Kernel: Depends on container host Compiler: gcc 11.5.0 20240719 (Red Hat 11.5.0-2) Ubuntu 22.04 (ARM) Kernel: Depends on container host Compiler: gcc (Ubuntu 11.4.0-1ubuntu1~22.04) 11.4.0 Ubuntu 24.04 (ARM) Kernel: Depends on container host Compiler: gcc (Ubuntu 13.3.0-6ubuntu2~24.04) 13.3.0 32-bit Ubuntu 22.04.4 (ARM) Kernel: 5.15.83+ aarch64 Compiler: gcc (Ubuntu 11.4.0-1ubuntu1~22.04) 11.4.0 Ubuntu 20.04 ARM SVE Kernel: Depends on container host Compiler: gcc (Ubuntu 10.5.0-1ubuntu1~20.04) 10.5.0 To view detailed results, visit: https://lab.dpdk.org/results/dashboard/tarballs/33420/ UNH-IOL DPDK Community Lab To manage your email subscriptions, visit: https://lab.dpdk.org/results/dashboard/preferences/subscriptions/