From mboxrd@z Thu Jan 1 00:00:00 1970 Return-Path: Received: from mails.dpdk.org (mails.dpdk.org [217.70.189.124]) by inbox.dpdk.org (Postfix) with ESMTP id 5EA81466BC for ; Sun, 4 May 2025 10:23:37 +0200 (CEST) Received: from mails.dpdk.org (localhost [127.0.0.1]) by mails.dpdk.org (Postfix) with ESMTP id 3D9884025D; Sun, 4 May 2025 10:23:37 +0200 (CEST) Received: from mail-oa1-f97.google.com (mail-oa1-f97.google.com [209.85.160.97]) by mails.dpdk.org (Postfix) with ESMTP id 0F32D40156 for ; Sun, 4 May 2025 10:23:36 +0200 (CEST) Received: by mail-oa1-f97.google.com with SMTP id 586e51a60fabf-2cc36b39545so1702108fac.1 for ; Sun, 04 May 2025 01:23:35 -0700 (PDT) DKIM-Signature: v=1; a=rsa-sha256; c=relaxed/relaxed; d=iol.unh.edu; s=unh-iol; t=1746347015; x=1746951815; darn=dpdk.org; h=cc:to:from:subject:message-id:date:from:to:cc:subject:date :message-id:reply-to; bh=n2Euj0vI3xu+QOB524nWk86hzHLj5cUk6LnKrFTWA+o=; b=ez/lNlC5d7g60LVSfDs3zJ3ZgiCS6UaWPi9pX1VIqwoa68fvJkf57O1gPBfNA65Ez8 nFpYMcF+AROHcx8lof8sdRUkBOPa0CzYGAM6y4Skvt4LsyNSPW2+9DAi0PJMfkRfdeKC HqQhRlazRofFSjn1eC5YgkkXgNrz77A8I8sY4= X-Google-DKIM-Signature: v=1; a=rsa-sha256; c=relaxed/relaxed; d=1e100.net; s=20230601; t=1746347015; x=1746951815; h=cc:to:from:subject:message-id:date:x-gm-message-state:from:to:cc :subject:date:message-id:reply-to; bh=n2Euj0vI3xu+QOB524nWk86hzHLj5cUk6LnKrFTWA+o=; b=FrKm9V2FSvUKnbvm46TajRZlbQzgCWqWf/ZMm2ygDeR1yzTYmBcjddDB5J0Ai1weYg PliU17NriwDux9IuurNE0ykcr7dnUpJICkifC10kwEjuI9WI+wmnqswCh2znPhMkYYzN PwEvR5G2pzIVLznLa5B3zgJanZvK0u5u2b60ibhiyzd3QqYW3cNMqYeywnyiIjf/Vpis eEzj05GHgs5DItlVAMf5ALmHmFFm5WZvkkQAba5OvSOi6Mj0/d6ao2fBf9EbAVqoA1Ps Ghy9m0dkc3LQw/CiLURvE2bPl8G5Mih+MnEIcXvPaWcnZgTwozXYpI5MITXVyMMgggRR ldpg== X-Gm-Message-State: AOJu0YxncHH2a4NVhCPXQb+WPWwLkVe6yxmkho4fQu/zXe31yw7tvdGl 4TpL2WW19SqxJKDBrJtBgZrWSFpHGhgM9rwZdkyczroMT91xARafJ6ONj3EdGy1K9hgpJk8Wcqz ChXupTuiPnlMXy+9NXNZBdtppmtAQavV7 X-Gm-Gg: ASbGncu5O7OCwEB3WjrC3GGuSxXys/RAWCWTCkyzaYaHAYZertXHWqFQ8MAfLSYRLwo bNC2VlSdB+eI3JAhNAFVTMIXTYtDJiSR2XLln5+38KJeaOmC0D9a8CD/kfoFrZmDNYV+6np3ncB DeykC5h6plC4BPqF6iIOm3qV2y22RCHvcx5cZYuAfcYdui4v/HpwVdpFv3aIQAZ1EFUmjbkYm4C i7Y/O5A/TlzPodsiqdaSyHhiAJJX95QWSaPTH3JINbtETGVtUhcJWGrsLV69u00Gomcua7/kvxS zl0fXgSr9I+j6IV94aTD3nfO4EZG4GJ1AvHuVSSnlHZasIxEDt9PeoiWU80= X-Google-Smtp-Source: AGHT+IG5jvDVNyJIG6gJJ6SLS2w3Wq9QrLyAcbmnejmfX6j+f9vmucktw6QXTCNX+SvPR2ZAVi2RFWuMnNuL X-Received: by 2002:a05:6871:a40f:b0:2d5:714b:f07c with SMTP id 586e51a60fabf-2da93a08e79mr7010340fac.5.1746347015078; Sun, 04 May 2025 01:23:35 -0700 (PDT) Received: from postal.iol.unh.edu (postal.iol.unh.edu. [132.177.123.84]) by smtp-relay.gmail.com with ESMTPS id 46e09a7af769-731d31cac94sm665700a34.4.2025.05.04.01.23.34 (version=TLS1_2 cipher=ECDHE-ECDSA-AES128-GCM-SHA256 bits=128/128); Sun, 04 May 2025 01:23:35 -0700 (PDT) X-Relaying-Domain: iol.unh.edu Date: Sun, 04 May 2025 01:23:35 -0700 (PDT) Message-ID: <68172407.050a0220.2bcf89.6330SMTPIN_ADDED_MISSING@mx.google.com> Received: from [172.21.0.6] (unknown [172.18.0.240]) by postal.iol.unh.edu (Postfix) with ESMTP id D25636052471; Sun, 4 May 2025 04:23:33 -0400 (EDT) Subject: |SUCCESS| [GIT MASTER] 4401486b5e30d43a134f80f9802f60b5f43e74a8 From: dpdklab@iol.unh.edu To: Test Report Cc: dpdk-test-reports@iol.unh.edu, Xueming Li , Christian Ehrhardt , Kevin Traynor , Luca Boccassi Content-Type: text/plain X-BeenThere: test-report@dpdk.org X-Mailman-Version: 2.1.29 Precedence: list List-Id: automatic DPDK test reports List-Unsubscribe: , List-Archive: List-Post: List-Help: List-Subscribe: , Errors-To: test-report-bounces@dpdk.org _Testing PASS_ Branch: tags/v22.11 4401486b5e30d43a134f80f9802f60b5f43e74a8 --> testing pass Upstream job id: Generic-DPDK-Compile-Meson#384712 Test environment and result as below: +------------------------------------+--------------------+ | Environment | dpdk_meson_compile | +====================================+====================+ | Fedora 40 (ARM) | PASS | +------------------------------------+--------------------+ | Ubuntu 20.04 ARM GCC Cross Compile | PASS | +------------------------------------+--------------------+ | Ubuntu 20.04 ARM SVE | PASS | +------------------------------------+--------------------+ | RHEL9 (ARM) | PASS | +------------------------------------+--------------------+ | Fedora 41 (ARM) | PASS | +------------------------------------+--------------------+ | Fedora 41 (ARM Clang) | PASS | +------------------------------------+--------------------+ | CentOS Stream 9 (ARM) | PASS | +------------------------------------+--------------------+ | Debian 12 (arm) | PASS | +------------------------------------+--------------------+ | Ubuntu 22.04 (ARM) | PASS | +------------------------------------+--------------------+ | Fedora 40 (ARM Clang) | PASS | +------------------------------------+--------------------+ | CentOS Stream 10 (ARM) | PASS | +------------------------------------+--------------------+ | Ubuntu 24.04 (ARM) | PASS | +------------------------------------+--------------------+ | Ubuntu 20.04 (ARM) | PASS | +------------------------------------+--------------------+ Fedora 40 (ARM) Kernel: Depends on container host Compiler: gcc 14.2.1 20240912 (Red Hat 14.2.1-3) Ubuntu 20.04 ARM GCC Cross Compile Kernel: Depends on container host Compiler: aarch64-linux-gnu-gcc (Ubuntu 9.4.0-1ubuntu1~20.04.2) 9.4.0 Ubuntu 20.04 ARM SVE Kernel: Depends on container host Compiler: gcc (Ubuntu 10.5.0-1ubuntu1~20.04) 10.5.0 RHEL9 (ARM) Kernel: Depends on container host Compiler: gcc 11.5.0 20240719 (Red Hat 11.5.0-2) Fedora 41 (ARM) Kernel: Depends on container host Compiler: gcc 14.2.1 20240912 (Red Hat 14.2.1-3) Fedora 41 (ARM Clang) Kernel: Depends on container host Compiler: clang 19.1.5 (Fedora 19.1.5-1.fc41) CentOS Stream 9 (ARM) Kernel: Depends on container host Compiler: gcc 11.5.0 20240719 (Red Hat 11.5.0-2) Debian 12 (arm) Kernel: Depends on container host Compiler: gcc (Debian 12.2.0-14) 12.2.0 Ubuntu 22.04 (ARM) Kernel: Depends on container host Compiler: gcc (Ubuntu 11.4.0-1ubuntu1~22.04) 11.4.0 Fedora 40 (ARM Clang) Kernel: Depends on container host Compiler: clang 18.1.8 (Fedora 18.1.8-1.fc40) CentOS Stream 10 (ARM) Kernel: Depends on container host Compiler: gcc 14.2.1 20241104 (Red Hat 14.2.1-6) Ubuntu 24.04 (ARM) Kernel: Depends on container host Compiler: gcc (Ubuntu 13.3.0-6ubuntu2~24.04) 13.3.0 Ubuntu 20.04 (ARM) Kernel: Depends on container host Compiler: gcc (Ubuntu 9.4.0-1ubuntu1~20.04.2) 9.4.0 To view detailed results, visit: https://lab.dpdk.org/results/dashboard/tarballs/33421/ UNH-IOL DPDK Community Lab To manage your email subscriptions, visit: https://lab.dpdk.org/results/dashboard/preferences/subscriptions/