From mboxrd@z Thu Jan 1 00:00:00 1970 Return-Path: Received: from mails.dpdk.org (mails.dpdk.org [217.70.189.124]) by inbox.dpdk.org (Postfix) with ESMTP id A165B466BC for ; Sun, 4 May 2025 10:39:10 +0200 (CEST) Received: from mails.dpdk.org (localhost [127.0.0.1]) by mails.dpdk.org (Postfix) with ESMTP id 70CA44025D; Sun, 4 May 2025 10:39:10 +0200 (CEST) Received: from mail-yb1-f227.google.com (mail-yb1-f227.google.com [209.85.219.227]) by mails.dpdk.org (Postfix) with ESMTP id 1DD8940156 for ; Sun, 4 May 2025 10:39:09 +0200 (CEST) Received: by mail-yb1-f227.google.com with SMTP id 3f1490d57ef6-e6e2971f79fso2696683276.0 for ; Sun, 04 May 2025 01:39:09 -0700 (PDT) DKIM-Signature: v=1; a=rsa-sha256; c=relaxed/relaxed; d=iol.unh.edu; s=unh-iol; t=1746347948; x=1746952748; darn=dpdk.org; h=cc:to:from:subject:message-id:date:from:to:cc:subject:date :message-id:reply-to; bh=BxB5RM6GA1cGhxqqJQYxwO8TwILUfVoi71r/cwWQMs0=; b=Lgq46d38z0yjbWHKAPb6LUnosmQk0XBztXy2uxq2hYp5vgV20Dgq79gHP0eiHyLWdV DypXC/l9G5CmZTWKeR7WsT8p/9U8PJAg8t8N1Nil5TxFhBTe3HuYgCG3cJY6WM3APD4/ +Kid76fmZerougAETHVpRI0woRf4/lPGoFVZI= X-Google-DKIM-Signature: v=1; a=rsa-sha256; c=relaxed/relaxed; d=1e100.net; s=20230601; t=1746347948; x=1746952748; h=cc:to:from:subject:message-id:date:x-gm-message-state:from:to:cc :subject:date:message-id:reply-to; bh=BxB5RM6GA1cGhxqqJQYxwO8TwILUfVoi71r/cwWQMs0=; b=oAhjdPOE/+3pthhIPdkQkikpFo2bQwkbgv2XJXf38smvETdA+H+1FRS+9GFqrF5Ien qIP2Qn3Ms5r6NWdT99ajwD4HH5pDAzI5vOS8MISkQlY1EzhZO/5fkp+arwpd7Y1jkPle FNr9cuQFLRo4nECCsHl0WgUqkEzM3//L2QQrb0l2YL4k2ibsi/4xxKwk2U13J5St7gOF j4tdUMWXLyJN59lymYAFm3vrBBkzdija52nBy0VULFgfmM+yDFRB6rWQuB96B1aczh8Q 5xOWmNbzttege4hfPoP5brFrrkdKYbjFx+7ZN08iUkFRRA7KqElD8aEN1dGsh/DXcI0K phaQ== X-Gm-Message-State: AOJu0YzNAFRi8ZPJOjEDSSdZMzmHXVywqaaa5Rl+DXaQCFK75c7rFnf7 Q3HSRLz9KXm6n7gwjbKQ6V6s3yoYPaE5Lqtjo59qoC7DWCR5YcPUnx0ApK5rgHo6WrkimE2gfo2 tAKvM6M754Hy0r/F06pnNlxQL/nYjw5eOR5hCjvpEEsQkVmgj X-Gm-Gg: ASbGncvM4+haPoiW2YzjCy8OMF3m3pXL7ZTnGKj2B8QUvhiu658KTNmsf6DxanSKZMp 9EdIti69MohyAGxxQIBODjUzurwoorvc7DTgJBiMgOkcVgSAX0ngeugzrf/qp/+LbelW8i2RPpY +EU6Wz5XidAahfyVgAmnM85iMQNdO5ituDqSd4RWfPrX9HgQup6hJv1Lt9gOwCw+YYDJB3cbd5y l+IaGY4hZKhcuP19tugbQ/yHf4v85QE7BORUmsh4CCy3QkfkW0lOPg2zh68K2Em6xCbo5IKSk7j w/owhnaEnTaFisWOHPMFFCtZ9mNfORhoF9bQ X-Google-Smtp-Source: AGHT+IHYGOeWqU97ol87IsNMEcIH5JDucKOepbk3kalgmzc1Izn9bmMj5nPN9++zQ0Vua8UbLQb7LKBCpXjt X-Received: by 2002:a05:6902:2808:b0:e75:5d10:3d7 with SMTP id 3f1490d57ef6-e757d2d8d46mr4022281276.16.1746347948463; Sun, 04 May 2025 01:39:08 -0700 (PDT) Received: from postal.iol.unh.edu (postal.iol.unh.edu. [2606:4100:3880:1234::84]) by smtp-relay.gmail.com with ESMTPS id 3f1490d57ef6-e755e716482sm1294965276.17.2025.05.04.01.39.08 (version=TLS1_2 cipher=ECDHE-ECDSA-AES128-GCM-SHA256 bits=128/128); Sun, 04 May 2025 01:39:08 -0700 (PDT) X-Relaying-Domain: iol.unh.edu Date: Sun, 04 May 2025 01:39:08 -0700 (PDT) Message-ID: <681727ac.250a0220.273bd.1eafSMTPIN_ADDED_MISSING@mx.google.com> Received: from [172.21.0.5] (unknown [172.18.0.240]) by postal.iol.unh.edu (Postfix) with ESMTP id ECC4D6052471; Sun, 4 May 2025 04:39:07 -0400 (EDT) Subject: |SUCCESS| [GIT MASTER] 4c5634de9f933555bab9c64a533d3dca999071cd From: dpdklab@iol.unh.edu To: Test Report Cc: dpdk-test-reports@iol.unh.edu, Xueming Li , Christian Ehrhardt , Kevin Traynor , Luca Boccassi Content-Type: text/plain X-BeenThere: test-report@dpdk.org X-Mailman-Version: 2.1.29 Precedence: list List-Id: automatic DPDK test reports List-Unsubscribe: , List-Archive: List-Post: List-Help: List-Subscribe: , Errors-To: test-report-bounces@dpdk.org _Testing PASS_ Branch: tags/v24.11 4c5634de9f933555bab9c64a533d3dca999071cd --> testing pass Upstream job id: Generic-DPDK-Compile-Meson#384698 Test environment and result as below: +------------------------------------+--------------------+ | Environment | dpdk_meson_compile | +====================================+====================+ | RHEL9 (ARM) | PASS | +------------------------------------+--------------------+ | Ubuntu 20.04 ARM GCC Cross Compile | PASS | +------------------------------------+--------------------+ | Debian 12 with MUSDK | PASS | +------------------------------------+--------------------+ | Ubuntu 20.04 ARM SVE | PASS | +------------------------------------+--------------------+ | Fedora 40 (ARM Clang) | PASS | +------------------------------------+--------------------+ | Fedora 40 (ARM) | PASS | +------------------------------------+--------------------+ | Fedora 41 (ARM) | PASS | +------------------------------------+--------------------+ | Ubuntu 24.04 (ARM) | PASS | +------------------------------------+--------------------+ | Fedora 41 (ARM Clang) | PASS | +------------------------------------+--------------------+ | Ubuntu 22.04 (ARM) | PASS | +------------------------------------+--------------------+ | Ubuntu 20.04 (ARM) | PASS | +------------------------------------+--------------------+ | Debian 12 (arm) | PASS | +------------------------------------+--------------------+ | CentOS Stream 10 (ARM) | PASS | +------------------------------------+--------------------+ | CentOS Stream 9 (ARM) | PASS | +------------------------------------+--------------------+ RHEL9 (ARM) Kernel: Depends on container host Compiler: gcc 11.5.0 20240719 (Red Hat 11.5.0-2) Ubuntu 20.04 ARM GCC Cross Compile Kernel: Depends on container host Compiler: aarch64-linux-gnu-gcc (Ubuntu 9.4.0-1ubuntu1~20.04.2) 9.4.0 Debian 12 with MUSDK Kernel: Depends on container host Compiler: gcc (Debian 12.2.0-14) 12.2.0 Ubuntu 20.04 ARM SVE Kernel: Depends on container host Compiler: gcc (Ubuntu 10.5.0-1ubuntu1~20.04) 10.5.0 Fedora 40 (ARM Clang) Kernel: Depends on container host Compiler: clang 18.1.8 (Fedora 18.1.8-1.fc40) Fedora 40 (ARM) Kernel: Depends on container host Compiler: gcc 14.2.1 20240912 (Red Hat 14.2.1-3) Fedora 41 (ARM) Kernel: Depends on container host Compiler: gcc 14.2.1 20240912 (Red Hat 14.2.1-3) Ubuntu 24.04 (ARM) Kernel: Depends on container host Compiler: gcc (Ubuntu 13.3.0-6ubuntu2~24.04) 13.3.0 Fedora 41 (ARM Clang) Kernel: Depends on container host Compiler: clang 19.1.5 (Fedora 19.1.5-1.fc41) Ubuntu 22.04 (ARM) Kernel: Depends on container host Compiler: gcc (Ubuntu 11.4.0-1ubuntu1~22.04) 11.4.0 Ubuntu 20.04 (ARM) Kernel: Depends on container host Compiler: gcc (Ubuntu 9.4.0-1ubuntu1~20.04.2) 9.4.0 Debian 12 (arm) Kernel: Depends on container host Compiler: gcc (Debian 12.2.0-14) 12.2.0 CentOS Stream 10 (ARM) Kernel: Depends on container host Compiler: gcc 14.2.1 20241104 (Red Hat 14.2.1-6) CentOS Stream 9 (ARM) Kernel: Depends on container host Compiler: gcc 11.5.0 20240719 (Red Hat 11.5.0-2) To view detailed results, visit: https://lab.dpdk.org/results/dashboard/tarballs/33419/ UNH-IOL DPDK Community Lab To manage your email subscriptions, visit: https://lab.dpdk.org/results/dashboard/preferences/subscriptions/