From mboxrd@z Thu Jan 1 00:00:00 1970 Return-Path: Received: from mails.dpdk.org (mails.dpdk.org [217.70.189.124]) by inbox.dpdk.org (Postfix) with ESMTP id CC2EE466BC for ; Sun, 4 May 2025 10:42:12 +0200 (CEST) Received: from mails.dpdk.org (localhost [127.0.0.1]) by mails.dpdk.org (Postfix) with ESMTP id C7A434025D; Sun, 4 May 2025 10:42:12 +0200 (CEST) Received: from mail-qv1-f99.google.com (mail-qv1-f99.google.com [209.85.219.99]) by mails.dpdk.org (Postfix) with ESMTP id C6A4140156 for ; Sun, 4 May 2025 10:42:11 +0200 (CEST) Received: by mail-qv1-f99.google.com with SMTP id 6a1803df08f44-6e8f4c50a8fso35945776d6.1 for ; Sun, 04 May 2025 01:42:11 -0700 (PDT) DKIM-Signature: v=1; a=rsa-sha256; c=relaxed/relaxed; d=iol.unh.edu; s=unh-iol; t=1746348131; x=1746952931; darn=dpdk.org; h=references:in-reply-to:cc:to:from:subject:message-id:date:from:to :cc:subject:date:message-id:reply-to; bh=EyhAz5QH+OcqGPr6NxGUMdKvu/yHhwoCRDOV8WIniVE=; b=hcKMp2S9odpEkV5L05eT8mMj0uEMQuLnzjpa/l21cFCnr8LpJ+k5n5KY0OI2mDu16b MCiynXH5JuGu2rYcgltMo9jZFOYKMPiiPob4pcLoSvEcsYsrRvrJ+tQcPcyOtN5Pdfpi YHUTGsZ9umt371OyLgGpq79ExEIu16Oyarl1o= X-Google-DKIM-Signature: v=1; a=rsa-sha256; c=relaxed/relaxed; d=1e100.net; s=20230601; t=1746348131; x=1746952931; h=references:in-reply-to:cc:to:from:subject:message-id:date :x-gm-message-state:from:to:cc:subject:date:message-id:reply-to; bh=EyhAz5QH+OcqGPr6NxGUMdKvu/yHhwoCRDOV8WIniVE=; b=H3GplMg8N+jkXmyKVuH+390Oya2GIYA3FyPQDv30bIoPyC8Wdn3M6ykiePzqVy1+ZP aaKVv6Utgw0EA59J/nM3GshEJSqy1kdO7xypgppd14/rsW0eilunpu/73Jm2aj+bCNLB 9l1+wbIxNX4NrW+96HPuRRWCQnBRrqxEhQf2n97ovkzLx2VDIWbriBSIGzNPyj4cmm9I m/peAw9VqHir0z38V260xiqdMyJVdC4ooEWSmN1t/dp6pRTjEBI5pXhCx/KkfIauFA3L B0xe0Z9mHtf9b35AHjJsJjxSqEe8ro1fucGWKG0C18G3CmmufMjZ0xSWNh4cC6PGKQWZ UvXQ== X-Gm-Message-State: AOJu0YyHcDHD28+QI/Ge9y4TFrV0pr1zJ8N2EXyEFI62IVX+nAT0m1As 1M6TBRHz8bs3NUdbh7dVUXXrNXbW29cxg7RqHA+fBZ25F8nEgTJxDO8XmWBqj0z8McTVP5NskN+ C4o3p2b+08p6jXgm3DzQ5JvntyI/rfltUATMscsdB X-Gm-Gg: ASbGncs/dd/JqycJEKzHCPircG//kbFlBgyUOtcEU/zF0qedRPQ32tvficRXkz+AfJz GV2ThOsibghXYF85yS4/UDvUZ4unIq97xemsYB/lsIm3Yb/oHI8JseSAJd6n5eicL4Qvf2Vq7Ib YwJQp4JWpYy1OBEauHJpbkTApTUoL7AJEQioRuxdk52fry77xzBfADxn+DMNG0Fm72Y6kTgkE3z 3e5CngI4zvWKaWdPuvjM8CRKyoawxjgEyariqXFdk1R9T6NL3No7LCk/EEdJA/JMmAU4PAzaEZ4 1eqyFxdWMe5BymYk72v0G+u01JvfNXEz4809T+PC07xlvUuYuYjX8war8II= X-Google-Smtp-Source: AGHT+IGSVBhMYuAzJ+uwgyngnIDBToQH/mxtJSap5BBN4w67bLo5jVhzRxDnfQy6OBzRnuX/VieeRLGG5vKZ X-Received: by 2002:a05:6214:230b:b0:6e8:9a55:8259 with SMTP id 6a1803df08f44-6f528c39c30mr54553096d6.9.1746348131187; Sun, 04 May 2025 01:42:11 -0700 (PDT) Received: from postal.iol.unh.edu (postal.iol.unh.edu. [132.177.123.84]) by smtp-relay.gmail.com with ESMTPS id 6a1803df08f44-6f50f48e990sm14944996d6.65.2025.05.04.01.42.11 (version=TLS1_2 cipher=ECDHE-ECDSA-AES128-GCM-SHA256 bits=128/128); Sun, 04 May 2025 01:42:11 -0700 (PDT) X-Relaying-Domain: iol.unh.edu Date: Sun, 04 May 2025 01:42:11 -0700 (PDT) Message-ID: <68172863.050a0220.3b9320.e410SMTPIN_ADDED_MISSING@mx.google.com> Received: from [172.21.0.5] (unknown [172.18.0.240]) by postal.iol.unh.edu (Postfix) with ESMTP id E49F66052471; Sun, 4 May 2025 04:42:10 -0400 (EDT) Subject: |SUCCESS| pw153228 [PATCH] net/ice: update log message From: dpdklab@iol.unh.edu To: Test Report Cc: dpdk-test-reports@iol.unh.edu In-Reply-To: <20250502152601.699443-1-dhanya.r.pillai@intel.com> References: <20250502152601.699443-1-dhanya.r.pillai@intel.com> Content-Type: text/plain X-BeenThere: test-report@dpdk.org X-Mailman-Version: 2.1.29 Precedence: list List-Id: automatic DPDK test reports List-Unsubscribe: , List-Archive: List-Post: List-Help: List-Subscribe: , Errors-To: test-report-bounces@dpdk.org Test-Label: iol-compile-amd64-testing Test-Status: SUCCESS http://dpdk.org/patch/153228 _Testing PASS_ Submitter: Pillai, Dhanya R Date: Friday, May 02 2025 15:25:59 DPDK git baseline: Repo:dpdk Branch: master CommitID:2665bfb9838fec7ea6c3b2be5831f93ee087b288 153228 --> testing pass Upstream job id: Windows-Compile-DPDK-Native#28194 Test environment and result as below: +---------------------+--------------------+-------------------+-------------------------+ | Environment | dpdk_meson_compile | dpdk_msvc_compile | dpdk_llvm_clang_compile | +=====================+====================+===================+=========================+ | Ubuntu 20.04 | PASS | SKIPPED | SKIPPED | +---------------------+--------------------+-------------------+-------------------------+ | FreeBSD 13.5 | PASS | SKIPPED | SKIPPED | +---------------------+--------------------+-------------------+-------------------------+ | FreeBSD 14.2 | PASS | SKIPPED | SKIPPED | +---------------------+--------------------+-------------------+-------------------------+ | Windows Server 2022 | SKIPPED | PASS | PASS | +---------------------+--------------------+-------------------+-------------------------+ Ubuntu 20.04 Kernel: 4.19.325-0419325-generic Compiler: gcc (Ubuntu 9.4.0-1ubuntu1~20.04.2) 9.4.0 FreeBSD 13.5 Kernel: 13.5-RELEASE Compiler: clang 19.1.7 FreeBSD 14.2 Kernel: 14.2-RELEASE Compiler: clang 18.1.6 Windows Server 2022 Kernel: 10.0.20348.2031 Compiler: clang 15.0.7, gcc 14.1.0 (MinGW), and MSVC VS 19.39.33521 To view detailed results, visit: https://lab.dpdk.org/results/dashboard/patchsets/33098/ UNH-IOL DPDK Community Lab To manage your email subscriptions, visit: https://lab.dpdk.org/results/dashboard/preferences/subscriptions/