From mboxrd@z Thu Jan 1 00:00:00 1970 Return-Path: Received: from mails.dpdk.org (mails.dpdk.org [217.70.189.124]) by inbox.dpdk.org (Postfix) with ESMTP id 051C2466BC for ; Sun, 4 May 2025 10:54:28 +0200 (CEST) Received: from mails.dpdk.org (localhost [127.0.0.1]) by mails.dpdk.org (Postfix) with ESMTP id D0D8A4025D; Sun, 4 May 2025 10:54:27 +0200 (CEST) Received: from mail-io1-f99.google.com (mail-io1-f99.google.com [209.85.166.99]) by mails.dpdk.org (Postfix) with ESMTP id B7B2040156 for ; Sun, 4 May 2025 10:54:26 +0200 (CEST) Received: by mail-io1-f99.google.com with SMTP id ca18e2360f4ac-864a22fcdf2so98068639f.0 for ; Sun, 04 May 2025 01:54:26 -0700 (PDT) DKIM-Signature: v=1; a=rsa-sha256; c=relaxed/relaxed; d=iol.unh.edu; s=unh-iol; t=1746348866; x=1746953666; darn=dpdk.org; h=references:in-reply-to:cc:to:from:subject:message-id:date:from:to :cc:subject:date:message-id:reply-to; bh=zHknuwp+q87Wy0iU0AWFCh4YvyEuTSCU8RUGIubOh08=; b=EVmrJSo2ZMxz1J9B4BkWTgIDvWSLb2RLqou0EL9uwPWj6ANImPLmNBqavZlpPYhwcN JihMySha8Lg4taGAToZm/k+JwLDo+MUgctz4IAsJDyqtaI1kWQcjS7bdU8q3qm+Vf5kM 9wekwxw5JK32TYswViNZf5VOKEjpigq89r+XQ= X-Google-DKIM-Signature: v=1; a=rsa-sha256; c=relaxed/relaxed; d=1e100.net; s=20230601; t=1746348866; x=1746953666; h=references:in-reply-to:cc:to:from:subject:message-id:date :x-gm-message-state:from:to:cc:subject:date:message-id:reply-to; bh=zHknuwp+q87Wy0iU0AWFCh4YvyEuTSCU8RUGIubOh08=; b=nmbwdnQd+16DLQCNtK7bT/PPBWxjOsdfAyfgm1dnUSqJRLK4zg+hAmpEqFOyFwKyNb RfDKQpehXPFfiowz6mWJxD/Ik4ZMcw3kqaS5De0cKm672YUx7Ku8Mc2f6k3k0RzaoZg2 xSABwNwQ4gtZ5dN04NGiI4rI+28tTKMR1AolF70eBWcskFxsFHvYmtcxYV9Y5iiP0/Pv 97IFcCW0bEaNezGnawbzv+iga2/DX19XDvPiB286D3jSW0E+Ze6VNZA6k5pMukZWvriV G/sk6KbRVBXtOMBgJy2ynHwC/iLsQVcgTjH48nm3/osaEB5uj2ODJNuEpjqpV2GJyRlT jGZg== X-Gm-Message-State: AOJu0YzNEaxC4trXQr5m16ag2fkZGC572dDhga9s6W3qZ/eaxOiq6IjK wBK2MLXWJho8I0k/Gz3u2cfS0PsX1yKn5HF0Ox7XJVZdLoDAKymVizbI14ZNCPmNHX4f191s5J2 GFV/IaCBXpJPE5jIDegriGER6KnYB6NeRMngu3K9yB3iYSX1SvbY++mWk X-Gm-Gg: ASbGncu56nkKf0nYNsUin2Bc1AgL+goUupOugUEadXhpg6KYmJ5llqBMO7ErzwRr1Ac aJbsWsS+Z0CWUiElHN+Aa5LnPv3Ix8ca2ckqdk7Bew33dWHdpEMSthg5lJoOGRBxCjAnT4Fbwzh OVyY6GWvuphDhBQG1bs4HCUSJq9iZubpwaubTkK5TygeTXl8fuA81x1dR+paK19LnIkc1CoTO3o BE/9SkL70eM/S/h1s2qfL6ukO+i+ugMO9FDnazQpfvX16ZPVB2L5fGLZMq+6GRfcrI1Y7xwvJ5s uH9+gNjDoZdF3pXpjcYV4FF8n5uPB5Bqgt9v X-Google-Smtp-Source: AGHT+IEblpN4cXN6oKrIZOVm9a+zDkKbY2jnqahTd5g3wgCdcXye7VSxqr75X3Ft/cB4oKtE7l/ZAkhXeAjb X-Received: by 2002:a5d:9308:0:b0:85b:5c9a:a9ce with SMTP id ca18e2360f4ac-864a3d68106mr1187034539f.6.1746348865953; Sun, 04 May 2025 01:54:25 -0700 (PDT) Received: from postal.iol.unh.edu (postal.iol.unh.edu. [2606:4100:3880:1234::84]) by smtp-relay.gmail.com with ESMTPS id 8926c6da1cb9f-4f88aa6210asm1313336173.53.2025.05.04.01.54.25 (version=TLS1_2 cipher=ECDHE-ECDSA-AES128-GCM-SHA256 bits=128/128); Sun, 04 May 2025 01:54:25 -0700 (PDT) X-Relaying-Domain: iol.unh.edu Date: Sun, 04 May 2025 01:54:25 -0700 (PDT) Message-ID: <68172b41.050a0220.dff2a.e427SMTPIN_ADDED_MISSING@mx.google.com> Received: from [172.21.0.5] (unknown [172.18.0.240]) by postal.iol.unh.edu (Postfix) with ESMTP id 6BEBC6052471; Sun, 4 May 2025 04:54:25 -0400 (EDT) Subject: |SUCCESS| pw153228 [PATCH] net/ice: update log message From: dpdklab@iol.unh.edu To: Test Report Cc: dpdk-test-reports@iol.unh.edu In-Reply-To: <20250502152601.699443-1-dhanya.r.pillai@intel.com> References: <20250502152601.699443-1-dhanya.r.pillai@intel.com> Content-Type: text/plain X-BeenThere: test-report@dpdk.org X-Mailman-Version: 2.1.29 Precedence: list List-Id: automatic DPDK test reports List-Unsubscribe: , List-Archive: List-Post: List-Help: List-Subscribe: , Errors-To: test-report-bounces@dpdk.org Test-Label: iol-compile-amd64-testing Test-Status: SUCCESS http://dpdk.org/patch/153228 _Testing PASS_ Submitter: Pillai, Dhanya R Date: Friday, May 02 2025 15:25:59 DPDK git baseline: Repo:dpdk Branch: master CommitID:2665bfb9838fec7ea6c3b2be5831f93ee087b288 153228 --> testing pass Upstream job id: Windows-Compile-DPDK-Native#28195 Test environment and result as below: +---------------------+--------------------+-------------------+-------------------------+----------------------+ | Environment | dpdk_meson_compile | dpdk_msvc_compile | dpdk_llvm_clang_compile | dpdk_mingw64_compile | +=====================+====================+===================+=========================+======================+ | Ubuntu 20.04 | PASS | SKIPPED | SKIPPED | SKIPPED | +---------------------+--------------------+-------------------+-------------------------+----------------------+ | FreeBSD 13.5 | PASS | SKIPPED | SKIPPED | SKIPPED | +---------------------+--------------------+-------------------+-------------------------+----------------------+ | FreeBSD 14.2 | PASS | SKIPPED | SKIPPED | SKIPPED | +---------------------+--------------------+-------------------+-------------------------+----------------------+ | Windows Server 2022 | SKIPPED | PASS | PASS | PASS | +---------------------+--------------------+-------------------+-------------------------+----------------------+ Ubuntu 20.04 Kernel: 4.19.325-0419325-generic Compiler: gcc (Ubuntu 9.4.0-1ubuntu1~20.04.2) 9.4.0 FreeBSD 13.5 Kernel: 13.5-RELEASE Compiler: clang 19.1.7 FreeBSD 14.2 Kernel: 14.2-RELEASE Compiler: clang 18.1.6 Windows Server 2022 Kernel: 10.0.20348.2031 Compiler: clang 15.0.7, gcc 14.1.0 (MinGW), and MSVC VS 19.39.33521 To view detailed results, visit: https://lab.dpdk.org/results/dashboard/patchsets/33098/ UNH-IOL DPDK Community Lab To manage your email subscriptions, visit: https://lab.dpdk.org/results/dashboard/preferences/subscriptions/