From mboxrd@z Thu Jan 1 00:00:00 1970 Return-Path: Received: from mails.dpdk.org (mails.dpdk.org [217.70.189.124]) by inbox.dpdk.org (Postfix) with ESMTP id AAF6C466BC for ; Sun, 4 May 2025 11:50:44 +0200 (CEST) Received: from mails.dpdk.org (localhost [127.0.0.1]) by mails.dpdk.org (Postfix) with ESMTP id 81B8D4025D; Sun, 4 May 2025 11:50:44 +0200 (CEST) Received: from mail-il1-f225.google.com (mail-il1-f225.google.com [209.85.166.225]) by mails.dpdk.org (Postfix) with ESMTP id 1282A40156 for ; Sun, 4 May 2025 11:50:43 +0200 (CEST) Received: by mail-il1-f225.google.com with SMTP id e9e14a558f8ab-3d8020ba858so7831125ab.0 for ; Sun, 04 May 2025 02:50:42 -0700 (PDT) DKIM-Signature: v=1; a=rsa-sha256; c=relaxed/relaxed; d=iol.unh.edu; s=unh-iol; t=1746352242; x=1746957042; darn=dpdk.org; h=references:in-reply-to:cc:to:from:subject:message-id:date:from:to :cc:subject:date:message-id:reply-to; bh=WXunBYifkTFn3urQVTePMTedqyiyY9FFNt3bFmWwOLw=; b=aIsaHrbesusF2S38W7tt+m5QsYD9Uzt7lsBD2kpGLXqmTIpRmjqPuBGrrf6B9n1DLa OFq2g2tEmdxyuv0Ela+VPJd/Zoqo/9dXlbRS8gIncF5XsRJTLZHvMqC+VZoNVjvTdeAR 1uRlp5yTh2WBlflRAFECjyUVUKfcCy3axXcmo= X-Google-DKIM-Signature: v=1; a=rsa-sha256; c=relaxed/relaxed; d=1e100.net; s=20230601; t=1746352242; x=1746957042; h=references:in-reply-to:cc:to:from:subject:message-id:date :x-gm-message-state:from:to:cc:subject:date:message-id:reply-to; bh=WXunBYifkTFn3urQVTePMTedqyiyY9FFNt3bFmWwOLw=; b=WKOGf7QxzKna6X1mCnFdeUTGRa8dyxJMCTcI26P0fVg4iXSw+IZpnKdghe/SivW/FT bdpr6i+fTeQ+nqOAhwc1/by1ttl66dL2FykxYY2YBaDJMKqV0Gd8IbPSy+wQfD7sZglk 9uV95s0aXrNIQrbKcjSEkQekEJ83oUPXLdMnZja6Z1waWiwvP1tGy3VUkpImSNBcyokj W9i8eOneaYdimI2rL57rZvXfTWUfi44paFBlZThbnIE5QGG4V1gVOcJOu9wUxNGipan2 aOT7Veq/aqnKA/IArwEuKwo3pjPLDKDcotdwR0c6DJtBqj1wr+lRjSvF/zoIbA8DFTYP viLQ== X-Gm-Message-State: AOJu0YwPRrAF5OgcihaAcIDPegOeDAcFZjFGr5MFMIksD5NTnfoN/Twv 7+QnItwOk6KdETTrPOBXsfkiZ48fhs0kw9wB9UAJUmx4BramM+p4+jf8mRybb5ENA2+s5K1hHJp pZa0lIV6uveiIikaDqsn5Pwp3DEq6Fop5KCobR186XjeR4jT8dB8lDwM8 X-Gm-Gg: ASbGncsfwuSFrRReyvLDKlGN5Cj/9469IqPv76QysFWWV7Drq14/8qaDbYT1qf7B0y9 I48C0SRScfoPYXjfAO8CXR+44gaSqUyGFwPoWTKqiCT9lXpmEMnze+M92jyy5owejnIU9VZC4eO oKA/Ggoezj5MpswnrTimbRxAvq9zVqdF1+zRX3CuRGkhjGu9nsu63+P5D2cmBeHLDvT/tbRd4U/ 0Z3y3sPctWLmvvbsYu5qPqajkl6fri+3oAXLgtMIpXkO7r74KoUH9+1p2HK6WTIVn5xUquV6i9S 3h2tWa0NPqe7+jP73gZdLf2i6p1pvXAJ2U7I X-Google-Smtp-Source: AGHT+IEyXYojRqyct3RvSAxVca/7yVNmIpts9MURDAC8qGPw3ZJf+BHL6kMoZMjaWda0aAqLICqrTpQxzczj X-Received: by 2002:a05:6e02:258f:b0:3d0:4e0c:2c96 with SMTP id e9e14a558f8ab-3da5b23bd18mr32726235ab.2.1746352242388; Sun, 04 May 2025 02:50:42 -0700 (PDT) Received: from postal.iol.unh.edu (postal.iol.unh.edu. [2606:4100:3880:1234::84]) by smtp-relay.gmail.com with ESMTPS id 8926c6da1cb9f-4f88a942402sm1365885173.43.2025.05.04.02.50.42 (version=TLS1_2 cipher=ECDHE-ECDSA-AES128-GCM-SHA256 bits=128/128); Sun, 04 May 2025 02:50:42 -0700 (PDT) X-Relaying-Domain: iol.unh.edu Date: Sun, 04 May 2025 02:50:42 -0700 (PDT) Message-ID: <68173872.050a0220.35d49a.f2c9SMTPIN_ADDED_MISSING@mx.google.com> Received: from [172.21.0.5] (unknown [172.18.0.240]) by postal.iol.unh.edu (Postfix) with ESMTP id F3B126052471; Sun, 4 May 2025 05:50:41 -0400 (EDT) Subject: |SUCCESS| pw153229 [PATCH] net/mlx5: fix support for meter flow acti From: dpdklab@iol.unh.edu To: Test Report Cc: dpdk-test-reports@iol.unh.edu In-Reply-To: <20250504052350.91160-1-getelson@nvidia.com> References: <20250504052350.91160-1-getelson@nvidia.com> Content-Type: text/plain X-BeenThere: test-report@dpdk.org X-Mailman-Version: 2.1.29 Precedence: list List-Id: automatic DPDK test reports List-Unsubscribe: , List-Archive: List-Post: List-Help: List-Subscribe: , Errors-To: test-report-bounces@dpdk.org Test-Label: iol-abi-testing Test-Status: SUCCESS http://dpdk.org/patch/153229 _Testing PASS_ Submitter: Gregory Etelson Date: Sunday, May 04 2025 05:23:50 DPDK git baseline: Repo:dpdk Branch: master CommitID:edd3f4b1265e6da707c46ca9b6c39d332647baea 153229 --> testing pass Upstream job id: Generic-DPDK-Compile-ABI#125134 Test environment and result as below: +-------------------+----------+ | Environment | abi_test | +===================+==========+ | CentOS Stream 9 | PASS | +-------------------+----------+ | Fedora 40 | PASS | +-------------------+----------+ | CentOS Stream 10 | PASS | +-------------------+----------+ | Fedora 40 (Clang) | PASS | +-------------------+----------+ | Debian 12 | PASS | +-------------------+----------+ | Fedora 41 (Clang) | PASS | +-------------------+----------+ | RHEL9 | PASS | +-------------------+----------+ | Fedora 41 | PASS | +-------------------+----------+ | openSUSE Leap 15 | PASS | +-------------------+----------+ | RHEL8 | PASS | +-------------------+----------+ | Ubuntu 22.04 | PASS | +-------------------+----------+ | Ubuntu 24.04 | PASS | +-------------------+----------+ CentOS Stream 9 Kernel: Depends on container host Compiler: gcc 11.5.0 20240719 (Red Hat 11.5.0-2) Fedora 40 Kernel: Depends on container host Compiler: gcc 14.2.1 20240912 (Red Hat 14.2.1-3) CentOS Stream 10 Kernel: Depends on container host Compiler: gcc 14.2.1 20241104 (Red Hat 14.2.1-6) Fedora 40 (Clang) Kernel: Depends on container host Compiler: clang 18.1.8 (Fedora 18.1.8-1.fc40) Debian 12 Kernel: Depends on container host Compiler: gcc (Debian 12.2.0-14) 12.2.0 Fedora 41 (Clang) Kernel: Depends on container host Compiler: clang 19.1.5 (Fedora 19.1.5-1.fc41) RHEL9 Kernel: Depends on container host Compiler: gcc 11.5.0 20240719 (Red Hat 11.5.0-2) Fedora 41 Kernel: Depends on container host Compiler: gcc 14.2.1 20240912 (Red Hat 14.2.1-3) openSUSE Leap 15 Kernel: Depends on container host Compiler: gcc (SUSE Linux) 7.5.0 RHEL8 Kernel: Depends on container host Compiler: gcc 8.5.0 20210514 (Red Hat 8.5.0-22) Ubuntu 22.04 Kernel: Depends on container host Compiler: gcc (Ubuntu 11.4.0-1ubuntu1~22.04) 11.4.0 Ubuntu 24.04 Kernel: Depends on container host Compiler: gcc (Ubuntu 13.3.0-6ubuntu2~24.04) 13.3.0 To view detailed results, visit: https://lab.dpdk.org/results/dashboard/patchsets/33099/ UNH-IOL DPDK Community Lab To manage your email subscriptions, visit: https://lab.dpdk.org/results/dashboard/preferences/subscriptions/