From mboxrd@z Thu Jan 1 00:00:00 1970 Return-Path: Received: from mails.dpdk.org (mails.dpdk.org [217.70.189.124]) by inbox.dpdk.org (Postfix) with ESMTP id C63D2466BD for ; Sun, 4 May 2025 12:16:23 +0200 (CEST) Received: from mails.dpdk.org (localhost [127.0.0.1]) by mails.dpdk.org (Postfix) with ESMTP id 91AC74025D; Sun, 4 May 2025 12:16:23 +0200 (CEST) Received: from mail-yw1-f226.google.com (mail-yw1-f226.google.com [209.85.128.226]) by mails.dpdk.org (Postfix) with ESMTP id A6F4840156 for ; Sun, 4 May 2025 12:16:21 +0200 (CEST) Received: by mail-yw1-f226.google.com with SMTP id 00721157ae682-7082ad1355bso25881917b3.1 for ; Sun, 04 May 2025 03:16:21 -0700 (PDT) DKIM-Signature: v=1; a=rsa-sha256; c=relaxed/relaxed; d=iol.unh.edu; s=unh-iol; t=1746353781; x=1746958581; darn=dpdk.org; h=references:in-reply-to:cc:to:from:subject:message-id:date:from:to :cc:subject:date:message-id:reply-to; bh=glBbDBdpIcDo+jFyEk3FYU5gmVc99EncVsl/Vtj0D10=; b=ciOnnaxfRb+AdiZRTxioo3nUv4x3o/3/bs+IBr5Dowdf3n+5FQLYPPL77Ieeuir3lj zni0z9nuhLR3Rn9tlF0wLyhqxCHcWgElkhqv93VrJDVgPzLDhJhrs/DoDwLRoZfYGzmu 6dmNSyTCUAi9pWza2Sk9rr/jAlzvrd3mLPqVQ= X-Google-DKIM-Signature: v=1; a=rsa-sha256; c=relaxed/relaxed; d=1e100.net; s=20230601; t=1746353781; x=1746958581; h=references:in-reply-to:cc:to:from:subject:message-id:date :x-gm-message-state:from:to:cc:subject:date:message-id:reply-to; bh=glBbDBdpIcDo+jFyEk3FYU5gmVc99EncVsl/Vtj0D10=; b=HFF1kv+LvC/P/gXZ6TfBLEtyN0Os+KhXa5NVQm5p+mNV6phu9rwnpJ2taGojsBiCyq W+w4K08F8jZd2keMIadJkU0iJ0Tf7QYr9jbdxYS4kC6REXGZelUj9TjjMVTmDG12WXes J81lbtS68q6TxATIZvs89yRcVAR8SMfb85qB23JSvSC1DEC1NDBW0etmLrJIe5wvR6jd lxWrggRDbleck5oo8uEm5kBiMblpXowScTGxvt1FyVkxLIgBdlfEBTNDSU7yjqAbPCIa 6fhEaekRb0NBgteS9x6gwv5gBsbgmqRsi4BDyRROsRKAiuVyoh7pN3aJ57mXRtR2gh7A 9Bsw== X-Gm-Message-State: AOJu0Yx8f4HZxIGIir05n2/aLIHnHs04pgYdiaxO0MSwikmK07yNrJbo yWvKoWP1jdMff6tjTrVBMet6KUx0dExhlTGf0HjTK6g17o/N/qIljtGRquSeTt+idv2Pyhdrm4t kC9h/eTzsrYyO36JgUVUhViVkv5LmXs+ncqWLSR91 X-Gm-Gg: ASbGnctMHGe0+5DOdvlwIdZ6Gudp4B4iMWhYB3D2PrrKx4D2zuls4Bhu79dqGVgO3p3 5hDmoLkIBo40CvWmOVBELbMpMWT1byfU3DssyES3ggkKkbpBUypPlLJ3qpQmD7zQlL/RdyM0k3C vVeUrRmauGdm+80HvZ5K5Cw3NQTTCZbofnYuZ8KRIPeDHzKk6XKR5+gLn46vFDMYwVsfkPGttKm LQMWQnSjYfBCFtijy3aRdKrsyp5NACfCVcfZLHzOTLpjHm9sRoMicP0ZkhR/33VTXXCKTTVuaot fBoF9GiYMY8GKOvivEpmAPFWlIe21c6U7vMrPndRfOIP+3R6fLNVbJmgo1M= X-Google-Smtp-Source: AGHT+IGEjV1kAoM9OQSMNINwKh0tDbqJo8sGNRb6dNdtHWEUMBhIKf/6xY1UzLRinFj2biMXQ4x8ja8BaK+U X-Received: by 2002:a05:690c:3612:b0:6f9:7a3c:1fe with SMTP id 00721157ae682-708cf21ffefmr124353597b3.23.1746353780993; Sun, 04 May 2025 03:16:20 -0700 (PDT) Received: from postal.iol.unh.edu (postal.iol.unh.edu. [132.177.123.84]) by smtp-relay.gmail.com with ESMTPS id 00721157ae682-708e2cadad3sm7902207b3.36.2025.05.04.03.16.20 (version=TLS1_2 cipher=ECDHE-ECDSA-AES128-GCM-SHA256 bits=128/128); Sun, 04 May 2025 03:16:20 -0700 (PDT) X-Relaying-Domain: iol.unh.edu Date: Sun, 04 May 2025 03:16:20 -0700 (PDT) Message-ID: <68173e74.050a0220.ce56c.5e80SMTPIN_ADDED_MISSING@mx.google.com> Received: from [172.21.0.5] (unknown [172.18.0.240]) by postal.iol.unh.edu (Postfix) with ESMTP id 8F4FC6052471; Sun, 4 May 2025 06:16:20 -0400 (EDT) Subject: |SUCCESS| pw153229 [PATCH] net/mlx5: fix support for meter flow acti From: dpdklab@iol.unh.edu To: Test Report Cc: dpdk-test-reports@iol.unh.edu In-Reply-To: <20250504052350.91160-1-getelson@nvidia.com> References: <20250504052350.91160-1-getelson@nvidia.com> Content-Type: text/plain X-BeenThere: test-report@dpdk.org X-Mailman-Version: 2.1.29 Precedence: list List-Id: automatic DPDK test reports List-Unsubscribe: , List-Archive: List-Post: List-Help: List-Subscribe: , Errors-To: test-report-bounces@dpdk.org Test-Label: iol-unit-arm64-testing Test-Status: SUCCESS http://dpdk.org/patch/153229 _Testing PASS_ Submitter: Gregory Etelson Date: Sunday, May 04 2025 05:23:50 DPDK git baseline: Repo:dpdk Branch: master CommitID:edd3f4b1265e6da707c46ca9b6c39d332647baea 153229 --> testing pass Upstream job id: Generic-Unit-Test-DPDK#335073 Test environment and result as below: +-----------------------------+----------------+------------------------------+---------------------------+--------------+ | Environment | dpdk_unit_test | cryptodev_sw_snow3g_autotest | cryptodev_sw_zuc_autotest | lpm_autotest | +=============================+================+==============================+===========================+==============+ | Fedora 40 (ARM) | PASS | SKIPPED | SKIPPED | SKIPPED | +-----------------------------+----------------+------------------------------+---------------------------+--------------+ | CentOS Stream 9 (ARM) | PASS | SKIPPED | SKIPPED | SKIPPED | +-----------------------------+----------------+------------------------------+---------------------------+--------------+ | Ubuntu 24.04 (ARM) | PASS | SKIPPED | SKIPPED | SKIPPED | +-----------------------------+----------------+------------------------------+---------------------------+--------------+ | Debian 12 (arm) | PASS | PASS | PASS | SKIPPED | +-----------------------------+----------------+------------------------------+---------------------------+--------------+ | RHEL9 (ARM) | PASS | SKIPPED | SKIPPED | SKIPPED | +-----------------------------+----------------+------------------------------+---------------------------+--------------+ | Ubuntu 20.04 (ARM) | PASS | SKIPPED | SKIPPED | SKIPPED | +-----------------------------+----------------+------------------------------+---------------------------+--------------+ | Fedora 41 (ARM) | PASS | SKIPPED | SKIPPED | SKIPPED | +-----------------------------+----------------+------------------------------+---------------------------+--------------+ | CentOS Stream 10 (ARM) | PASS | SKIPPED | SKIPPED | SKIPPED | +-----------------------------+----------------+------------------------------+---------------------------+--------------+ | Fedora 40 (ARM Clang) | PASS | SKIPPED | SKIPPED | SKIPPED | +-----------------------------+----------------+------------------------------+---------------------------+--------------+ | Fedora 41 (ARM Clang) | PASS | SKIPPED | SKIPPED | SKIPPED | +-----------------------------+----------------+------------------------------+---------------------------+--------------+ | Ubuntu 22.04 (ARM) | PASS | SKIPPED | SKIPPED | SKIPPED | +-----------------------------+----------------+------------------------------+---------------------------+--------------+ | 32-bit Ubuntu 22.04.4 (ARM) | PASS | SKIPPED | SKIPPED | SKIPPED | +-----------------------------+----------------+------------------------------+---------------------------+--------------+ | Ubuntu 20.04 ARM SVE | SKIPPED | SKIPPED | SKIPPED | PASS | +-----------------------------+----------------+------------------------------+---------------------------+--------------+ Fedora 40 (ARM) Kernel: Depends on container host Compiler: gcc 14.2.1 20240912 (Red Hat 14.2.1-3) CentOS Stream 9 (ARM) Kernel: Depends on container host Compiler: gcc 11.5.0 20240719 (Red Hat 11.5.0-2) Ubuntu 24.04 (ARM) Kernel: Depends on container host Compiler: gcc (Ubuntu 13.3.0-6ubuntu2~24.04) 13.3.0 Debian 12 (arm) Kernel: Depends on container host Compiler: gcc (Debian 12.2.0-14) 12.2.0 RHEL9 (ARM) Kernel: Depends on container host Compiler: gcc 11.5.0 20240719 (Red Hat 11.5.0-2) Ubuntu 20.04 (ARM) Kernel: Depends on container host Compiler: gcc (Ubuntu 9.4.0-1ubuntu1~20.04.2) 9.4.0 Fedora 41 (ARM) Kernel: Depends on container host Compiler: gcc 14.2.1 20240912 (Red Hat 14.2.1-3) CentOS Stream 10 (ARM) Kernel: Depends on container host Compiler: gcc 14.2.1 20241104 (Red Hat 14.2.1-6) Fedora 40 (ARM Clang) Kernel: Depends on container host Compiler: clang 18.1.8 (Fedora 18.1.8-1.fc40) Fedora 41 (ARM Clang) Kernel: Depends on container host Compiler: clang 19.1.5 (Fedora 19.1.5-1.fc41) Ubuntu 22.04 (ARM) Kernel: Depends on container host Compiler: gcc (Ubuntu 11.4.0-1ubuntu1~22.04) 11.4.0 32-bit Ubuntu 22.04.4 (ARM) Kernel: 5.15.83+ aarch64 Compiler: gcc (Ubuntu 11.4.0-1ubuntu1~22.04) 11.4.0 Ubuntu 20.04 ARM SVE Kernel: Depends on container host Compiler: gcc (Ubuntu 10.5.0-1ubuntu1~20.04) 10.5.0 To view detailed results, visit: https://lab.dpdk.org/results/dashboard/patchsets/33099/ UNH-IOL DPDK Community Lab To manage your email subscriptions, visit: https://lab.dpdk.org/results/dashboard/preferences/subscriptions/