From mboxrd@z Thu Jan  1 00:00:00 1970
Return-Path: <test-report-bounces@dpdk.org>
Received: from mails.dpdk.org (mails.dpdk.org [217.70.189.124])
	by inbox.dpdk.org (Postfix) with ESMTP id 4AE5F466BD
	for <public@inbox.dpdk.org>; Sun,  4 May 2025 12:21:09 +0200 (CEST)
Received: from mails.dpdk.org (localhost [127.0.0.1])
	by mails.dpdk.org (Postfix) with ESMTP id 0F37C40612;
	Sun,  4 May 2025 12:21:09 +0200 (CEST)
Received: from mail-io1-f100.google.com (mail-io1-f100.google.com
 [209.85.166.100])
 by mails.dpdk.org (Postfix) with ESMTP id A8FCC4025D
 for <test-report@dpdk.org>; Sun,  4 May 2025 12:21:07 +0200 (CEST)
Received: by mail-io1-f100.google.com with SMTP id
 ca18e2360f4ac-85d9a87660fso386692539f.1
 for <test-report@dpdk.org>; Sun, 04 May 2025 03:21:07 -0700 (PDT)
DKIM-Signature: v=1; a=rsa-sha256; c=relaxed/relaxed;
 d=iol.unh.edu; s=unh-iol; t=1746354067; x=1746958867; darn=dpdk.org;
 h=references:in-reply-to:cc:to:from:subject:message-id:date:from:to
 :cc:subject:date:message-id:reply-to;
 bh=7O6eVTTKIao9FZ2lQkB+53JTUgndjb41Ug7YonoFMfs=;
 b=LzdNHbp7uhghY2IViFREfBphCSJ0EQkAp7VRPnTutaSqlFhySGgYhMOvgOXpz+d/+3
 0HM525D/WllyM1c3WhCgjcrwOMC94VHsD39ZAvNXOJh6+1IVbthQH+HBYuf1BuUg1URA
 xR8xRFSuxMc8B8zbVik+ejWBoepgiq5BrJpsA=
X-Google-DKIM-Signature: v=1; a=rsa-sha256; c=relaxed/relaxed;
 d=1e100.net; s=20230601; t=1746354067; x=1746958867;
 h=references:in-reply-to:cc:to:from:subject:message-id:date
 :x-gm-message-state:from:to:cc:subject:date:message-id:reply-to;
 bh=7O6eVTTKIao9FZ2lQkB+53JTUgndjb41Ug7YonoFMfs=;
 b=w1fY//ol1ofDxLbYbUWmuQhs4DeHLywsuzH6KLoKjoxOPH2GPgPze5FfWlLjQYYXo1
 hNCf2EHR8N5nSoxBmVZ1pG8LjL1mn/R6HGrYqR6LhGobKkNu4KTff3H//qQ8MWECjYVR
 iH4j3YyO2f1lL4Ve7wXwfKKPAY1LCDie7vNthnEPj1vqcdFlNXDgF9v/aoEAhe9qAGck
 kZl3ZoJyUsGSItNEcoPFgjkxF3XPgZsqYkEoVrKia5B1rYAv79q5f6SZZ7HKcKmuEDZo
 eJrSzJfuq1P+hNsazT6p5Pfjvjyg7wosz1T4eSZqnRX+Ejd1WE3hzgDr/G03RSKuDr8D
 7JQA==
X-Gm-Message-State: AOJu0Yx0ZggMQsDzmhh8svA6f/JqT+Y0bO68mM0dWPbQ67LJ47nNIPcd
 jxsr8DKefY1653vLZw6ARnXM9YznliSkAqkFAij0qaKUsmw6Rf6DxXeFyr6ksoDr/BDkbfsSrOB
 fLM/EX1Z/royCj4YBkI8vHV1HB5FpW0BpTLCEpxif
X-Gm-Gg: ASbGncu01FphESEUsVHr3dRjQFdbEBzaHGh5sk/RUoVDxWWf/A3MDTYWN8hsUrKyZhy
 naXmmqqITBBwpY+dcErLt9rAd+aTRsvjb9/HliYP2VwILUL2PF0HemZ0DYUB0jE11/PdlKyQJsE
 khioZt8iTsO/oag8GXKY1MihHzbyBGJ8m0be9cxHHCUJGJ/u8Iz6UmJxyKgDLkimmhFV9oqR2sl
 dPfBi1K+UI363nJV/BDjPCoWl3MTBRxFSkInWsKlPQbmijpRnOC0OTI7uns5/UtHxeu/Kv6Dkfc
 +xqbgz5uIb9BUyIey0kVcMeizmHuvopftSFsB5Fcqd+8h89grEeILNKFWR4=
X-Google-Smtp-Source: AGHT+IFws2rCtzkUYb0dmgQmbaaFLmeAWPrIiiTJ6PTnP3Tw7qr00uGiPPhZx85I7ScDSiJwNzVUGIyLKFl1
X-Received: by 2002:a05:6602:641c:b0:864:4a1b:dfc5 with SMTP id
 ca18e2360f4ac-86713b7a6edmr363603339f.9.1746354066910; 
 Sun, 04 May 2025 03:21:06 -0700 (PDT)
Received: from postal.iol.unh.edu (postal.iol.unh.edu. [132.177.123.84])
 by smtp-relay.gmail.com with ESMTPS id
 ca18e2360f4ac-864aa333014sm154413039f.13.2025.05.04.03.21.06
 (version=TLS1_2 cipher=ECDHE-ECDSA-AES128-GCM-SHA256 bits=128/128);
 Sun, 04 May 2025 03:21:06 -0700 (PDT)
X-Relaying-Domain: iol.unh.edu
Date: Sun, 04 May 2025 03:21:06 -0700 (PDT)
Message-ID: <68173f92.050a0220.272bbd.02cdSMTPIN_ADDED_MISSING@mx.google.com>
Received: from [172.21.0.7] (unknown [172.18.0.240])
 by postal.iol.unh.edu (Postfix) with ESMTP id 6884D6052472;
 Sun,  4 May 2025 06:21:06 -0400 (EDT)
Subject: |SUCCESS| pw153229 [PATCH] net/mlx5: fix support for meter flow acti
From: dpdklab@iol.unh.edu
To: Test Report <test-report@dpdk.org>
Cc: dpdk-test-reports@iol.unh.edu
In-Reply-To: <20250504052350.91160-1-getelson@nvidia.com>
References: <20250504052350.91160-1-getelson@nvidia.com>
Content-Type: text/plain
X-BeenThere: test-report@dpdk.org
X-Mailman-Version: 2.1.29
Precedence: list
List-Id: automatic DPDK test reports <test-report.dpdk.org>
List-Unsubscribe: <https://mails.dpdk.org/options/test-report>,
 <mailto:test-report-request@dpdk.org?subject=unsubscribe>
List-Archive: <http://mails.dpdk.org/archives/test-report/>
List-Post: <mailto:test-report@dpdk.org>
List-Help: <mailto:test-report-request@dpdk.org?subject=help>
List-Subscribe: <https://mails.dpdk.org/listinfo/test-report>,
 <mailto:test-report-request@dpdk.org?subject=subscribe>
Errors-To: test-report-bounces@dpdk.org

Test-Label: iol-unit-amd64-testing
Test-Status: SUCCESS
http://dpdk.org/patch/153229

_Testing PASS_

Submitter: Gregory Etelson <getelson@nvidia.com>
Date: Sunday, May 04 2025 05:23:50 
DPDK git baseline: Repo:dpdk
  Branch: master
  CommitID:edd3f4b1265e6da707c46ca9b6c39d332647baea

153229 --> testing pass

Upstream job id: Generic-Unit-Test-DPDK#335079

Test environment and result as below:

+---------------------+----------------+
|     Environment     | dpdk_unit_test |
+=====================+================+
| Fedora 40           | PASS           |
+---------------------+----------------+
| Fedora 40 (Clang)   | PASS           |
+---------------------+----------------+
| CentOS Stream 9     | PASS           |
+---------------------+----------------+
| Fedora 41           | PASS           |
+---------------------+----------------+
| CentOS Stream 10    | PASS           |
+---------------------+----------------+
| Debian 12           | PASS           |
+---------------------+----------------+
| Ubuntu 20.04        | PASS           |
+---------------------+----------------+
| Fedora 41 (Clang)   | PASS           |
+---------------------+----------------+
| RHEL8               | PASS           |
+---------------------+----------------+
| RHEL9               | PASS           |
+---------------------+----------------+
| Ubuntu 24.04        | PASS           |
+---------------------+----------------+
| Ubuntu 22.04        | PASS           |
+---------------------+----------------+
| Windows Server 2022 | PASS           |
+---------------------+----------------+


Fedora 40
	Kernel: Depends on container host
	Compiler: gcc 14.2.1 20240912 (Red Hat 14.2.1-3)

Fedora 40 (Clang)
	Kernel: Depends on container host
	Compiler: clang 18.1.8 (Fedora 18.1.8-1.fc40)

CentOS Stream 9
	Kernel: Depends on container host
	Compiler: gcc 11.5.0 20240719 (Red Hat 11.5.0-2)

Fedora 41
	Kernel: Depends on container host
	Compiler: gcc 14.2.1 20240912 (Red Hat 14.2.1-3)

CentOS Stream 10
	Kernel: Depends on container host
	Compiler: gcc 14.2.1 20241104 (Red Hat 14.2.1-6)

Debian 12
	Kernel: Depends on container host
	Compiler: gcc (Debian 12.2.0-14) 12.2.0

Ubuntu 20.04
	Kernel: Depends on container host
	Compiler: gcc (Ubuntu 9.4.0-1ubuntu1~20.04.2) 9.4.0

Fedora 41 (Clang)
	Kernel: Depends on container host
	Compiler: clang 19.1.5 (Fedora 19.1.5-1.fc41)

RHEL8
	Kernel: Depends on container host
	Compiler: gcc 8.5.0 20210514 (Red Hat 8.5.0-22)

RHEL9
	Kernel: Depends on container host
	Compiler: gcc 11.5.0 20240719 (Red Hat 11.5.0-2)

Ubuntu 24.04
	Kernel: Depends on container host
	Compiler: gcc (Ubuntu 13.3.0-6ubuntu2~24.04) 13.3.0

Ubuntu 22.04
	Kernel: Depends on container host
	Compiler: gcc (Ubuntu 11.4.0-1ubuntu1~22.04) 11.4.0

Windows Server 2022
	Kernel: 10.0.20348.2031
	Compiler: clang 15.0.7, gcc 14.1.0 (MinGW), and MSVC VS 19.39.33521

To view detailed results, visit:
https://lab.dpdk.org/results/dashboard/patchsets/33099/

UNH-IOL DPDK Community Lab

To manage your email subscriptions, visit: 
https://lab.dpdk.org/results/dashboard/preferences/subscriptions/