From mboxrd@z Thu Jan 1 00:00:00 1970 Return-Path: Received: from mails.dpdk.org (mails.dpdk.org [217.70.189.124]) by inbox.dpdk.org (Postfix) with ESMTP id 2CB48466BD for ; Sun, 4 May 2025 12:21:09 +0200 (CEST) Received: from mails.dpdk.org (localhost [127.0.0.1]) by mails.dpdk.org (Postfix) with ESMTP id 0238D4025D; Sun, 4 May 2025 12:21:09 +0200 (CEST) Received: from mail-pl1-f225.google.com (mail-pl1-f225.google.com [209.85.214.225]) by mails.dpdk.org (Postfix) with ESMTP id 786FE40156 for ; Sun, 4 May 2025 12:21:07 +0200 (CEST) Received: by mail-pl1-f225.google.com with SMTP id d9443c01a7336-227914acd20so36014985ad.1 for ; Sun, 04 May 2025 03:21:07 -0700 (PDT) DKIM-Signature: v=1; a=rsa-sha256; c=relaxed/relaxed; d=iol.unh.edu; s=unh-iol; t=1746354066; x=1746958866; darn=dpdk.org; h=references:in-reply-to:cc:to:from:subject:message-id:date:from:to :cc:subject:date:message-id:reply-to; bh=5zlwHud3NKyHJ7F89giG2urTGqoj0RlyDJbdcuwQVZA=; b=OKkJ+WN9AbvM0SGrIsYQLyoW022Pa9hr7FchbQM4Pa8gB56cDZaFI4rmFIqm3a06FI ntiG1XcrGlhvrwgA7zMGTF0MuCdfKUx57/G81eCv2kXYtVSjSCRA62h5ZcI50j097T9w lSaUUgTX3Nzaf6vjkf4rHQ91ogb5kIDiTX7gY= X-Google-DKIM-Signature: v=1; a=rsa-sha256; c=relaxed/relaxed; d=1e100.net; s=20230601; t=1746354066; x=1746958866; h=references:in-reply-to:cc:to:from:subject:message-id:date :x-gm-message-state:from:to:cc:subject:date:message-id:reply-to; bh=5zlwHud3NKyHJ7F89giG2urTGqoj0RlyDJbdcuwQVZA=; b=WmDUR4lgNkw0V5c4D9kSU76N/SJr5uC37EQzb/MSYTfA7+KycTFsEYbTNY9PwFm7Rr AbHKD5ACFvKjrkxe4zKnaCDZ//tDyycOwT2XKLkekeBqNyzEQ1fryWVDNHxzzvYe5+uj nULIqxylXIznKQH/qoJbW832nY/fg5ZRAa6IdqURPlfT/DgW/qhpJSbCWFB3ULToiULC D+psZ3UYWStALkfLG6fWK5I+aWU33h+m3fOnQCgIjtWMS9f6NgevHwCONtMjotB6VZAZ /4A04GunYafx2aOhp5jJH+kJMlLHBDeFqlTFG43wqTHnh+wzRpUEbFhrYm4etuou8oqd PtIg== X-Gm-Message-State: AOJu0Yxtd0pw61PwLJ4z13Vp3XTUOSbDWnIhr6UxpKHcgB/8WvtVXoAM /RplnDYyH66mr7pG7C3BMnY6/tKu+++aZNr2Q2d8Gal64w03AttZXpM0FthjQq7YD/7xyERKhRC KLKra+MPVL4/JuXeVAi3M3GwIUggrvQ6thuRT/xpT X-Gm-Gg: ASbGnctghYt5lztgj+kQudiZqyhkHR2gbMVZ7qrEsYvWY7cxOMUlkQlDncPS1rKj+DO om3OSpSEdDqR1ZhLw+7IAgfr9hkUMFWbj2C7Jn6T29NK0E1Nn4NkpOaNdmpUXzIhgssT2EZO7Da lmbgz7/5gOEQUOStdQf3wPmDJKlIvXcRUiVb61mACO5Ml0kBataJ6PGUQDxFKPuSVh1TbOW+iHA l/v0+q7zOFY4PMxb6q3CV+FIwQo5MbZTWnuL0py96sEhou+uAZghY1eVLu3yzLwQYkLX7dHuGBC qP7vKuw5V63CliKcfOPCNaQkMez4eLD0jj16g2DUIJjmUoUG0M2cipXqxmA= X-Google-Smtp-Source: AGHT+IFstK9JUzInRDAigDymRCt5RL/9Em3homFRV+tgETIEwlG0eqAiXQKRX7iDw5JwzH4IK+cFh695nT2w X-Received: by 2002:a17:903:1acf:b0:221:1356:10c5 with SMTP id d9443c01a7336-22e08429abcmr183580435ad.9.1746354066572; Sun, 04 May 2025 03:21:06 -0700 (PDT) Received: from postal.iol.unh.edu (postal.iol.unh.edu. [132.177.123.84]) by smtp-relay.gmail.com with ESMTPS id d9443c01a7336-22e150eb063sm10843215ad.17.2025.05.04.03.21.06 (version=TLS1_2 cipher=ECDHE-ECDSA-AES128-GCM-SHA256 bits=128/128); Sun, 04 May 2025 03:21:06 -0700 (PDT) X-Relaying-Domain: iol.unh.edu Date: Sun, 04 May 2025 03:21:06 -0700 (PDT) Message-ID: <68173f92.170a0220.191091.b498SMTPIN_ADDED_MISSING@mx.google.com> Received: from [172.21.0.5] (unknown [172.18.0.240]) by postal.iol.unh.edu (Postfix) with ESMTP id 3D90A6052471; Sun, 4 May 2025 06:21:05 -0400 (EDT) Subject: |SUCCESS| pw153229 [PATCH] net/mlx5: fix support for meter flow acti From: dpdklab@iol.unh.edu To: Test Report Cc: dpdk-test-reports@iol.unh.edu In-Reply-To: <20250504052350.91160-1-getelson@nvidia.com> References: <20250504052350.91160-1-getelson@nvidia.com> Content-Type: text/plain X-BeenThere: test-report@dpdk.org X-Mailman-Version: 2.1.29 Precedence: list List-Id: automatic DPDK test reports List-Unsubscribe: , List-Archive: List-Post: List-Help: List-Subscribe: , Errors-To: test-report-bounces@dpdk.org Test-Label: iol-unit-amd64-testing Test-Status: SUCCESS http://dpdk.org/patch/153229 _Testing PASS_ Submitter: Gregory Etelson Date: Sunday, May 04 2025 05:23:50 DPDK git baseline: Repo:dpdk Branch: master CommitID:edd3f4b1265e6da707c46ca9b6c39d332647baea 153229 --> testing pass Upstream job id: Generic-Unit-Test-DPDK#335081 Test environment and result as below: +---------------------+----------------+ | Environment | dpdk_unit_test | +=====================+================+ | Fedora 40 | PASS | +---------------------+----------------+ | Fedora 40 (Clang) | PASS | +---------------------+----------------+ | CentOS Stream 9 | PASS | +---------------------+----------------+ | Fedora 41 | PASS | +---------------------+----------------+ | CentOS Stream 10 | PASS | +---------------------+----------------+ | Debian 12 | PASS | +---------------------+----------------+ | Ubuntu 20.04 | PASS | +---------------------+----------------+ | Fedora 41 (Clang) | PASS | +---------------------+----------------+ | RHEL8 | PASS | +---------------------+----------------+ | RHEL9 | PASS | +---------------------+----------------+ | Ubuntu 24.04 | PASS | +---------------------+----------------+ | Ubuntu 22.04 | PASS | +---------------------+----------------+ | Windows Server 2022 | PASS | +---------------------+----------------+ Fedora 40 Kernel: Depends on container host Compiler: gcc 14.2.1 20240912 (Red Hat 14.2.1-3) Fedora 40 (Clang) Kernel: Depends on container host Compiler: clang 18.1.8 (Fedora 18.1.8-1.fc40) CentOS Stream 9 Kernel: Depends on container host Compiler: gcc 11.5.0 20240719 (Red Hat 11.5.0-2) Fedora 41 Kernel: Depends on container host Compiler: gcc 14.2.1 20240912 (Red Hat 14.2.1-3) CentOS Stream 10 Kernel: Depends on container host Compiler: gcc 14.2.1 20241104 (Red Hat 14.2.1-6) Debian 12 Kernel: Depends on container host Compiler: gcc (Debian 12.2.0-14) 12.2.0 Ubuntu 20.04 Kernel: Depends on container host Compiler: gcc (Ubuntu 9.4.0-1ubuntu1~20.04.2) 9.4.0 Fedora 41 (Clang) Kernel: Depends on container host Compiler: clang 19.1.5 (Fedora 19.1.5-1.fc41) RHEL8 Kernel: Depends on container host Compiler: gcc 8.5.0 20210514 (Red Hat 8.5.0-22) RHEL9 Kernel: Depends on container host Compiler: gcc 11.5.0 20240719 (Red Hat 11.5.0-2) Ubuntu 24.04 Kernel: Depends on container host Compiler: gcc (Ubuntu 13.3.0-6ubuntu2~24.04) 13.3.0 Ubuntu 22.04 Kernel: Depends on container host Compiler: gcc (Ubuntu 11.4.0-1ubuntu1~22.04) 11.4.0 Windows Server 2022 Kernel: 10.0.20348.2031 Compiler: clang 15.0.7, gcc 14.1.0 (MinGW), and MSVC VS 19.39.33521 To view detailed results, visit: https://lab.dpdk.org/results/dashboard/patchsets/33099/ UNH-IOL DPDK Community Lab To manage your email subscriptions, visit: https://lab.dpdk.org/results/dashboard/preferences/subscriptions/