From mboxrd@z Thu Jan 1 00:00:00 1970 Return-Path: Received: from mails.dpdk.org (mails.dpdk.org [217.70.189.124]) by inbox.dpdk.org (Postfix) with ESMTP id 2C978466BD for ; Sun, 4 May 2025 12:21:43 +0200 (CEST) Received: from mails.dpdk.org (localhost [127.0.0.1]) by mails.dpdk.org (Postfix) with ESMTP id 279214025D; Sun, 4 May 2025 12:21:43 +0200 (CEST) Received: from mail-pf1-f225.google.com (mail-pf1-f225.google.com [209.85.210.225]) by mails.dpdk.org (Postfix) with ESMTP id 2054440156 for ; Sun, 4 May 2025 12:21:41 +0200 (CEST) Received: by mail-pf1-f225.google.com with SMTP id d2e1a72fcca58-7390d21bb1cso3594270b3a.2 for ; Sun, 04 May 2025 03:21:41 -0700 (PDT) DKIM-Signature: v=1; a=rsa-sha256; c=relaxed/relaxed; d=iol.unh.edu; s=unh-iol; t=1746354100; x=1746958900; darn=dpdk.org; h=references:in-reply-to:cc:to:from:subject:message-id:date:from:to :cc:subject:date:message-id:reply-to; bh=y6jU+EEznb64alvFBj+O/pSCxn8ryNBYROGf5MaW14I=; b=iY1iwQ5i9eLekZos/oaENZie6N6zg4uhLuID8wNYEIg5pQibSeNl0ZnSrfoSx10Wkq RmoeUqDGQyKVpocgw98GIEFSK+PpddL8UP0pcFwbFDvtgzTGCTRrDXc/VVg1YJSx0jWO 5es4G80TNgt11Yuup/bDnuaeX5OKpG9oJ0FPw= X-Google-DKIM-Signature: v=1; a=rsa-sha256; c=relaxed/relaxed; d=1e100.net; s=20230601; t=1746354100; x=1746958900; h=references:in-reply-to:cc:to:from:subject:message-id:date :x-gm-message-state:from:to:cc:subject:date:message-id:reply-to; bh=y6jU+EEznb64alvFBj+O/pSCxn8ryNBYROGf5MaW14I=; b=KZdDcAnwhMG157UKxHUTeZyQOQf7lTrNlsxnR9FjFlXqptzPPqUz4wGElgn8UBBW/G rMO7PQCwEwvnGQa1g+3f0M2gVqEqIO42wXoTvRtk4wTA4UMLNalp5gQ213snJGnTStG8 ol7DRoiqIWgU8PZ7qVQH+qmpBP+djBsUp/Axi/JwU+v7CK22UgO2L8+QSw6LN4ipn0LH n4YEwXtWWJY3QpC0q5A038UJLuLhaX4vSuaDj9ipTV5lZyY20sEyA8yNW2qd6YlnZV5i YcuCmnc7VqGiHeVMqaLsC41AnsPq7/k9VLFtYn/KizEUwHbH95Ve/oyHV/yvjwBGJ/q3 w2Uw== X-Gm-Message-State: AOJu0Ywrurmmp7QcuLMbJN1uPeksuX0FJgoG9RcdIxQkXVbiYK7n64tx DJIU897qVwxG7QfptdbwuAHpAPMFi4j7QsrX+JJ/XnsvKLQciqnQa6hdDke+Ca7Eaq4zYplWVID 5kX633oaJ6e2Iz9bpJQ2YHnddyXcXtIscbyGsORHBnNQVTE3BeaIyO4RZ X-Gm-Gg: ASbGncvY8GmpzLnYbY+jNEK15kfe4M7yCK0vIzODr0MQKfCPKtwqzCDo4UaNk0rDkxT X/MBU+PS/GYB19+LGlcxtwgw6ip8ew+WHpM9SqEQ8Sj03aVwI7d4qZKD7setFtDljHkZ8ocwThC W+Xx2uJIiP7S1QeG1dPLqSUwxQMbPEdC0IA575R0GaQKZfLqmAem65UAR2jS5nfDcPix8qCJCyK pJ0JJ/wOb3SeZEV0qV+tf+iY/iAK/z2cxiK/FZzzImYfxvQOONs/Z1sv3+hHPz+I5hFusnBjvMa dlJ0Cc50Vy5beAcEJUy3rfQmU5khB3xwjebf X-Google-Smtp-Source: AGHT+IG5f4wCTIVdeyI7OYWbLGtm0XA23JwjJOg4r2XrEAOWDMv5G3J2V1YzlC2E8cluj40uADpTixSyLiaa X-Received: by 2002:aa7:9a8c:0:b0:736:57cb:f2aa with SMTP id d2e1a72fcca58-74058a56837mr13526319b3a.13.1746354100315; Sun, 04 May 2025 03:21:40 -0700 (PDT) Received: from postal.iol.unh.edu (postal.iol.unh.edu. [2606:4100:3880:1234::84]) by smtp-relay.gmail.com with ESMTPS id d2e1a72fcca58-74058dbb92esm1349590b3a.6.2025.05.04.03.21.40 (version=TLS1_2 cipher=ECDHE-ECDSA-AES128-GCM-SHA256 bits=128/128); Sun, 04 May 2025 03:21:40 -0700 (PDT) X-Relaying-Domain: iol.unh.edu Date: Sun, 04 May 2025 03:21:40 -0700 (PDT) Message-ID: <68173fb4.050a0220.81b6.dafbSMTPIN_ADDED_MISSING@mx.google.com> Received: from [172.21.0.6] (unknown [172.18.0.240]) by postal.iol.unh.edu (Postfix) with ESMTP id 744576052471; Sun, 4 May 2025 06:21:39 -0400 (EDT) Subject: |SUCCESS| pw153228 [PATCH] net/ice: update log message From: dpdklab@iol.unh.edu To: Test Report Cc: dpdk-test-reports@iol.unh.edu In-Reply-To: <20250502152601.699443-1-dhanya.r.pillai@intel.com> References: <20250502152601.699443-1-dhanya.r.pillai@intel.com> Content-Type: text/plain X-BeenThere: test-report@dpdk.org X-Mailman-Version: 2.1.29 Precedence: list List-Id: automatic DPDK test reports List-Unsubscribe: , List-Archive: List-Post: List-Help: List-Subscribe: , Errors-To: test-report-bounces@dpdk.org Test-Label: iol-unit-arm64-testing Test-Status: SUCCESS http://dpdk.org/patch/153228 _Testing PASS_ Submitter: Pillai, Dhanya R Date: Friday, May 02 2025 15:25:59 DPDK git baseline: Repo:dpdk Branch: master CommitID:2665bfb9838fec7ea6c3b2be5831f93ee087b288 153228 --> testing pass Upstream job id: Generic-Unit-Test-DPDK#335083 Test environment and result as below: +-----------------------------+--------------+------------------------------+---------------------------+----------------+ | Environment | lpm_autotest | cryptodev_sw_snow3g_autotest | cryptodev_sw_zuc_autotest | dpdk_unit_test | +=============================+==============+==============================+===========================+================+ | Ubuntu 20.04 ARM SVE | PASS | SKIPPED | SKIPPED | SKIPPED | +-----------------------------+--------------+------------------------------+---------------------------+----------------+ | Debian 12 (arm) | SKIPPED | PASS | PASS | PASS | +-----------------------------+--------------+------------------------------+---------------------------+----------------+ | CentOS Stream 9 (ARM) | SKIPPED | SKIPPED | SKIPPED | PASS | +-----------------------------+--------------+------------------------------+---------------------------+----------------+ | Ubuntu 24.04 (ARM) | SKIPPED | SKIPPED | SKIPPED | PASS | +-----------------------------+--------------+------------------------------+---------------------------+----------------+ | CentOS Stream 10 (ARM) | SKIPPED | SKIPPED | SKIPPED | PASS | +-----------------------------+--------------+------------------------------+---------------------------+----------------+ | Fedora 40 (ARM) | SKIPPED | SKIPPED | SKIPPED | PASS | +-----------------------------+--------------+------------------------------+---------------------------+----------------+ | RHEL9 (ARM) | SKIPPED | SKIPPED | SKIPPED | PASS | +-----------------------------+--------------+------------------------------+---------------------------+----------------+ | Ubuntu 22.04 (ARM) | SKIPPED | SKIPPED | SKIPPED | PASS | +-----------------------------+--------------+------------------------------+---------------------------+----------------+ | Ubuntu 20.04 (ARM) | SKIPPED | SKIPPED | SKIPPED | PASS | +-----------------------------+--------------+------------------------------+---------------------------+----------------+ | Fedora 40 (ARM Clang) | SKIPPED | SKIPPED | SKIPPED | PASS | +-----------------------------+--------------+------------------------------+---------------------------+----------------+ | Fedora 41 (ARM) | SKIPPED | SKIPPED | SKIPPED | PASS | +-----------------------------+--------------+------------------------------+---------------------------+----------------+ | Fedora 41 (ARM Clang) | SKIPPED | SKIPPED | SKIPPED | PASS | +-----------------------------+--------------+------------------------------+---------------------------+----------------+ | 32-bit Ubuntu 22.04.4 (ARM) | SKIPPED | SKIPPED | SKIPPED | PASS | +-----------------------------+--------------+------------------------------+---------------------------+----------------+ Ubuntu 20.04 ARM SVE Kernel: Depends on container host Compiler: gcc (Ubuntu 10.5.0-1ubuntu1~20.04) 10.5.0 Debian 12 (arm) Kernel: Depends on container host Compiler: gcc (Debian 12.2.0-14) 12.2.0 CentOS Stream 9 (ARM) Kernel: Depends on container host Compiler: gcc 11.5.0 20240719 (Red Hat 11.5.0-2) Ubuntu 24.04 (ARM) Kernel: Depends on container host Compiler: gcc (Ubuntu 13.3.0-6ubuntu2~24.04) 13.3.0 CentOS Stream 10 (ARM) Kernel: Depends on container host Compiler: gcc 14.2.1 20241104 (Red Hat 14.2.1-6) Fedora 40 (ARM) Kernel: Depends on container host Compiler: gcc 14.2.1 20240912 (Red Hat 14.2.1-3) RHEL9 (ARM) Kernel: Depends on container host Compiler: gcc 11.5.0 20240719 (Red Hat 11.5.0-2) Ubuntu 22.04 (ARM) Kernel: Depends on container host Compiler: gcc (Ubuntu 11.4.0-1ubuntu1~22.04) 11.4.0 Ubuntu 20.04 (ARM) Kernel: Depends on container host Compiler: gcc (Ubuntu 9.4.0-1ubuntu1~20.04.2) 9.4.0 Fedora 40 (ARM Clang) Kernel: Depends on container host Compiler: clang 18.1.8 (Fedora 18.1.8-1.fc40) Fedora 41 (ARM) Kernel: Depends on container host Compiler: gcc 14.2.1 20240912 (Red Hat 14.2.1-3) Fedora 41 (ARM Clang) Kernel: Depends on container host Compiler: clang 19.1.5 (Fedora 19.1.5-1.fc41) 32-bit Ubuntu 22.04.4 (ARM) Kernel: 5.15.83+ aarch64 Compiler: gcc (Ubuntu 11.4.0-1ubuntu1~22.04) 11.4.0 To view detailed results, visit: https://lab.dpdk.org/results/dashboard/patchsets/33098/ UNH-IOL DPDK Community Lab To manage your email subscriptions, visit: https://lab.dpdk.org/results/dashboard/preferences/subscriptions/