From mboxrd@z Thu Jan 1 00:00:00 1970 Return-Path: Received: from mails.dpdk.org (mails.dpdk.org [217.70.189.124]) by inbox.dpdk.org (Postfix) with ESMTP id 173BB466B3 for ; Sun, 4 May 2025 13:12:25 +0200 (CEST) Received: from mails.dpdk.org (localhost [127.0.0.1]) by mails.dpdk.org (Postfix) with ESMTP id EC4E34025D; Sun, 4 May 2025 13:12:24 +0200 (CEST) Received: from mail-yw1-f226.google.com (mail-yw1-f226.google.com [209.85.128.226]) by mails.dpdk.org (Postfix) with ESMTP id 3D26E40156 for ; Sun, 4 May 2025 13:12:23 +0200 (CEST) Received: by mail-yw1-f226.google.com with SMTP id 00721157ae682-6fda22908d9so25093927b3.1 for ; Sun, 04 May 2025 04:12:23 -0700 (PDT) DKIM-Signature: v=1; a=rsa-sha256; c=relaxed/relaxed; d=iol.unh.edu; s=unh-iol; t=1746357142; x=1746961942; darn=dpdk.org; h=references:in-reply-to:cc:to:from:subject:message-id:date:from:to :cc:subject:date:message-id:reply-to; bh=u8pGeOQ0bcTm2jy7rdMe+/GJCj2jAmakW4qQcANa5fs=; b=eStwl8MdX+JG+0BL8k7Po1Jkqn/dBFUkDAUpmydh6zvL0wp5k+vI5ZS15mf/2FaYk/ r8OzolZqDHvZrT9zCLeqgnwiLRCF5SZ57Ys7+aD0ByCjqSB17xha109kC4N0nk6lmKQk +VYWmA/U9F1wyfGLPC37wtadb8Tf6UhSwuC7A= X-Google-DKIM-Signature: v=1; a=rsa-sha256; c=relaxed/relaxed; d=1e100.net; s=20230601; t=1746357142; x=1746961942; h=references:in-reply-to:cc:to:from:subject:message-id:date :x-gm-message-state:from:to:cc:subject:date:message-id:reply-to; bh=u8pGeOQ0bcTm2jy7rdMe+/GJCj2jAmakW4qQcANa5fs=; b=WF/2b3VZuo64LTE9lDgEidWA21P2YbAuOuUdyydVoilaNd5BHTLverPFemQ0CnIGKy 36Ac6LyPDJ5MnZ427mmVu8/0LMXoKn2dzXZNVtzRNdm/LVwcIQspXFMXFoMhOFEhkcVH rIsIkb8q5FwivCMZKlqUA9Wr7w0PYlIt6BZS+zA/M/vjr28ccv24Lx8WO5zF693tE295 fnSm6KHlnMN/CS6le6TIC67PSz3lko7o5reIFCEM1UNrLbLDqav6r2c2Oxpijr71cFEu b2jGYa48EXtQUmFwh02j6QaorNPV6ocdlqtMTp7XMh8H9ST8N9ImwVfX8qaNzqvkT5uz cf7g== X-Gm-Message-State: AOJu0Yy5iJ8I1WKFwf0SMfp/1UJpYqvcZ1T2ZjZCAcNcFxT/ADSiYhdd vwFn/eMxyomfHsy2QDSbzxE47fBtneNyxgqwhjjsG2bebnawJSabAw/QEGMC0PoTCyBxY1hvIxj QabwhwTBGhjR8BLuNVv+1grhZLTwjv34rWdHzBHNy X-Gm-Gg: ASbGncuqKvYlJukP/30SaVGRLb6QfmMaP86oFE869oqOT99PnzipcF6KAkTw7EieDKB cQUUNarEveJOO53bmv/asLlWERifjZkIAmZfgGMjJPvSv6CQ5qEXEB7pPE0k1xzhagikEoSCh4L qAYvr3xwaMENrwMOtCHgUa37XScqwbBnuKsGDR8tJzk2ss9TD/vw42FzNc/4i6GVYM/jxkoXvvM UYVIL9IzLSxCCWgNSo0UfDxgIEU+tjNp5AhYJITh8u3EfNlJM43gcGGBkeG5AFvIUN31ZyUx26C pXcF0xzIhVlanqt4sDXma8PixC2kd3AXnC96CPLuI5lKtg2FpzZGDTglKno= X-Google-Smtp-Source: AGHT+IHvZFZKIz1vuX1642gDtVheYf3zc+H34paZYWaQJAzDT/Xjfl5toZ4srJHwsT8qyMeP7AkHivMqFGm2 X-Received: by 2002:a05:690c:d1c:b0:6fe:aa66:5d75 with SMTP id 00721157ae682-708eaee5222mr49210947b3.10.1746357142542; Sun, 04 May 2025 04:12:22 -0700 (PDT) Received: from postal.iol.unh.edu (postal.iol.unh.edu. [132.177.123.84]) by smtp-relay.gmail.com with ESMTPS id 00721157ae682-708c46b9074sm14181757b3.56.2025.05.04.04.12.22 (version=TLS1_2 cipher=ECDHE-ECDSA-AES128-GCM-SHA256 bits=128/128); Sun, 04 May 2025 04:12:22 -0700 (PDT) X-Relaying-Domain: iol.unh.edu Date: Sun, 04 May 2025 04:12:22 -0700 (PDT) Message-ID: <68174b96.050a0220.df940.da9fSMTPIN_ADDED_MISSING@mx.google.com> Received: from [172.21.0.5] (unknown [172.18.0.240]) by postal.iol.unh.edu (Postfix) with ESMTP id 238F66052471; Sun, 4 May 2025 07:12:22 -0400 (EDT) Subject: |SUCCESS| pw153228 [PATCH] net/ice: update log message From: dpdklab@iol.unh.edu To: Test Report Cc: dpdk-test-reports@iol.unh.edu In-Reply-To: <20250502152601.699443-1-dhanya.r.pillai@intel.com> References: <20250502152601.699443-1-dhanya.r.pillai@intel.com> Content-Type: text/plain X-BeenThere: test-report@dpdk.org X-Mailman-Version: 2.1.29 Precedence: list List-Id: automatic DPDK test reports List-Unsubscribe: , List-Archive: List-Post: List-Help: List-Subscribe: , Errors-To: test-report-bounces@dpdk.org Test-Label: iol-unit-arm64-testing Test-Status: SUCCESS http://dpdk.org/patch/153228 _Testing PASS_ Submitter: Pillai, Dhanya R Date: Friday, May 02 2025 15:25:59 DPDK git baseline: Repo:dpdk Branch: master CommitID:2665bfb9838fec7ea6c3b2be5831f93ee087b288 153228 --> testing pass Upstream job id: Generic-Unit-Test-DPDK#335109 Test environment and result as below: +-----------------------------+------------------------------+----------------+--------------+---------------------------+ | Environment | cryptodev_sw_snow3g_autotest | dpdk_unit_test | lpm_autotest | cryptodev_sw_zuc_autotest | +=============================+==============================+================+==============+===========================+ | Debian 12 (arm) | PASS | PASS | SKIPPED | PASS | +-----------------------------+------------------------------+----------------+--------------+---------------------------+ | CentOS Stream 10 (ARM) | SKIPPED | PASS | SKIPPED | SKIPPED | +-----------------------------+------------------------------+----------------+--------------+---------------------------+ | CentOS Stream 9 (ARM) | SKIPPED | PASS | SKIPPED | SKIPPED | +-----------------------------+------------------------------+----------------+--------------+---------------------------+ | Fedora 40 (ARM) | SKIPPED | PASS | SKIPPED | SKIPPED | +-----------------------------+------------------------------+----------------+--------------+---------------------------+ | Fedora 40 (ARM Clang) | SKIPPED | PASS | SKIPPED | SKIPPED | +-----------------------------+------------------------------+----------------+--------------+---------------------------+ | Ubuntu 22.04 (ARM) | SKIPPED | PASS | SKIPPED | SKIPPED | +-----------------------------+------------------------------+----------------+--------------+---------------------------+ | Fedora 41 (ARM) | SKIPPED | PASS | SKIPPED | SKIPPED | +-----------------------------+------------------------------+----------------+--------------+---------------------------+ | Fedora 41 (ARM Clang) | SKIPPED | PASS | SKIPPED | SKIPPED | +-----------------------------+------------------------------+----------------+--------------+---------------------------+ | Ubuntu 20.04 (ARM) | SKIPPED | PASS | SKIPPED | SKIPPED | +-----------------------------+------------------------------+----------------+--------------+---------------------------+ | RHEL9 (ARM) | SKIPPED | PASS | SKIPPED | SKIPPED | +-----------------------------+------------------------------+----------------+--------------+---------------------------+ | Ubuntu 24.04 (ARM) | SKIPPED | PASS | SKIPPED | SKIPPED | +-----------------------------+------------------------------+----------------+--------------+---------------------------+ | 32-bit Ubuntu 22.04.4 (ARM) | SKIPPED | PASS | SKIPPED | SKIPPED | +-----------------------------+------------------------------+----------------+--------------+---------------------------+ | Ubuntu 20.04 ARM SVE | SKIPPED | SKIPPED | PASS | SKIPPED | +-----------------------------+------------------------------+----------------+--------------+---------------------------+ Debian 12 (arm) Kernel: Depends on container host Compiler: gcc (Debian 12.2.0-14) 12.2.0 CentOS Stream 10 (ARM) Kernel: Depends on container host Compiler: gcc 14.2.1 20241104 (Red Hat 14.2.1-6) CentOS Stream 9 (ARM) Kernel: Depends on container host Compiler: gcc 11.5.0 20240719 (Red Hat 11.5.0-2) Fedora 40 (ARM) Kernel: Depends on container host Compiler: gcc 14.2.1 20240912 (Red Hat 14.2.1-3) Fedora 40 (ARM Clang) Kernel: Depends on container host Compiler: clang 18.1.8 (Fedora 18.1.8-1.fc40) Ubuntu 22.04 (ARM) Kernel: Depends on container host Compiler: gcc (Ubuntu 11.4.0-1ubuntu1~22.04) 11.4.0 Fedora 41 (ARM) Kernel: Depends on container host Compiler: gcc 14.2.1 20240912 (Red Hat 14.2.1-3) Fedora 41 (ARM Clang) Kernel: Depends on container host Compiler: clang 19.1.5 (Fedora 19.1.5-1.fc41) Ubuntu 20.04 (ARM) Kernel: Depends on container host Compiler: gcc (Ubuntu 9.4.0-1ubuntu1~20.04.2) 9.4.0 RHEL9 (ARM) Kernel: Depends on container host Compiler: gcc 11.5.0 20240719 (Red Hat 11.5.0-2) Ubuntu 24.04 (ARM) Kernel: Depends on container host Compiler: gcc (Ubuntu 13.3.0-6ubuntu2~24.04) 13.3.0 32-bit Ubuntu 22.04.4 (ARM) Kernel: 5.15.83+ aarch64 Compiler: gcc (Ubuntu 11.4.0-1ubuntu1~22.04) 11.4.0 Ubuntu 20.04 ARM SVE Kernel: Depends on container host Compiler: gcc (Ubuntu 10.5.0-1ubuntu1~20.04) 10.5.0 To view detailed results, visit: https://lab.dpdk.org/results/dashboard/patchsets/33098/ UNH-IOL DPDK Community Lab To manage your email subscriptions, visit: https://lab.dpdk.org/results/dashboard/preferences/subscriptions/