From mboxrd@z Thu Jan 1 00:00:00 1970 Return-Path: Received: from mails.dpdk.org (mails.dpdk.org [217.70.189.124]) by inbox.dpdk.org (Postfix) with ESMTP id 7E4C4466BD for ; Sun, 4 May 2025 13:16:15 +0200 (CEST) Received: from mails.dpdk.org (localhost [127.0.0.1]) by mails.dpdk.org (Postfix) with ESMTP id 4771E4025D; Sun, 4 May 2025 13:16:15 +0200 (CEST) Received: from mail-vk1-f225.google.com (mail-vk1-f225.google.com [209.85.221.225]) by mails.dpdk.org (Postfix) with ESMTP id 6ECCD40156 for ; Sun, 4 May 2025 13:16:14 +0200 (CEST) Received: by mail-vk1-f225.google.com with SMTP id 71dfb90a1353d-5259331b31eso1016357e0c.0 for ; Sun, 04 May 2025 04:16:14 -0700 (PDT) DKIM-Signature: v=1; a=rsa-sha256; c=relaxed/relaxed; d=iol.unh.edu; s=unh-iol; t=1746357374; x=1746962174; darn=dpdk.org; h=references:in-reply-to:cc:to:from:subject:message-id:date:from:to :cc:subject:date:message-id:reply-to; bh=U8aoGlMagioQOIGO1umYXC+qCEzg6eTZ6UCJkLaM4co=; b=O9tUuZTUoTsI5P/pYrikuhBkWEHunN7s7/rP2XRFXdL91+YUFRuZdlQo9/zpw3DyhM MpJsM8GxgbVOzGEj6OI/jqW1lQbpGmxonuX9i98kXWgdVMxG7l68Hzdd3GHrpwpaQq6V lqxHult2wfPGPvWLM6srF9cs5zFVXYSD6Bcmk= X-Google-DKIM-Signature: v=1; a=rsa-sha256; c=relaxed/relaxed; d=1e100.net; s=20230601; t=1746357374; x=1746962174; h=references:in-reply-to:cc:to:from:subject:message-id:date :x-gm-message-state:from:to:cc:subject:date:message-id:reply-to; bh=U8aoGlMagioQOIGO1umYXC+qCEzg6eTZ6UCJkLaM4co=; b=gmSJi6rWbpkeCddxgARaDhK1G5/pXiLm0WY5IEhxLRmLzUkJWkJwO7NgQl0A6WE+hl RKbhrsJedMtm6jsDc30/NoUjJ9bbuXlJU41ImYCpgSMCalOFLIqYmR/Xwt1qYf9/8US/ GoEADAWa745LclVbtrUy6ICSR0Cc5WMZ8dVxI3x8CwE8NEHV88ZmEitAkkSaELzSXfr2 g3U6DiM6eHbEclL4IaoHM0vmqYHoB5Fe58/Dgg8IzErKV3vYPkDtNCrRJ+SsXABP4vMQ VZnbPT1WKXma+5pLKKmt4aJ0W+M0+jreGw/EjWuLHbZhGsLqYyjCQPN9VCOakEfClYaZ ur/A== X-Gm-Message-State: AOJu0Yw9KNbRNMB2FUPb1dn+zimhgbNV70cj574/CHEzI3ZaFd5ox7Iq z9vKG0d6RrhISJjrlos7f7VsTr5wf40kkiGY3S+06/oujN39uQLYG7XI67FTSfne62ZU9UsdDM7 MYDXjpF4PRqUGpuKhK2CUkvORM6uj0Up+p4Y3C4TZr/0QS9+Tgm1VCBoy X-Gm-Gg: ASbGncvvyLtLWUx9MTeJbjL9UOyfWxp1992SBWPpkFy4wlYGmIlMqOtNr7tNktu9alL go+xHh4i0oCwICc5FvoIUJ9Kys8Q/J27JPU/Pi1LGoStX/Wgf5uxlHqLLPJ2H2L8Gc/NcSuHfbf NMZrGuytGddpBDTzpBMgWrflFKSnFlM02tGtO0F/pikBJaBvcNhoorUD8Leu/50EYXZ7satP3xD rwZKPfqM25WwkrM1766i1qtdtMz8R26sFiJU3AD4I7u7ng12amzddCq22Xx0l+ZtRN+PiCDJDgJ +LRwXr+7q4Ov1U2hJtcpPnDWoUdwyTcqHHHi X-Google-Smtp-Source: AGHT+IFW9Wq+PSc7CGbuthK/xf0SqPixDdNy2XkpluCa1WKIJ48rDTL+OQH9OPXmMCwpb7FoZrQTfP1Ira22 X-Received: by 2002:a05:6122:3188:b0:525:bf40:e628 with SMTP id 71dfb90a1353d-52b0696d85fmr1360845e0c.6.1746357373739; Sun, 04 May 2025 04:16:13 -0700 (PDT) Received: from postal.iol.unh.edu (postal.iol.unh.edu. [2606:4100:3880:1234::84]) by smtp-relay.gmail.com with ESMTPS id 71dfb90a1353d-52ae4026422sm1535719e0c.4.2025.05.04.04.16.13 (version=TLS1_2 cipher=ECDHE-ECDSA-AES128-GCM-SHA256 bits=128/128); Sun, 04 May 2025 04:16:13 -0700 (PDT) X-Relaying-Domain: iol.unh.edu Date: Sun, 04 May 2025 04:16:13 -0700 (PDT) Message-ID: <68174c7d.050a0220.3910b7.f28cSMTPIN_ADDED_MISSING@mx.google.com> Received: from [172.21.0.5] (unknown [172.18.0.240]) by postal.iol.unh.edu (Postfix) with ESMTP id 60BB66052471; Sun, 4 May 2025 07:16:13 -0400 (EDT) Subject: |SUCCESS| pw153228 [PATCH] net/ice: update log message From: dpdklab@iol.unh.edu To: Test Report Cc: dpdk-test-reports@iol.unh.edu In-Reply-To: <20250502152601.699443-1-dhanya.r.pillai@intel.com> References: <20250502152601.699443-1-dhanya.r.pillai@intel.com> Content-Type: text/plain X-BeenThere: test-report@dpdk.org X-Mailman-Version: 2.1.29 Precedence: list List-Id: automatic DPDK test reports List-Unsubscribe: , List-Archive: List-Post: List-Help: List-Subscribe: , Errors-To: test-report-bounces@dpdk.org Test-Label: iol-unit-amd64-testing Test-Status: SUCCESS http://dpdk.org/patch/153228 _Testing PASS_ Submitter: Pillai, Dhanya R Date: Friday, May 02 2025 15:25:59 DPDK git baseline: Repo:dpdk Branch: master CommitID:2665bfb9838fec7ea6c3b2be5831f93ee087b288 153228 --> testing pass Upstream job id: Generic-Unit-Test-DPDK#335098 Test environment and result as below: +---------------------+----------------+ | Environment | dpdk_unit_test | +=====================+================+ | CentOS Stream 9 | PASS | +---------------------+----------------+ | Fedora 40 (Clang) | PASS | +---------------------+----------------+ | CentOS Stream 10 | PASS | +---------------------+----------------+ | Fedora 40 | PASS | +---------------------+----------------+ | RHEL9 | PASS | +---------------------+----------------+ | Ubuntu 20.04 | PASS | +---------------------+----------------+ | Ubuntu 24.04 | PASS | +---------------------+----------------+ | Fedora 41 | PASS | +---------------------+----------------+ | Fedora 41 (Clang) | PASS | +---------------------+----------------+ | Ubuntu 22.04 | PASS | +---------------------+----------------+ | Debian 12 | PASS | +---------------------+----------------+ | RHEL8 | PASS | +---------------------+----------------+ | Windows Server 2022 | PASS | +---------------------+----------------+ CentOS Stream 9 Kernel: Depends on container host Compiler: gcc 11.5.0 20240719 (Red Hat 11.5.0-2) Fedora 40 (Clang) Kernel: Depends on container host Compiler: clang 18.1.8 (Fedora 18.1.8-1.fc40) CentOS Stream 10 Kernel: Depends on container host Compiler: gcc 14.2.1 20241104 (Red Hat 14.2.1-6) Fedora 40 Kernel: Depends on container host Compiler: gcc 14.2.1 20240912 (Red Hat 14.2.1-3) RHEL9 Kernel: Depends on container host Compiler: gcc 11.5.0 20240719 (Red Hat 11.5.0-2) Ubuntu 20.04 Kernel: Depends on container host Compiler: gcc (Ubuntu 9.4.0-1ubuntu1~20.04.2) 9.4.0 Ubuntu 24.04 Kernel: Depends on container host Compiler: gcc (Ubuntu 13.3.0-6ubuntu2~24.04) 13.3.0 Fedora 41 Kernel: Depends on container host Compiler: gcc 14.2.1 20240912 (Red Hat 14.2.1-3) Fedora 41 (Clang) Kernel: Depends on container host Compiler: clang 19.1.5 (Fedora 19.1.5-1.fc41) Ubuntu 22.04 Kernel: Depends on container host Compiler: gcc (Ubuntu 11.4.0-1ubuntu1~22.04) 11.4.0 Debian 12 Kernel: Depends on container host Compiler: gcc (Debian 12.2.0-14) 12.2.0 RHEL8 Kernel: Depends on container host Compiler: gcc 8.5.0 20210514 (Red Hat 8.5.0-22) Windows Server 2022 Kernel: 10.0.20348.2031 Compiler: clang 15.0.7, gcc 14.1.0 (MinGW), and MSVC VS 19.39.33521 To view detailed results, visit: https://lab.dpdk.org/results/dashboard/patchsets/33098/ UNH-IOL DPDK Community Lab To manage your email subscriptions, visit: https://lab.dpdk.org/results/dashboard/preferences/subscriptions/