From mboxrd@z Thu Jan 1 00:00:00 1970 Return-Path: Received: from mails.dpdk.org (mails.dpdk.org [217.70.189.124]) by inbox.dpdk.org (Postfix) with ESMTP id 8ADEF466BD for ; Sun, 4 May 2025 13:43:15 +0200 (CEST) Received: from mails.dpdk.org (localhost [127.0.0.1]) by mails.dpdk.org (Postfix) with ESMTP id 682C34025D; Sun, 4 May 2025 13:43:15 +0200 (CEST) Received: from mail-yw1-f225.google.com (mail-yw1-f225.google.com [209.85.128.225]) by mails.dpdk.org (Postfix) with ESMTP id 0468240156 for ; Sun, 4 May 2025 13:43:14 +0200 (CEST) Received: by mail-yw1-f225.google.com with SMTP id 00721157ae682-70811611315so28331027b3.1 for ; Sun, 04 May 2025 04:43:14 -0700 (PDT) DKIM-Signature: v=1; a=rsa-sha256; c=relaxed/relaxed; d=iol.unh.edu; s=unh-iol; t=1746358994; x=1746963794; darn=dpdk.org; h=cc:to:from:subject:message-id:date:from:to:cc:subject:date :message-id:reply-to; bh=f7e4jI6rgSjRn2WCGVHThSsq+7s1FHb9HBIe1gumkvM=; b=SEtb1HUfynVapTXgwPwBCzatH9CYk2T3Z0ehv9bNVLeqaGVvxOwCa8N7WIUcxL2yRR riGhfo+OegOSjd1tfd5PW0o9c/dNdCQlGlkZvoJ8Lmz48uiYoAv4FyMoxPzpVIGimS1d CxydLFDgrEbgcWqT12kU+Wf76he7iFojFXOdU= X-Google-DKIM-Signature: v=1; a=rsa-sha256; c=relaxed/relaxed; d=1e100.net; s=20230601; t=1746358994; x=1746963794; h=cc:to:from:subject:message-id:date:x-gm-message-state:from:to:cc :subject:date:message-id:reply-to; bh=f7e4jI6rgSjRn2WCGVHThSsq+7s1FHb9HBIe1gumkvM=; b=Y+23eupHP1WDeXOrCFpalYnKngvpuqZdmn3EPIX/ZzS6GcGG8qnxuc97nB1XcY/Dwe ZsdiiacyOznkJW2GJNhxvNqv3uCyLoWpem06mYadB0gcoDwRIVhWxib4kjuEphwRd0LX D+Aa50sl27Mw1zKLwoDHjrjyY4EyzbKCyjjIU8p/IzgEdpA7oUoBdaYn7/tS/Br41OFS GnP2zT8UOa361Q9JIcbR6y+4hR5IIpgWv2GyzZdMTGqm+e79/y9vLpf5YYYsqzGqLKQG Az2ddYDgZxooAaP9OIK739qwStLpRXuIKRsSW08bDZjRc6Ktjan13N2bemeSLRq4l2sM ojQQ== X-Gm-Message-State: AOJu0YwCrtjT0VnPX6Zh2X1P5UAjmy2aL7I2dxS/dhFqCzHyZ+kPvBT8 QuLIXLzoy9xHEqedfuPxuPnRpljGGdjN3gurfs1pItUDVioplUU7L2l7Ir3sWYBL/FDLK73vF1P +GhtYNEaAkCA/PCVIYWORt98nlXnm6gw34tcLWw8nCNh2XZZx X-Gm-Gg: ASbGncs+A8lKvoVsmt6NhH9rrgIe9wf3fQiH3aZqNVN9bzKn/ls3V6Lw74/pggYjf/g shjyY9H4jFK2GDM3Flur45ltpbkuWkus4lSNPIrdXtxZp3kB+fvHTyVTuJZOWFED7kRfn2AAY6Z dbl36NQggsx2ylVCKsB/E+j/58Qy+hwiBKxWXwU2020B3PIGD1fJF0cV6ecFbHl/ohGENrKV6qP +IrXntXc4PZ33J0og3ZB9o3YBULCdMusQPlUWhAeVbUbNOgmUWr8OdF+r9Rx2JECgYNp9Sf6tNw D+KqIviXa5P7qgkxvwjgjR0c4aM2ZrJGABQK X-Google-Smtp-Source: AGHT+IFs+nO4H8C4uktjC9LmW64IRNZZeEF3ntcZFsXJMdZNCQC/YRKeqrckYYPXIX9HVy+UDalercGeDbio X-Received: by 2002:a05:690c:314:b0:6ff:1fac:c4ef with SMTP id 00721157ae682-708eaf6af21mr44648477b3.23.1746358994340; Sun, 04 May 2025 04:43:14 -0700 (PDT) Received: from postal.iol.unh.edu (postal.iol.unh.edu. [2606:4100:3880:1234::84]) by smtp-relay.gmail.com with ESMTPS id 00721157ae682-708c46ff752sm14811707b3.69.2025.05.04.04.43.14 (version=TLS1_2 cipher=ECDHE-ECDSA-AES128-GCM-SHA256 bits=128/128); Sun, 04 May 2025 04:43:14 -0700 (PDT) X-Relaying-Domain: iol.unh.edu Date: Sun, 04 May 2025 04:43:14 -0700 (PDT) Message-ID: <681752d2.050a0220.357341.ead7SMTPIN_ADDED_MISSING@mx.google.com> Received: from [172.21.0.5] (unknown [172.18.0.240]) by postal.iol.unh.edu (Postfix) with ESMTP id F179C6052471; Sun, 4 May 2025 07:43:13 -0400 (EDT) Subject: |SUCCESS| [GIT MASTER] 4401486b5e30d43a134f80f9802f60b5f43e74a8 From: dpdklab@iol.unh.edu To: Test Report Cc: dpdk-test-reports@iol.unh.edu, Xueming Li , Christian Ehrhardt , Kevin Traynor , Luca Boccassi Content-Type: text/plain X-BeenThere: test-report@dpdk.org X-Mailman-Version: 2.1.29 Precedence: list List-Id: automatic DPDK test reports List-Unsubscribe: , List-Archive: List-Post: List-Help: List-Subscribe: , Errors-To: test-report-bounces@dpdk.org _Testing PASS_ Branch: tags/v22.11 4401486b5e30d43a134f80f9802f60b5f43e74a8 --> testing pass Upstream job id: ACVP-FIPS-testing#9700 Test environment and result as below: +--------------------+----------------------+----------------------+ | Environment | compressdev_zlib_pmd | dpdk_fips_validation | +====================+======================+======================+ | Ubuntu 22.04 (ARM) | PASS | SKIPPED | +--------------------+----------------------+----------------------+ | Ubuntu 22.04 | PASS | SKIPPED | +--------------------+----------------------+----------------------+ | Ubuntu 20.04 | SKIPPED | PASS | +--------------------+----------------------+----------------------+ Ubuntu 22.04 (ARM) Kernel: 5.15.0-97-generic Compiler: gcc gcc (Ubuntu 11.4.0-1ubuntu1~22.04) 11.4.0 Ubuntu 22.04 Kernel: 5.15.0-100-generic Compiler: gcc gcc (Ubuntu 11.4.0-1ubuntu1~22.04) 11.4.0 Ubuntu 20.04 Kernel: Depends on container host Compiler: gcc (Ubuntu 9.4.0-1ubuntu1~20.04.2) 9.4.0 To view detailed results, visit: https://lab.dpdk.org/results/dashboard/tarballs/33421/ UNH-IOL DPDK Community Lab To manage your email subscriptions, visit: https://lab.dpdk.org/results/dashboard/preferences/subscriptions/