From mboxrd@z Thu Jan 1 00:00:00 1970 Return-Path: Received: from mails.dpdk.org (mails.dpdk.org [217.70.189.124]) by inbox.dpdk.org (Postfix) with ESMTP id 31459466BD for ; Sun, 4 May 2025 13:50:13 +0200 (CEST) Received: from mails.dpdk.org (localhost [127.0.0.1]) by mails.dpdk.org (Postfix) with ESMTP id 05F964025D; Sun, 4 May 2025 13:50:13 +0200 (CEST) Received: from mail-io1-f100.google.com (mail-io1-f100.google.com [209.85.166.100]) by mails.dpdk.org (Postfix) with ESMTP id AFF1440156 for ; Sun, 4 May 2025 13:50:11 +0200 (CEST) Received: by mail-io1-f100.google.com with SMTP id ca18e2360f4ac-85e751cffbeso321095739f.0 for ; Sun, 04 May 2025 04:50:11 -0700 (PDT) DKIM-Signature: v=1; a=rsa-sha256; c=relaxed/relaxed; d=iol.unh.edu; s=unh-iol; t=1746359411; x=1746964211; darn=dpdk.org; h=references:in-reply-to:cc:to:from:subject:message-id:date:from:to :cc:subject:date:message-id:reply-to; bh=2aCOnqCMcNKE2vbrYFNBjrY1lLf87VRHHKBaAC2mezk=; b=DorlmZZ2GW5WY+F4j5f9Ya8+JqjAKcVcBLGcoErRrtcqBzpTIiwHWYBwcUTrpbqbjM yAozIyvRpJ+vTubu/q312QW9/7SoIMg+FG8Ukv52dEUGiUCFIdFEdct8lIDTbdIHEkun licZDSMKMl6eiBnHEQgphbBkr95hoXHZP1dtU= X-Google-DKIM-Signature: v=1; a=rsa-sha256; c=relaxed/relaxed; d=1e100.net; s=20230601; t=1746359411; x=1746964211; h=references:in-reply-to:cc:to:from:subject:message-id:date :x-gm-message-state:from:to:cc:subject:date:message-id:reply-to; bh=2aCOnqCMcNKE2vbrYFNBjrY1lLf87VRHHKBaAC2mezk=; b=Xs+DD3Ab8v17K7r4OF996pL88L1h0yqNqb0XW8Il7doriNJ541q1hjic5jMHsrAKNM IK38FZKmvE0Y5k40ZJWVtNb/ZttEa9xhgUhdjWM16pH4vU0CGUM1n9m8o6TM+mroJjq9 9UpN/oWegpAe0gX6QoJP31XygtUvvLXOvYJhDiJ4vPRUNokU6KXrA8LKzyOSwOZLERth bH0FgBStrj3aKpQqems7bsGRq3d+ItKLKfm6SgKHP2JMKLOntBky+/uQ/mA6ruBGyfsV gqbLyYwwHdlYq4256yVvzrAY3gLnJt19oXJa3lluASgJyTH7+xjamJp3dNxlSOuMhZZ7 ix3Q== X-Gm-Message-State: AOJu0YwCBYDb8IukiZaCXJS3z3O3QyeP8IrvwNakMQMq/EZY/Yr/XEtD wr0t3T2KMNQPKRLCcTJs+uCJn4xVyfSZcRGqRUEpw3BqD7KjTyiafE3O/Fk+1Tm0IEGgDBZiDDq bM0zYfbjxENEnRJBhMdwN4VQicmHzYdKYeVW8XHE8ODhT8A95PkzjHuHS X-Gm-Gg: ASbGncsSsXXpUyRCuFt5osC9VuXPGxT1J525j364+I5YAceuf68POQuJDluBqpnYHfC zq/gUUU0EOBpbCckpxXyzHvqKMLCwJlate3HgFtwYWzffqnwTTcWXs6rG3oa9B/6iphCY55Pd9p 9X2IcTAThbQrtsEUoJX83X/OfjwkTDqerJNB0Y5AQnXT8/qAvQzDyQhMqYajrSvaqrOacO2yj4v 5DD0XrndTkXKww7QeDQQGBdump6CFGJAV9XfJM/9IiVmoRIMXXPxhQoHtWHGXZRfYezcZXb0Z36 LRKiv29rDHYDvNkHL/L2XJkVmnJ2k4mdHjTh X-Google-Smtp-Source: AGHT+IExdSwNXedeslN1m13lnMNHrHSIuZUGhp0rGV2ncB5UVnYDaYyeb3nr/+i1ajM03TbcHqzXv7zsDUpw X-Received: by 2002:a05:6e02:1f83:b0:3d9:66ba:1ad2 with SMTP id e9e14a558f8ab-3da5b126413mr32095525ab.0.1746359411038; Sun, 04 May 2025 04:50:11 -0700 (PDT) Received: from postal.iol.unh.edu (postal.iol.unh.edu. [2606:4100:3880:1234::84]) by smtp-relay.gmail.com with ESMTPS id e9e14a558f8ab-3d975e34e1esm15389065ab.5.2025.05.04.04.50.10 (version=TLS1_2 cipher=ECDHE-ECDSA-AES128-GCM-SHA256 bits=128/128); Sun, 04 May 2025 04:50:11 -0700 (PDT) X-Relaying-Domain: iol.unh.edu Date: Sun, 04 May 2025 04:50:11 -0700 (PDT) Message-ID: <68175473.050a0220.15702a.06d8SMTPIN_ADDED_MISSING@mx.google.com> Received: from [172.21.0.5] (unknown [172.18.0.240]) by postal.iol.unh.edu (Postfix) with ESMTP id 43E716052471; Sun, 4 May 2025 07:50:10 -0400 (EDT) Subject: |SUCCESS| pw153228 [PATCH] net/ice: update log message From: dpdklab@iol.unh.edu To: Test Report Cc: dpdk-test-reports@iol.unh.edu In-Reply-To: <20250502152601.699443-1-dhanya.r.pillai@intel.com> References: <20250502152601.699443-1-dhanya.r.pillai@intel.com> Content-Type: text/plain X-BeenThere: test-report@dpdk.org X-Mailman-Version: 2.1.29 Precedence: list List-Id: automatic DPDK test reports List-Unsubscribe: , List-Archive: List-Post: List-Help: List-Subscribe: , Errors-To: test-report-bounces@dpdk.org Test-Label: iol-abi-testing Test-Status: SUCCESS http://dpdk.org/patch/153228 _Testing PASS_ Submitter: Pillai, Dhanya R Date: Friday, May 02 2025 15:25:59 DPDK git baseline: Repo:dpdk Branch: master CommitID:2665bfb9838fec7ea6c3b2be5831f93ee087b288 153228 --> testing pass Upstream job id: Generic-DPDK-Compile-ABI#125141 Test environment and result as below: +-------------------+----------+ | Environment | abi_test | +===================+==========+ | CentOS Stream 10 | PASS | +-------------------+----------+ | Debian 12 | PASS | +-------------------+----------+ | Ubuntu 24.04 | PASS | +-------------------+----------+ | Fedora 40 (Clang) | PASS | +-------------------+----------+ | Fedora 40 | PASS | +-------------------+----------+ | Fedora 41 | PASS | +-------------------+----------+ | Fedora 41 (Clang) | PASS | +-------------------+----------+ | openSUSE Leap 15 | PASS | +-------------------+----------+ | RHEL9 | PASS | +-------------------+----------+ | Ubuntu 22.04 | PASS | +-------------------+----------+ | CentOS Stream 9 | PASS | +-------------------+----------+ | RHEL8 | PASS | +-------------------+----------+ CentOS Stream 10 Kernel: Depends on container host Compiler: gcc 14.2.1 20241104 (Red Hat 14.2.1-6) Debian 12 Kernel: Depends on container host Compiler: gcc (Debian 12.2.0-14) 12.2.0 Ubuntu 24.04 Kernel: Depends on container host Compiler: gcc (Ubuntu 13.3.0-6ubuntu2~24.04) 13.3.0 Fedora 40 (Clang) Kernel: Depends on container host Compiler: clang 18.1.8 (Fedora 18.1.8-1.fc40) Fedora 40 Kernel: Depends on container host Compiler: gcc 14.2.1 20240912 (Red Hat 14.2.1-3) Fedora 41 Kernel: Depends on container host Compiler: gcc 14.2.1 20240912 (Red Hat 14.2.1-3) Fedora 41 (Clang) Kernel: Depends on container host Compiler: clang 19.1.5 (Fedora 19.1.5-1.fc41) openSUSE Leap 15 Kernel: Depends on container host Compiler: gcc (SUSE Linux) 7.5.0 RHEL9 Kernel: Depends on container host Compiler: gcc 11.5.0 20240719 (Red Hat 11.5.0-2) Ubuntu 22.04 Kernel: Depends on container host Compiler: gcc (Ubuntu 11.4.0-1ubuntu1~22.04) 11.4.0 CentOS Stream 9 Kernel: Depends on container host Compiler: gcc 11.5.0 20240719 (Red Hat 11.5.0-2) RHEL8 Kernel: Depends on container host Compiler: gcc 8.5.0 20210514 (Red Hat 8.5.0-22) To view detailed results, visit: https://lab.dpdk.org/results/dashboard/patchsets/33098/ UNH-IOL DPDK Community Lab To manage your email subscriptions, visit: https://lab.dpdk.org/results/dashboard/preferences/subscriptions/