From mboxrd@z Thu Jan 1 00:00:00 1970 Return-Path: Received: from mails.dpdk.org (mails.dpdk.org [217.70.189.124]) by inbox.dpdk.org (Postfix) with ESMTP id AF9EE466B3 for ; Sun, 4 May 2025 14:22:47 +0200 (CEST) Received: from mails.dpdk.org (localhost [127.0.0.1]) by mails.dpdk.org (Postfix) with ESMTP id 720A74025D; Sun, 4 May 2025 14:22:47 +0200 (CEST) Received: from mail-pf1-f226.google.com (mail-pf1-f226.google.com [209.85.210.226]) by mails.dpdk.org (Postfix) with ESMTP id 8142440156 for ; Sun, 4 May 2025 14:22:46 +0200 (CEST) Received: by mail-pf1-f226.google.com with SMTP id d2e1a72fcca58-7370a2d1981so2898577b3a.2 for ; Sun, 04 May 2025 05:22:46 -0700 (PDT) DKIM-Signature: v=1; a=rsa-sha256; c=relaxed/relaxed; d=iol.unh.edu; s=unh-iol; t=1746361365; x=1746966165; darn=dpdk.org; h=references:in-reply-to:cc:to:from:subject:message-id:date:from:to :cc:subject:date:message-id:reply-to; bh=NQ1N0jRwK7Day62KCtQcVeHW6wdjUNAxQS8Amg/eS8E=; b=W6lLtSqU4A/QO2+fCh1EZmJu2QA7kKUgNCf6T3aguWHYtS0/ZX4zUvlCFTO/oIvbx8 YcRx+rwRx5Yc11LSi/hAMv7NE5CECU6O9pwwvhoW4id/LlsJstblZY6+TGViuMBGkC6H t7KWJ5axmaXC6D8VHnv0W0cpYhKFIXOAkqaeU= X-Google-DKIM-Signature: v=1; a=rsa-sha256; c=relaxed/relaxed; d=1e100.net; s=20230601; t=1746361365; x=1746966165; h=references:in-reply-to:cc:to:from:subject:message-id:date :x-gm-message-state:from:to:cc:subject:date:message-id:reply-to; bh=NQ1N0jRwK7Day62KCtQcVeHW6wdjUNAxQS8Amg/eS8E=; b=Eui8I4+4n5qG+R5QkDv1OsFsfoT7+HEbwrOeHXwKeUTAFRBFdCtXlvazs+DB0AoRqg i1muBN8krcov9L4R7DAS92DPpQW4Fxg+JPzM42kVbstwJG3Nz++Pec+h09zHT6OgS96+ sxH3KXGmEFCdj+/eS1992f0ROk4Uz3YNx0QT2UJem53BF23l7aCPfD+vcCNeJL6t4gkw QTb7rDAN+FhytGsHLcBfTuHBzyewuTkGc6xzQklVzuhOkwIexc2rjYCndwJWEDNKeF84 V+yt5g4IUxw41ZKEsnb/tm0DbGTXLMu5v5UMaVy/YrXzkM6dbQJ0Zdj1Whipv4YOUFLL M1ZA== X-Gm-Message-State: AOJu0YzUaT/jo4XkyPlAyzDe1PVGS79jejJ6ccsFELBHruQTQeXYmu3W 4x84pm2shPjuWbv/U/ReaQWXyRIoNuKBCNIfuZKOzAIXaPSfCr8KjhL1Sml4U5jwX5I5+uJ/7+n eIqXSUpeOhdm9xlDKO65n8iW0aUBIKfDaXulm24Qit+NBvCKMTtfwwExX X-Gm-Gg: ASbGncuBmhrxmPzoJ9avTA14CoRqX28DFXjpT3tIqv1pBVWlHCHb71K6XwCqljd0vwO rYwUdKAFnMWkbaPObHQ4vUE0+stHVaA3xTe9h/De2q/qZhzgSWNM3YYsji3r9tO1MOxecUzu+kj h7migbg2IH3szkUKOCDZPVm++l5PtLggaW0YqLYP16ulkGThvmXXPQdXfrlz/0LERgjTaMBOvmL WS2txm9i7u8DVnpnKCwXsTD7sU+Q4Ii9iPGuKK3CIyHHqY5DfsVkcRavHXSXE9nrE8wxcWfnbOu IptfChWTWs/NJJiCk9G/Ww9bkxG+ub/8/+of X-Google-Smtp-Source: AGHT+IHy0oqMyYPDlXR0zW4ZOgq96Tz6FVc15/AJQZOIR8P8CyfxYJ1OVxQ17z72IhoktpMgxli0c8iQmHHb X-Received: by 2002:a05:6a21:1645:b0:20d:df67:4921 with SMTP id adf61e73a8af0-20e9620566amr4713148637.4.1746361365299; Sun, 04 May 2025 05:22:45 -0700 (PDT) Received: from postal.iol.unh.edu (postal.iol.unh.edu. [2606:4100:3880:1234::84]) by smtp-relay.gmail.com with ESMTPS id 41be03b00d2f7-b1fb3de030bsm899874a12.31.2025.05.04.05.22.45 (version=TLS1_2 cipher=ECDHE-ECDSA-AES128-GCM-SHA256 bits=128/128); Sun, 04 May 2025 05:22:45 -0700 (PDT) X-Relaying-Domain: iol.unh.edu Date: Sun, 04 May 2025 05:22:45 -0700 (PDT) Message-ID: <68175c15.630a0220.22b15f.d4d3SMTPIN_ADDED_MISSING@mx.google.com> Received: from [172.21.0.5] (unknown [172.18.0.240]) by postal.iol.unh.edu (Postfix) with ESMTP id 3BDF36052471; Sun, 4 May 2025 08:22:44 -0400 (EDT) Subject: |SUCCESS| pw153229 [PATCH] net/mlx5: fix support for meter flow acti From: dpdklab@iol.unh.edu To: Test Report Cc: dpdk-test-reports@iol.unh.edu In-Reply-To: <20250504052350.91160-1-getelson@nvidia.com> References: <20250504052350.91160-1-getelson@nvidia.com> Content-Type: text/plain X-BeenThere: test-report@dpdk.org X-Mailman-Version: 2.1.29 Precedence: list List-Id: automatic DPDK test reports List-Unsubscribe: , List-Archive: List-Post: List-Help: List-Subscribe: , Errors-To: test-report-bounces@dpdk.org Test-Label: iol-compile-amd64-testing Test-Status: SUCCESS http://dpdk.org/patch/153229 _Testing PASS_ Submitter: Gregory Etelson Date: Sunday, May 04 2025 05:23:50 DPDK git baseline: Repo:dpdk Branch: master CommitID:edd3f4b1265e6da707c46ca9b6c39d332647baea 153229 --> testing pass Upstream job id: Generic-DPDK-Compile-Meson#384795 Test environment and result as below: +-----------------------------------+-------------------+--------------------+-------------------------+----------------------+-------------------+------------------+ | Environment | dpdk_msvc_compile | dpdk_meson_compile | dpdk_llvm_clang_compile | dpdk_mingw64_compile | dpdk_compile_spdk | dpdk_compile_ovs | +===================================+===================+====================+=========================+======================+===================+==================+ | Windows Server 2022 | PASS | SKIPPED | PASS | PASS | SKIPPED | SKIPPED | +-----------------------------------+-------------------+--------------------+-------------------------+----------------------+-------------------+------------------+ | Ubuntu 20.04 | SKIPPED | PASS | SKIPPED | SKIPPED | SKIPPED | SKIPPED | +-----------------------------------+-------------------+--------------------+-------------------------+----------------------+-------------------+------------------+ | FreeBSD 13.5 | SKIPPED | PASS | SKIPPED | SKIPPED | SKIPPED | SKIPPED | +-----------------------------------+-------------------+--------------------+-------------------------+----------------------+-------------------+------------------+ | FreeBSD 14.2 | SKIPPED | PASS | SKIPPED | SKIPPED | SKIPPED | SKIPPED | +-----------------------------------+-------------------+--------------------+-------------------------+----------------------+-------------------+------------------+ | CentOS Stream 9 | SKIPPED | PASS | SKIPPED | SKIPPED | PASS | SKIPPED | +-----------------------------------+-------------------+--------------------+-------------------------+----------------------+-------------------+------------------+ | CentOS Stream 10 | SKIPPED | PASS | SKIPPED | SKIPPED | SKIPPED | SKIPPED | +-----------------------------------+-------------------+--------------------+-------------------------+----------------------+-------------------+------------------+ | Debian 12 | SKIPPED | PASS | SKIPPED | SKIPPED | PASS | SKIPPED | +-----------------------------------+-------------------+--------------------+-------------------------+----------------------+-------------------+------------------+ | Fedora 40 (Clang) | SKIPPED | PASS | SKIPPED | SKIPPED | PASS | SKIPPED | +-----------------------------------+-------------------+--------------------+-------------------------+----------------------+-------------------+------------------+ | Fedora 40 | SKIPPED | PASS | SKIPPED | SKIPPED | PASS | SKIPPED | +-----------------------------------+-------------------+--------------------+-------------------------+----------------------+-------------------+------------------+ | Fedora 41 (Clang) | SKIPPED | PASS | SKIPPED | SKIPPED | PASS | PASS | +-----------------------------------+-------------------+--------------------+-------------------------+----------------------+-------------------+------------------+ | Fedora 41 | SKIPPED | PASS | SKIPPED | SKIPPED | PASS | PASS | +-----------------------------------+-------------------+--------------------+-------------------------+----------------------+-------------------+------------------+ | openSUSE Leap 15 | SKIPPED | PASS | SKIPPED | SKIPPED | SKIPPED | SKIPPED | +-----------------------------------+-------------------+--------------------+-------------------------+----------------------+-------------------+------------------+ | RHEL8 | SKIPPED | PASS | SKIPPED | SKIPPED | SKIPPED | SKIPPED | +-----------------------------------+-------------------+--------------------+-------------------------+----------------------+-------------------+------------------+ | RHEL9 | SKIPPED | PASS | SKIPPED | SKIPPED | SKIPPED | SKIPPED | +-----------------------------------+-------------------+--------------------+-------------------------+----------------------+-------------------+------------------+ | Ubuntu 22.04 | SKIPPED | PASS | SKIPPED | SKIPPED | PASS | SKIPPED | +-----------------------------------+-------------------+--------------------+-------------------------+----------------------+-------------------+------------------+ | Ubuntu 24.04 | SKIPPED | PASS | SKIPPED | SKIPPED | PASS | PASS | +-----------------------------------+-------------------+--------------------+-------------------------+----------------------+-------------------+------------------+ | Alpine | SKIPPED | PASS | SKIPPED | SKIPPED | SKIPPED | SKIPPED | +-----------------------------------+-------------------+--------------------+-------------------------+----------------------+-------------------+------------------+ | Ubuntu 24.04 32 Bit Cross Compile | SKIPPED | PASS | SKIPPED | SKIPPED | SKIPPED | SKIPPED | +-----------------------------------+-------------------+--------------------+-------------------------+----------------------+-------------------+------------------+ Windows Server 2022 Kernel: 10.0.20348.2031 Compiler: clang 15.0.7, gcc 14.1.0 (MinGW), and MSVC VS 19.39.33521 Ubuntu 20.04 Kernel: 4.19.325-0419325-generic Compiler: gcc (Ubuntu 9.4.0-1ubuntu1~20.04.2) 9.4.0 FreeBSD 13.5 Kernel: 13.5-RELEASE Compiler: clang 19.1.7 FreeBSD 14.2 Kernel: 14.2-RELEASE Compiler: clang 18.1.6 CentOS Stream 9 Kernel: Depends on container host Compiler: gcc 11.5.0 20240719 (Red Hat 11.5.0-2) CentOS Stream 10 Kernel: Depends on container host Compiler: gcc 14.2.1 20241104 (Red Hat 14.2.1-6) Debian 12 Kernel: Depends on container host Compiler: gcc (Debian 12.2.0-14) 12.2.0 Fedora 40 (Clang) Kernel: Depends on container host Compiler: clang 18.1.8 (Fedora 18.1.8-1.fc40) Fedora 40 Kernel: Depends on container host Compiler: gcc 14.2.1 20240912 (Red Hat 14.2.1-3) Fedora 41 (Clang) Kernel: Depends on container host Compiler: clang 19.1.5 (Fedora 19.1.5-1.fc41) Fedora 41 Kernel: Depends on container host Compiler: gcc 14.2.1 20240912 (Red Hat 14.2.1-3) openSUSE Leap 15 Kernel: Depends on container host Compiler: gcc (SUSE Linux) 7.5.0 RHEL8 Kernel: Depends on container host Compiler: gcc 8.5.0 20210514 (Red Hat 8.5.0-22) RHEL9 Kernel: Depends on container host Compiler: gcc 11.5.0 20240719 (Red Hat 11.5.0-2) Ubuntu 22.04 Kernel: Depends on container host Compiler: gcc (Ubuntu 11.4.0-1ubuntu1~22.04) 11.4.0 Ubuntu 24.04 Kernel: Depends on container host Compiler: gcc (Ubuntu 13.3.0-6ubuntu2~24.04) 13.3.0 Alpine Kernel: Depends on container host Compiler: gcc (Alpine 14.2.0) 14.2.0 Ubuntu 24.04 32 Bit Cross Compile Kernel: Depends on container host Compiler: gcc (Ubuntu 13.3.0-6ubuntu2~24.04) 13.3.0 To view detailed results, visit: https://lab.dpdk.org/results/dashboard/patchsets/33099/ UNH-IOL DPDK Community Lab To manage your email subscriptions, visit: https://lab.dpdk.org/results/dashboard/preferences/subscriptions/