From mboxrd@z Thu Jan 1 00:00:00 1970 Return-Path: Received: from mails.dpdk.org (mails.dpdk.org [217.70.189.124]) by inbox.dpdk.org (Postfix) with ESMTP id 8A7E9466B3 for ; Sun, 4 May 2025 14:22:55 +0200 (CEST) Received: from mails.dpdk.org (localhost [127.0.0.1]) by mails.dpdk.org (Postfix) with ESMTP id 861854025D; Sun, 4 May 2025 14:22:55 +0200 (CEST) Received: from mail-pg1-f228.google.com (mail-pg1-f228.google.com [209.85.215.228]) by mails.dpdk.org (Postfix) with ESMTP id B436940156 for ; Sun, 4 May 2025 14:22:54 +0200 (CEST) Received: by mail-pg1-f228.google.com with SMTP id 41be03b00d2f7-b074d908e56so2547353a12.2 for ; Sun, 04 May 2025 05:22:54 -0700 (PDT) DKIM-Signature: v=1; a=rsa-sha256; c=relaxed/relaxed; d=iol.unh.edu; s=unh-iol; t=1746361374; x=1746966174; darn=dpdk.org; h=references:in-reply-to:cc:to:from:subject:message-id:date:from:to :cc:subject:date:message-id:reply-to; bh=dfPiZ+2k+2Y9nZ6a/vPP8fWmZCLsNnjzPA09JgDtAYw=; b=PQ7wkMCLvOEeQni+kpo0qa2UM7cJVN5wkpMpcWVpOn4uRTvae3kV46A6WbJb8Jr6B1 rz1kTQ/pw8mDeheuCogxUlbQiFs1XD5IDEslhLZ94vILpnyv0UpoaqlyqBW8jLkSQdxC gvhSRSAKnZw9KrLdRrtuVWSV1WF0GVqkCA7Lk= X-Google-DKIM-Signature: v=1; a=rsa-sha256; c=relaxed/relaxed; d=1e100.net; s=20230601; t=1746361374; x=1746966174; h=references:in-reply-to:cc:to:from:subject:message-id:date :x-gm-message-state:from:to:cc:subject:date:message-id:reply-to; bh=dfPiZ+2k+2Y9nZ6a/vPP8fWmZCLsNnjzPA09JgDtAYw=; b=av9BuhIQceTqd6SvhQLOyh3cxzBUjceXgCptiR7zOJm8nvcMDCwUW2u0iAEYWvovD1 UdRUMt6srXhjJdEAls08q00XKzox13W6BuWzPchBDM6Gw/brCo2lcOrxIvJU59KOCnSY 1SSzyU6pJb3SJ731ez7brXsUZj/GbZf93EsUTaHIrGYHsOgENciz8ovsUjDuPIO54vtR vAqEDyIoucJIJD6kLXdWRrDmr6YNux7MBn5DHMnveLvG7a1eoUIH+e0nD/cKhxiu4HRk HmOkUGcmhxyAc1B41sZ+Dl+i3IMZO13gSRwGl6/Jsp6+7GYVOb2ys5s3t+qbK7lsgwS8 ZWXw== X-Gm-Message-State: AOJu0YxnxH6doflXTLLOe7j90P45b185NOnPcG/CNZ3IqDzlzsimXC5P v/HTYIBIIuuoNBspZFE/zIlj4xY0XvGtA/bdjczeMFoa0tB9RuohO8lEVyvFzEXBcfcMvm7mC4u +K9WDvg08FvqHnYQXKFTAeQMSfeWtbowBYB/s+fysE9q+ivF9L9abaEad X-Gm-Gg: ASbGncs0SxkajkxPxdUCJ5jFx9I/UUneepGgYyxkGA1KWLlBbNLfu/oiaei40xCkOYu zv5Kh43PLuZCG7cc4EnzxS0UXWrSsX/oh5mJxC4E8dM304DOwgDjcB6Q9S2vVyljnK804403DX8 pRYEssvC7pm9pgy97CZapOU1hBCvmTQAvkwnfDNrOo7NL5bAhJ7eHmwaFWfAdYrIHzdEEDnuuxi JF9CZwbrF078Nrxba/dd8ixM+yx54bzgGbNhKqX9eRNBlST5XDVzs0kHWjgow0JLWMPRDI+XVyb MgnStUCy8OUxhr+qXGSPDYUTlhQdGa3les71 X-Google-Smtp-Source: AGHT+IGoIIpGiLe+qzVJXK4XCvAQ50wPBtqUK3LVW3VUgHAUlfKKHj1dg8J8JoYlSC7DACQUXQ/BYzAm0pcm X-Received: by 2002:a17:90b:6c4:b0:2ff:7031:e380 with SMTP id 98e67ed59e1d1-30a6198728emr5768572a91.10.1746361373863; Sun, 04 May 2025 05:22:53 -0700 (PDT) Received: from postal.iol.unh.edu (postal.iol.unh.edu. [2606:4100:3880:1234::84]) by smtp-relay.gmail.com with ESMTPS id 98e67ed59e1d1-30a3478095csm2290223a91.7.2025.05.04.05.22.53 (version=TLS1_2 cipher=ECDHE-ECDSA-AES128-GCM-SHA256 bits=128/128); Sun, 04 May 2025 05:22:53 -0700 (PDT) X-Relaying-Domain: iol.unh.edu Date: Sun, 04 May 2025 05:22:53 -0700 (PDT) Message-ID: <68175c1d.170a0220.2adf38.c75aSMTPIN_ADDED_MISSING@mx.google.com> Received: from [172.21.0.6] (unknown [172.18.0.240]) by postal.iol.unh.edu (Postfix) with ESMTP id DED3B6052471; Sun, 4 May 2025 08:22:52 -0400 (EDT) Subject: |SUCCESS| pw153229 [PATCH] net/mlx5: fix support for meter flow acti From: dpdklab@iol.unh.edu To: Test Report Cc: dpdk-test-reports@iol.unh.edu In-Reply-To: <20250504052350.91160-1-getelson@nvidia.com> References: <20250504052350.91160-1-getelson@nvidia.com> Content-Type: text/plain X-BeenThere: test-report@dpdk.org X-Mailman-Version: 2.1.29 Precedence: list List-Id: automatic DPDK test reports List-Unsubscribe: , List-Archive: List-Post: List-Help: List-Subscribe: , Errors-To: test-report-bounces@dpdk.org Test-Label: iol-compile-arm64-testing Test-Status: SUCCESS http://dpdk.org/patch/153229 _Testing PASS_ Submitter: Gregory Etelson Date: Sunday, May 04 2025 05:23:50 DPDK git baseline: Repo:dpdk Branch: master CommitID:edd3f4b1265e6da707c46ca9b6c39d332647baea 153229 --> testing pass Upstream job id: Generic-DPDK-Compile-Meson#384767 Test environment and result as below: +----------------------------------------+--------------------+ | Environment | dpdk_meson_compile | +========================================+====================+ | RHEL9 (ARM) | PASS | +----------------------------------------+--------------------+ | Ubuntu 20.04 ARM GCC Cross Compile | PASS | +----------------------------------------+--------------------+ | Ubuntu 20.04 ARM SVE | PASS | +----------------------------------------+--------------------+ | Debian 12 with MUSDK | PASS | +----------------------------------------+--------------------+ | Fedora 40 (ARM Clang) | PASS | +----------------------------------------+--------------------+ | Fedora 41 (ARM) | PASS | +----------------------------------------+--------------------+ | Fedora 41 (ARM Clang) | PASS | +----------------------------------------+--------------------+ | Ubuntu 20.04 (ARM) | PASS | +----------------------------------------+--------------------+ | Fedora 40 (ARM) | PASS | +----------------------------------------+--------------------+ | Ubuntu 22.04 (ARM) | PASS | +----------------------------------------+--------------------+ | Ubuntu 24.04 (ARM) | PASS | +----------------------------------------+--------------------+ | CentOS Stream 9 (ARM) | PASS | +----------------------------------------+--------------------+ | CentOS Stream 10 (ARM) | PASS | +----------------------------------------+--------------------+ | Debian 12 (arm) | PASS | +----------------------------------------+--------------------+ | Ubuntu 20.04 ARM Clang Cross Compile | PASS | +----------------------------------------+--------------------+ | Ubuntu 20.04 aarch32 GCC Cross Compile | PASS | +----------------------------------------+--------------------+ RHEL9 (ARM) Kernel: Depends on container host Compiler: gcc 11.5.0 20240719 (Red Hat 11.5.0-2) Ubuntu 20.04 ARM GCC Cross Compile Kernel: Depends on container host Compiler: aarch64-linux-gnu-gcc (Ubuntu 9.4.0-1ubuntu1~20.04.2) 9.4.0 Ubuntu 20.04 ARM SVE Kernel: Depends on container host Compiler: gcc (Ubuntu 10.5.0-1ubuntu1~20.04) 10.5.0 Debian 12 with MUSDK Kernel: Depends on container host Compiler: gcc (Debian 12.2.0-14) 12.2.0 Fedora 40 (ARM Clang) Kernel: Depends on container host Compiler: clang 18.1.8 (Fedora 18.1.8-1.fc40) Fedora 41 (ARM) Kernel: Depends on container host Compiler: gcc 14.2.1 20240912 (Red Hat 14.2.1-3) Fedora 41 (ARM Clang) Kernel: Depends on container host Compiler: clang 19.1.5 (Fedora 19.1.5-1.fc41) Ubuntu 20.04 (ARM) Kernel: Depends on container host Compiler: gcc (Ubuntu 9.4.0-1ubuntu1~20.04.2) 9.4.0 Fedora 40 (ARM) Kernel: Depends on container host Compiler: gcc 14.2.1 20240912 (Red Hat 14.2.1-3) Ubuntu 22.04 (ARM) Kernel: Depends on container host Compiler: gcc (Ubuntu 11.4.0-1ubuntu1~22.04) 11.4.0 Ubuntu 24.04 (ARM) Kernel: Depends on container host Compiler: gcc (Ubuntu 13.3.0-6ubuntu2~24.04) 13.3.0 CentOS Stream 9 (ARM) Kernel: Depends on container host Compiler: gcc 11.5.0 20240719 (Red Hat 11.5.0-2) CentOS Stream 10 (ARM) Kernel: Depends on container host Compiler: gcc 14.2.1 20241104 (Red Hat 14.2.1-6) Debian 12 (arm) Kernel: Depends on container host Compiler: gcc (Debian 12.2.0-14) 12.2.0 Ubuntu 20.04 ARM Clang Cross Compile Kernel: Depends on container host Compiler: clang 10.0.0-4ubuntu1 Ubuntu 20.04 aarch32 GCC Cross Compile Kernel: Depends on container host Compiler: gcc 9.4.0 To view detailed results, visit: https://lab.dpdk.org/results/dashboard/patchsets/33099/ UNH-IOL DPDK Community Lab To manage your email subscriptions, visit: https://lab.dpdk.org/results/dashboard/preferences/subscriptions/