From mboxrd@z Thu Jan 1 00:00:00 1970 Return-Path: Received: from mails.dpdk.org (mails.dpdk.org [217.70.189.124]) by inbox.dpdk.org (Postfix) with ESMTP id 68B4F466BE for ; Sun, 4 May 2025 14:32:24 +0200 (CEST) Received: from mails.dpdk.org (localhost [127.0.0.1]) by mails.dpdk.org (Postfix) with ESMTP id 453FC4025D; Sun, 4 May 2025 14:32:24 +0200 (CEST) Received: from mail-qv1-f98.google.com (mail-qv1-f98.google.com [209.85.219.98]) by mails.dpdk.org (Postfix) with ESMTP id E8ACA40156 for ; Sun, 4 May 2025 14:32:22 +0200 (CEST) Received: by mail-qv1-f98.google.com with SMTP id 6a1803df08f44-6f521957182so16404916d6.0 for ; Sun, 04 May 2025 05:32:22 -0700 (PDT) DKIM-Signature: v=1; a=rsa-sha256; c=relaxed/relaxed; d=iol.unh.edu; s=unh-iol; t=1746361942; x=1746966742; darn=dpdk.org; h=references:in-reply-to:cc:to:from:subject:message-id:date:from:to :cc:subject:date:message-id:reply-to; bh=4NqohLUO1hIKSpHg2nYnMDW9n3q736Q3L1NHrwesOMA=; b=C9WisvR7u6dAHqjops2OfPMujrzu3hAUSem30pjuPOWpRHVFLK/NhLZpaHjDceeg6U UAHqOsWND+PYxbtB0Uc5GrEyESo5cA8j0PjQtmG9JywdcDdWDNgga4wf1XctMPNG52vz rWzOWhLuuWI3NLi4mo3CTWcmSGUIIJM2nVxU0= X-Google-DKIM-Signature: v=1; a=rsa-sha256; c=relaxed/relaxed; d=1e100.net; s=20230601; t=1746361942; x=1746966742; h=references:in-reply-to:cc:to:from:subject:message-id:date :x-gm-message-state:from:to:cc:subject:date:message-id:reply-to; bh=4NqohLUO1hIKSpHg2nYnMDW9n3q736Q3L1NHrwesOMA=; b=NJvtd6Q/NnFaodHY83EUbJbnDbSglskoI5f0jCwhnNlC/PXok8VTQA6vXZ+S/5RP5d EahgIFAsR/ROGjlMHetO6zAMlQnNFxXU8l3/S0lQZhfdp2e5ZoLa0Sk4+s6YyCU7KtFK EucprzJRNlC78y7ESDtBtrZxyY8wNKx0j9ADxiYTGC99VQWhTbVsVdXq/RCmwtV/V4BV p+C2YR6CoNH5UMFWux7UEI2uyU2w+qBhS7EYYNMPs+gjY3kN36IlxgnokDMIC922gMGJ PCDSMjLGxtm4BkRbDeI7odHMhj99oQZ/uy7ksjMKltrmwpwpEIjOriqPGYQWEls8LnbK TDzg== X-Gm-Message-State: AOJu0YykjZV3wr8bhh2mzeRTDNjgGNoZSn4F27IpXLh/UHgzHevrgUts nVZkixm7QeBPVIfCw997rVTIbFw1W+OM5wcjq27957jQhrSsV7/mAn1ReSf2r2ye3P28kqztHab 1Wu3NMGfrpCvy8L6EU9Rdn/kiLqjA8on541ep8l6y X-Gm-Gg: ASbGncsvL+Mb0upG5AZG8kU6Cesc0/xdBXr+reqcvG1SRx8B3QIcrl9gs40HNhbiJ6y v9raABpki9W4LXQiJSDW+obRAs5ttCIb/qNrbaCx86m9cT596rj+NyhvtF1SrAlM3q3Ur45blhY r5hxizD4S8N6tSwnoPK/Nd5xcJIcFbfUEtmRsr5YP2VCO87tTOOf5+mnvLh5Q5lVape8wWAFMLc Y2UujcWQyV7LRlqfEZQVW9pkBdCGJBwHQjqTZSm5Pfb5rMgzxYOnDdDx4EHSD9iGU5xsgw0BGi0 FJR5tIV1EHzbtrV7Go0EDerLXUtIYm8z5fR9aMMkcSZjYyIPB1VrxVjAZCM= X-Google-Smtp-Source: AGHT+IGcN01nTLaEWeanG83tEu24oKOL2gA5a9/QQbCw0ZdROvj779JMVVh9OA+GtqQPXK3nGLdHfF5TOlaK X-Received: by 2002:a05:6214:411a:b0:6f4:c602:806e with SMTP id 6a1803df08f44-6f528c51f14mr54138846d6.13.1746361942179; Sun, 04 May 2025 05:32:22 -0700 (PDT) Received: from postal.iol.unh.edu (postal.iol.unh.edu. [132.177.123.84]) by smtp-relay.gmail.com with ESMTPS id 6a1803df08f44-6f50f48e7e2sm16160156d6.70.2025.05.04.05.32.22 (version=TLS1_2 cipher=ECDHE-ECDSA-AES128-GCM-SHA256 bits=128/128); Sun, 04 May 2025 05:32:22 -0700 (PDT) X-Relaying-Domain: iol.unh.edu Date: Sun, 04 May 2025 05:32:22 -0700 (PDT) Message-ID: <68175e56.d40a0220.36a245.e484SMTPIN_ADDED_MISSING@mx.google.com> Received: from [172.21.0.5] (unknown [172.18.0.240]) by postal.iol.unh.edu (Postfix) with ESMTP id C652C6052471; Sun, 4 May 2025 08:32:21 -0400 (EDT) Subject: |SUCCESS| pw153228 [PATCH] net/ice: update log message From: dpdklab@iol.unh.edu To: Test Report Cc: dpdk-test-reports@iol.unh.edu In-Reply-To: <20250502152601.699443-1-dhanya.r.pillai@intel.com> References: <20250502152601.699443-1-dhanya.r.pillai@intel.com> Content-Type: text/plain X-BeenThere: test-report@dpdk.org X-Mailman-Version: 2.1.29 Precedence: list List-Id: automatic DPDK test reports List-Unsubscribe: , List-Archive: List-Post: List-Help: List-Subscribe: , Errors-To: test-report-bounces@dpdk.org Test-Label: iol-abi-testing Test-Status: SUCCESS http://dpdk.org/patch/153228 _Testing PASS_ Submitter: Pillai, Dhanya R Date: Friday, May 02 2025 15:25:59 DPDK git baseline: Repo:dpdk Branch: master CommitID:2665bfb9838fec7ea6c3b2be5831f93ee087b288 153228 --> testing pass Upstream job id: Generic-DPDK-Compile-ABI#125151 Test environment and result as below: +-------------------+----------+ | Environment | abi_test | +===================+==========+ | Fedora 40 (Clang) | PASS | +-------------------+----------+ | Debian 12 | PASS | +-------------------+----------+ | CentOS Stream 10 | PASS | +-------------------+----------+ | CentOS Stream 9 | PASS | +-------------------+----------+ | RHEL9 | PASS | +-------------------+----------+ | Fedora 40 | PASS | +-------------------+----------+ | Fedora 41 (Clang) | PASS | +-------------------+----------+ | Fedora 41 | PASS | +-------------------+----------+ | Ubuntu 24.04 | PASS | +-------------------+----------+ | Ubuntu 22.04 | PASS | +-------------------+----------+ | RHEL8 | PASS | +-------------------+----------+ | openSUSE Leap 15 | PASS | +-------------------+----------+ Fedora 40 (Clang) Kernel: Depends on container host Compiler: clang 18.1.8 (Fedora 18.1.8-1.fc40) Debian 12 Kernel: Depends on container host Compiler: gcc (Debian 12.2.0-14) 12.2.0 CentOS Stream 10 Kernel: Depends on container host Compiler: gcc 14.2.1 20241104 (Red Hat 14.2.1-6) CentOS Stream 9 Kernel: Depends on container host Compiler: gcc 11.5.0 20240719 (Red Hat 11.5.0-2) RHEL9 Kernel: Depends on container host Compiler: gcc 11.5.0 20240719 (Red Hat 11.5.0-2) Fedora 40 Kernel: Depends on container host Compiler: gcc 14.2.1 20240912 (Red Hat 14.2.1-3) Fedora 41 (Clang) Kernel: Depends on container host Compiler: clang 19.1.5 (Fedora 19.1.5-1.fc41) Fedora 41 Kernel: Depends on container host Compiler: gcc 14.2.1 20240912 (Red Hat 14.2.1-3) Ubuntu 24.04 Kernel: Depends on container host Compiler: gcc (Ubuntu 13.3.0-6ubuntu2~24.04) 13.3.0 Ubuntu 22.04 Kernel: Depends on container host Compiler: gcc (Ubuntu 11.4.0-1ubuntu1~22.04) 11.4.0 RHEL8 Kernel: Depends on container host Compiler: gcc 8.5.0 20210514 (Red Hat 8.5.0-22) openSUSE Leap 15 Kernel: Depends on container host Compiler: gcc (SUSE Linux) 7.5.0 To view detailed results, visit: https://lab.dpdk.org/results/dashboard/patchsets/33098/ UNH-IOL DPDK Community Lab To manage your email subscriptions, visit: https://lab.dpdk.org/results/dashboard/preferences/subscriptions/